BEGIN:VCALENDAR
VERSION:2.0
PRODID:-//Genevabucketlist - ECPv6.15.20//NONSGML v1.0//EN
CALSCALE:GREGORIAN
METHOD:PUBLISH
X-ORIGINAL-URL:https://genevabucketlist.com
X-WR-CALDESC:Évènements pour Genevabucketlist
REFRESH-INTERVAL;VALUE=DURATION:PT1H
X-Robots-Tag:noindex
X-PUBLISHED-TTL:PT1H
BEGIN:VTIMEZONE
TZID:Europe/Paris
BEGIN:DAYLIGHT
TZOFFSETFROM:+0100
TZOFFSETTO:+0200
TZNAME:CEST
DTSTART:20240331T010000
END:DAYLIGHT
BEGIN:STANDARD
TZOFFSETFROM:+0200
TZOFFSETTO:+0100
TZNAME:CET
DTSTART:20241027T010000
END:STANDARD
BEGIN:DAYLIGHT
TZOFFSETFROM:+0100
TZOFFSETTO:+0200
TZNAME:CEST
DTSTART:20250330T010000
END:DAYLIGHT
BEGIN:STANDARD
TZOFFSETFROM:+0200
TZOFFSETTO:+0100
TZNAME:CET
DTSTART:20251026T010000
END:STANDARD
BEGIN:DAYLIGHT
TZOFFSETFROM:+0100
TZOFFSETTO:+0200
TZNAME:CEST
DTSTART:20260329T010000
END:DAYLIGHT
BEGIN:STANDARD
TZOFFSETFROM:+0200
TZOFFSETTO:+0100
TZNAME:CET
DTSTART:20261025T010000
END:STANDARD
END:VTIMEZONE
BEGIN:VEVENT
DTSTART;TZID=Europe/Paris:20250205T110000
DTEND;TZID=Europe/Paris:20250406T190000
DTSTAMP:20260421T045349
CREATED:20250202T213042Z
LAST-MODIFIED:20250202T213042Z
UID:10003662-1738753200-1743966000@genevabucketlist.com
SUMMARY:La Banquise
DESCRIPTION:La Banquise est un espace ludique et sportif hivernal proposé sur le quai marchand des Eaux-Vives\, devant la jetée du Jet d’eau. \nTrois espaces proposés: \nÀ La Banquise\, trois espaces distincts sont proposés: \n\nune zone sportiveLancer de hache lors de sessions de 5 à 10 minutes\, selon l’affluence et le temps d’attente ou encore pratiquer le mattcurling.\nHoraires d’ouverture : \nMercredi: 14h à 19h\nJeudi: 14h à 19h\nVendredi: 14h à 20h\nSamedi: 11h à 20h\nDimanche: 11h à 19h \nAge minimum: 16 ans.\nune zone bien-êtreDu mercredi au dimanche de 11h à 21h\nL’Espace bien-être de La Banquise propose trois saunas au feu de bois\, une yourte de repos\, des douches alimentées par l’eau du lac ainsi que des cabines pour se changer. Le prix de l’entrée au sauna est CHF 10.- par personne et vous donne accès à l’Espace bien-être durant 60 minutes. Sur réservation !\nun espace buvette\n\nUn foodtruck servira de la nourriture chaude ainsi que des boissons pour vous réchauffer. \nUne terrasse avec vue sur le Jet d’eau sera à votre disposition. \nHoraires d’ouverture : \nMercredi: 14h à 19h\nJeudi: 14h à 19h\nVendredi: 14h à 20h\nSamedi: 11h à 20h\nDimanche: 11h à 19h \n  \n  \n  \n*Photos prise par Magali Girardin / ville de ge
URL:https://genevabucketlist.com/agenda/la-banquise/
LOCATION:La banquise\, Quai Gustave-ADOR 21\, Genève\, Genève\, 1207\, Suisse
ATTACH;FMTTYPE=image/jpeg:https://genevabucketlist.com/wp-content/uploads/2025/02/banquise-2025-ville-geneve-galerie-016.jpg
END:VEVENT
BEGIN:VEVENT
DTSTART;TZID=Europe/Paris:20250306T100000
DTEND;TZID=Europe/Paris:20250316T220000
DTSTAMP:20260421T045349
CREATED:20250302T195642Z
LAST-MODIFIED:20250302T195804Z
UID:10003803-1741255200-1742162400@genevabucketlist.com
SUMMARY:Festival Groove'n'move
DESCRIPTION:Festival international de danses urbaines \nDu 6 au 16 mars 2025\, le Groove’N’Move est de retour pour célébrer ses quinze ans d’existence.\nPortée par des équipes passionnées\, cette édition anniversaire se fera la vitrine de l’excellence en matière de danse hip-hop\, rassemblant à la fois les chorégraphes et danseur·ses de renom\, des pièces au rayonnement international\, mais aussi les talents reconnus et en devenir des artistes suisses.\nLa programmation se veut rassembleuse et engageante en s’adressant à toutes les générations\, qu’elles soient amateur·rices\, curieux·ses ou professionnel·les.\nSpectacles\, exposition\, battles\, ateliers\, conférences\, after party célébreront l’extraordinaire moyen d’expression que sont les danses urbaines. \nVoir le programme ici
URL:https://genevabucketlist.com/agenda/festival-groovenmove/
LOCATION:Différents lieux à Genève\, Genève\, Switzerland
ATTACH;FMTTYPE=image/webp:https://genevabucketlist.com/wp-content/uploads/2025/03/oa-6592430.jpg.webp
END:VEVENT
BEGIN:VEVENT
DTSTART;TZID=Europe/Paris:20250307T140000
DTEND;TZID=Europe/Paris:20250316T213000
DTSTAMP:20260421T045349
CREATED:20250302T202622Z
LAST-MODIFIED:20250302T202622Z
UID:10003807-1741356000-1742160600@genevabucketlist.com
SUMMARY:FIFDH  - Festival du film et forum international sur les droits humains
DESCRIPTION:Le FIFDH (Festival du film et forum international sur les droits humains) s’engage depuis 22 ans pour le cinéma et le respect des droits humains. \nDu 7 au 16 mars à Genève\, se tiendra la prochaine édition du Festival qui – face à un monde fracturé de crises – expose\, dénonce et interroge : comment protéger ce qui nous unit et renforcer notre humanité ? \nDurant dix jours\, le FIFDH invite à reconsidérer les systèmes politiques et à faire communauté face à l’ascension des mouvements d’extrême droite et la menace aux droits fondamentaux qu’elle représente. \nDe nombreux·euses invité·es seront présent·es dont la Prix Nobel de la paix Oleksandra Matviichuk\, l’activiste Paul Watson\, l’écrivain Douglas Kennedy\, la journaliste Salomé Saqué\, le chirurgien Ghassan Abu Sittah et l’actrice Angela Molina (Cosmos\, de Germinal Roaux). \nToutes les informations à retrouver sur fifdh.org.\n\nBILLETS ET TARIFS: \n\n\nFilm : \n\n\nPlein tarif : 16 CHF\nTarif réduit* : 12 CHF\nTarif jeune** : 10 CHF\n20 ans/20 francs*** : 8 CHF\nTarif soutien**** : 20 CHF \n\n\n\n\nForum et Spotlight: \n\n\nPlein tarif : 18 CHF\nTarif réduit* : 14 CHF\nTarif jeune** : 12 CHF\nTarif 20 ans/20 francs*** : 10 CHF\nTarif soutien**** : 25 CHF \nLe billet unique donne droit à une entrée pour une séance.
URL:https://genevabucketlist.com/agenda/fifdh-festival-du-film-et-forum-international-sur-les-droits-humains/
LOCATION:Différents lieux à Genève\, Genève\, Switzerland
ATTACH;FMTTYPE=image/jpeg:https://genevabucketlist.com/wp-content/uploads/2025/03/FIFDH-2025.jpeg
END:VEVENT
BEGIN:VEVENT
DTSTART;TZID=Europe/Paris:20250313T183000
DTEND;TZID=Europe/Paris:20250323T220000
DTSTAMP:20260421T045349
CREATED:20250313T093324Z
LAST-MODIFIED:20250313T093324Z
UID:10003837-1741890600-1742767200@genevabucketlist.com
SUMMARY:Bars en Fête – Festival musical à Genève et Carouge 🎶
DESCRIPTION:Le festival Bars en Fête revient pour sa 17ᵉ édition\, transformant les bars et cafés genevois en véritables scènes de concert. 🎸🥁 \nPendant 10 jours\, profitez d’une programmation variée avec des artistes émergents et des styles musicaux diversifiés dans une ambiance chaleureuse et conviviale. \n📌 Quelques lieux participants : Chat Noir\, Bateau-Lavoir\, Phare\, Vroom\, Café Dessiné\, Marchand de Sable… \n🎟️ Accès libre\, contribution volontaire aux artistes. \n🔗 Plus d’infos : barsenfete.net \nUn festival unique pour découvrir la scène musicale locale tout en profitant des meilleurs bars de la ville ! 🍹🎤
URL:https://genevabucketlist.com/agenda/bars-en-fete-festival-musical-a-geneve-et-carouge-%f0%9f%8e%b6/
LOCATION:Différents lieux à Genève\, Genève\, Switzerland
ATTACH;FMTTYPE=image/jpeg:https://genevabucketlist.com/wp-content/uploads/2025/03/Festival-musical.jpeg
END:VEVENT
BEGIN:VEVENT
DTSTART;TZID=Europe/Paris:20250315T100000
DTEND;TZID=Europe/Paris:20250315T110000
DTSTAMP:20260421T045349
CREATED:20250204T193650Z
LAST-MODIFIED:20250204T193718Z
UID:10003670-1742032800-1742036400@genevabucketlist.com
SUMMARY:Yoga aux Bains des Pâquis
DESCRIPTION:Avec vue sur le lac\, entre les platanes du phare une pause bien-être adaptée au rythme des saisons est proposée par Natachafaitduyoga une fois par semaine. Les séances\, bienveillantes\, régénérantes et accessibles à touxtes\, invitent à se relier avec l’état intérieur\, prendre soin de soi et se ressourcer. \nÀ travers le mouvement\, la respiration consciente et la méditation\, la pratique permet d’harmoniser l’organisme\, d’honorer le moment présent et d’augmenter son énergie vitale. Retour à la sensation\, réveil du corps\, libération du souffle\, et relaxation sont au programme avant ou après la baignade. \nTous les samedis\nD’octobre à  avril: 10h à 11h \nDe mai à septembre: 9h à 10h
URL:https://genevabucketlist.com/agenda/yoga-au-bains-des-paquis/2025-03-15/
LOCATION:Bains des Paquis\, Quai du Mont-Blanc 30\, Genève\, Genève\, 1201\, Suisse
ATTACH;FMTTYPE=image/jpeg:https://genevabucketlist.com/wp-content/uploads/2025/02/Yoga-au-bains-des-paquis.jpeg
END:VEVENT
BEGIN:VEVENT
DTSTART;TZID=Europe/Paris:20250315T150000
DTEND;TZID=Europe/Paris:20250315T170000
DTSTAMP:20260421T045349
CREATED:20250221T020639Z
LAST-MODIFIED:20250221T020709Z
UID:10003749-1742050800-1742058000@genevabucketlist.com
SUMMARY:La Bâtie des enfants en hiver
DESCRIPTION:La Bâtie des enfants vous attend avec vos bottes et vos doudounes pour vivre des moments inoubliables. \nJouer dans un orchestre avec des instruments recyclés\, faire du yoga\, créer des œuvres avec des éléments de la nature ou s’émerveiller face à un spectacle de cirque et de marionnettes \nEn plein air : des activités créatives et artistiques proposées dans le cadre de la Bâtie des enfants. \nTous les week-ends\, Jusqu’au 23 mars 2025\, venez développer votre imagination et vous imprégner de culture dans cet espace magique en pleine nature. \n\n\n\n\n 
URL:https://genevabucketlist.com/agenda/la-batie-des-enfants-en-hiver/2025-03-15/
LOCATION:Bois de la Bâtie\, Chem. de la Bâtie\, Genève\, 1202\, Suisse
ATTACH;FMTTYPE=image/png:https://genevabucketlist.com/wp-content/uploads/2025/02/1acef4_8c135f948d07449b95d8043beac9350bmv2.png
END:VEVENT
END:VCALENDAR