BEGIN:VCALENDAR
VERSION:2.0
PRODID:-//Genevabucketlist - ECPv6.15.20//NONSGML v1.0//EN
CALSCALE:GREGORIAN
METHOD:PUBLISH
X-ORIGINAL-URL:https://genevabucketlist.com
X-WR-CALDESC:Évènements pour Genevabucketlist
REFRESH-INTERVAL;VALUE=DURATION:PT1H
X-Robots-Tag:noindex
X-PUBLISHED-TTL:PT1H
BEGIN:VTIMEZONE
TZID:Europe/Paris
BEGIN:DAYLIGHT
TZOFFSETFROM:+0100
TZOFFSETTO:+0200
TZNAME:CEST
DTSTART:20240331T010000
END:DAYLIGHT
BEGIN:STANDARD
TZOFFSETFROM:+0200
TZOFFSETTO:+0100
TZNAME:CET
DTSTART:20241027T010000
END:STANDARD
BEGIN:DAYLIGHT
TZOFFSETFROM:+0100
TZOFFSETTO:+0200
TZNAME:CEST
DTSTART:20250330T010000
END:DAYLIGHT
BEGIN:STANDARD
TZOFFSETFROM:+0200
TZOFFSETTO:+0100
TZNAME:CET
DTSTART:20251026T010000
END:STANDARD
BEGIN:DAYLIGHT
TZOFFSETFROM:+0100
TZOFFSETTO:+0200
TZNAME:CEST
DTSTART:20260329T010000
END:DAYLIGHT
BEGIN:STANDARD
TZOFFSETFROM:+0200
TZOFFSETTO:+0100
TZNAME:CET
DTSTART:20261025T010000
END:STANDARD
END:VTIMEZONE
BEGIN:VEVENT
DTSTART;TZID=Europe/Paris:20250205T110000
DTEND;TZID=Europe/Paris:20250406T190000
DTSTAMP:20260421T045439
CREATED:20250202T213042Z
LAST-MODIFIED:20250202T213042Z
UID:10003662-1738753200-1743966000@genevabucketlist.com
SUMMARY:La Banquise
DESCRIPTION:La Banquise est un espace ludique et sportif hivernal proposé sur le quai marchand des Eaux-Vives\, devant la jetée du Jet d’eau. \nTrois espaces proposés: \nÀ La Banquise\, trois espaces distincts sont proposés: \n\nune zone sportiveLancer de hache lors de sessions de 5 à 10 minutes\, selon l’affluence et le temps d’attente ou encore pratiquer le mattcurling.\nHoraires d’ouverture : \nMercredi: 14h à 19h\nJeudi: 14h à 19h\nVendredi: 14h à 20h\nSamedi: 11h à 20h\nDimanche: 11h à 19h \nAge minimum: 16 ans.\nune zone bien-êtreDu mercredi au dimanche de 11h à 21h\nL’Espace bien-être de La Banquise propose trois saunas au feu de bois\, une yourte de repos\, des douches alimentées par l’eau du lac ainsi que des cabines pour se changer. Le prix de l’entrée au sauna est CHF 10.- par personne et vous donne accès à l’Espace bien-être durant 60 minutes. Sur réservation !\nun espace buvette\n\nUn foodtruck servira de la nourriture chaude ainsi que des boissons pour vous réchauffer. \nUne terrasse avec vue sur le Jet d’eau sera à votre disposition. \nHoraires d’ouverture : \nMercredi: 14h à 19h\nJeudi: 14h à 19h\nVendredi: 14h à 20h\nSamedi: 11h à 20h\nDimanche: 11h à 19h \n  \n  \n  \n*Photos prise par Magali Girardin / ville de ge
URL:https://genevabucketlist.com/agenda/la-banquise/
LOCATION:La banquise\, Quai Gustave-ADOR 21\, Genève\, Genève\, 1207\, Suisse
ATTACH;FMTTYPE=image/jpeg:https://genevabucketlist.com/wp-content/uploads/2025/02/banquise-2025-ville-geneve-galerie-016.jpg
END:VEVENT
BEGIN:VEVENT
DTSTART;TZID=Europe/Paris:20250313T183000
DTEND;TZID=Europe/Paris:20250323T220000
DTSTAMP:20260421T045439
CREATED:20250313T093324Z
LAST-MODIFIED:20250313T093324Z
UID:10003837-1741890600-1742767200@genevabucketlist.com
SUMMARY:Bars en Fête – Festival musical à Genève et Carouge 🎶
DESCRIPTION:Le festival Bars en Fête revient pour sa 17ᵉ édition\, transformant les bars et cafés genevois en véritables scènes de concert. 🎸🥁 \nPendant 10 jours\, profitez d’une programmation variée avec des artistes émergents et des styles musicaux diversifiés dans une ambiance chaleureuse et conviviale. \n📌 Quelques lieux participants : Chat Noir\, Bateau-Lavoir\, Phare\, Vroom\, Café Dessiné\, Marchand de Sable… \n🎟️ Accès libre\, contribution volontaire aux artistes. \n🔗 Plus d’infos : barsenfete.net \nUn festival unique pour découvrir la scène musicale locale tout en profitant des meilleurs bars de la ville ! 🍹🎤
URL:https://genevabucketlist.com/agenda/bars-en-fete-festival-musical-a-geneve-et-carouge-%f0%9f%8e%b6/
LOCATION:Différents lieux à Genève\, Genève\, Switzerland
ATTACH;FMTTYPE=image/jpeg:https://genevabucketlist.com/wp-content/uploads/2025/03/Festival-musical.jpeg
END:VEVENT
BEGIN:VEVENT
DTSTART;TZID=Europe/Paris:20250317T090000
DTEND;TZID=Europe/Paris:20250323T223000
DTSTAMP:20260421T045439
CREATED:20250302T204602Z
LAST-MODIFIED:20250302T204602Z
UID:10003808-1742202000-1742769000@genevabucketlist.com
SUMMARY:Festival Voix De Fête
DESCRIPTION:Le rendez-vous incontournable du printemps à Genève pour découvrir la scène musicale francophone sous toutes ses formes ! \nDu 17 au 23 mars\, plus de 50 concerts sur 14 scènes. \nDepuis 27 ans\, Voix de Fête est le rendez-vous incontournable pour découvrir la scène musicale francophone sous toutes ses formes. Sur scène\, Barbara Pravi\, Thomas Dutronc\, Gringe\, Faada Freddy et Sílvia Pérez Cruz donneront le ton. Pour celles et ceux en quête de découvertes\, Clara Ysé\, Victor Solf\, Flèche Love\, Dinaa et Piche promettent des univers uniques et vibrants. Les adeptes de beats entraînants retrouveront la plume aiguisée d’Hippocampe Fou et la fougue de Nelick\, tandis que les amoureux de poésie musicale se laisseront porter par les envolées lyriques de Mathias Malzieu (leader de Dionysos). Les explorateurs de sonorités voyageuses\, quant à eux\, seront conquis par DjeuhDjoah & Lt Nicholson et El Gato Negro. \nLe programme ici.
URL:https://genevabucketlist.com/agenda/festival-voix-de-fete/
LOCATION:Différents lieux à Genève\, Genève\, Switzerland
ATTACH;FMTTYPE=image/jpeg:https://genevabucketlist.com/wp-content/uploads/2025/03/Festival-Voix-De-Fete.jpeg
END:VEVENT
END:VCALENDAR