BEGIN:VCALENDAR
VERSION:2.0
PRODID:-//Genevabucketlist - ECPv6.15.20//NONSGML v1.0//EN
CALSCALE:GREGORIAN
METHOD:PUBLISH
X-WR-CALNAME:Genevabucketlist
X-ORIGINAL-URL:https://genevabucketlist.com
X-WR-CALDESC:Évènements pour Genevabucketlist
REFRESH-INTERVAL;VALUE=DURATION:PT1H
X-Robots-Tag:noindex
X-PUBLISHED-TTL:PT1H
BEGIN:VTIMEZONE
TZID:Europe/Paris
BEGIN:DAYLIGHT
TZOFFSETFROM:+0100
TZOFFSETTO:+0200
TZNAME:CEST
DTSTART:20240331T010000
END:DAYLIGHT
BEGIN:STANDARD
TZOFFSETFROM:+0200
TZOFFSETTO:+0100
TZNAME:CET
DTSTART:20241027T010000
END:STANDARD
BEGIN:DAYLIGHT
TZOFFSETFROM:+0100
TZOFFSETTO:+0200
TZNAME:CEST
DTSTART:20250330T010000
END:DAYLIGHT
BEGIN:STANDARD
TZOFFSETFROM:+0200
TZOFFSETTO:+0100
TZNAME:CET
DTSTART:20251026T010000
END:STANDARD
BEGIN:DAYLIGHT
TZOFFSETFROM:+0100
TZOFFSETTO:+0200
TZNAME:CEST
DTSTART:20260329T010000
END:DAYLIGHT
BEGIN:STANDARD
TZOFFSETFROM:+0200
TZOFFSETTO:+0100
TZNAME:CET
DTSTART:20261025T010000
END:STANDARD
END:VTIMEZONE
BEGIN:VEVENT
DTSTART;TZID=Europe/Paris:20250430T160000
DTEND;TZID=Europe/Paris:20250430T203000
DTSTAMP:20260423T100028
CREATED:20250421T105821Z
LAST-MODIFIED:20250421T105821Z
UID:10003985-1746028800-1746045000@genevabucketlist.com
SUMMARY:Festival l'Escalier
DESCRIPTION:Festival tous arts confondus ! \nAvez vous l’habitude d’aller voir des pièces de théâtre ? De cirque ? De danse ? De musique ? D’un autre art scénique en tout genre ou en tout style ? Si vous avez répondu oui\, alors rendez vous au théâtre pour découvrir comment les nouvelles générations d’artistes s’approprient ces formes ! \nSi vous avez répondu non à au moins une de ces questions alors ce festival à été créé pour vous ! Sur chaque journée\, un programme varié passant par tous les genres et toutes les durées\, laissez-vous intriguer par un spectacle et restez pour découvrir le suivant ! Le festival L’Escalier c’est 10 jours de découverte\, pour vous mais aussi pour les artistes. \nDétails\, infos\, réservation et tarifs : www.festival-l-escalier.ch
URL:https://genevabucketlist.com/agenda/festival-lescalier/2025-04-30/
LOCATION:Le Théâtricul\, 64\, Route de Genève\, Chêne-Bourg\, Genève\, 1225\, Suisse
ATTACH;FMTTYPE=image/png:https://genevabucketlist.com/wp-content/uploads/2025/04/481817_2025-04-23.png
END:VEVENT
BEGIN:VEVENT
DTSTART;TZID=Europe/Paris:20250430T173000
DTEND;TZID=Europe/Paris:20250430T210000
DTSTAMP:20260423T100028
CREATED:20250416T211135Z
LAST-MODIFIED:20250416T211135Z
UID:10003956-1746034200-1746046800@genevabucketlist.com
SUMMARY:PROJECTION - DOUNIA\, LE GRAND PAYS BLANC
DESCRIPTION:Après Dounia et la Princesse d’Alep\, les aventures de Dounia\, petite fille aux éclats d’étoiles dans les cheveux\, se poursuivent dans son pays d’adoption : le Canada. En plus de découvrir une nouvelle culture et une nouvelle langue\, Dounia va s’ouvrir à la nature sauvage\, à son langage universel et secret. Avec ses deux nouveaux compagnons\, Rosalie et Miguizou\, elle comprendra petit à petit que son coeur est relié au coeur du monde. Elle utilisera cette découverte pour guider son papa\, resté en Syrie\, jusqu’à elle. \n\n\nD’André Kadi et Marya Zarif\, Canada\, 2024\, 50′\, vo français \n\n17:30 : Ouverture des portes\n18:00 : Projection du film\n19:00 : Apéritif\n\nEntrée libre\, sans réservation. \nEn partenariat avec l’Hospice Général\, la ville du Grand-Saconnex et la Fondation Barbour.
URL:https://genevabucketlist.com/agenda/projection-dounia-le-grand-pays-blanc/
LOCATION:Théâtre le douze dix-huit\, Chemin du Pommier 9\, Le Grand-Saconnex\, 1218\, Suisse
ATTACH;FMTTYPE=image/webp:https://genevabucketlist.com/wp-content/uploads/2025/02/Dounia.webp
END:VEVENT
BEGIN:VEVENT
DTSTART;TZID=Europe/Paris:20250501T163000
DTEND;TZID=Europe/Paris:20250501T213000
DTSTAMP:20260423T100028
CREATED:20250421T105821Z
LAST-MODIFIED:20250421T105821Z
UID:10003986-1746117000-1746135000@genevabucketlist.com
SUMMARY:Festival l'Escalier
DESCRIPTION:Festival tous arts confondus ! \nAvez vous l’habitude d’aller voir des pièces de théâtre ? De cirque ? De danse ? De musique ? D’un autre art scénique en tout genre ou en tout style ? Si vous avez répondu oui\, alors rendez vous au théâtre pour découvrir comment les nouvelles générations d’artistes s’approprient ces formes ! \nSi vous avez répondu non à au moins une de ces questions alors ce festival à été créé pour vous ! Sur chaque journée\, un programme varié passant par tous les genres et toutes les durées\, laissez-vous intriguer par un spectacle et restez pour découvrir le suivant ! Le festival L’Escalier c’est 10 jours de découverte\, pour vous mais aussi pour les artistes. \nDétails\, infos\, réservation et tarifs : www.festival-l-escalier.ch
URL:https://genevabucketlist.com/agenda/festival-lescalier/2025-05-01/
LOCATION:Le Théâtricul\, 64\, Route de Genève\, Chêne-Bourg\, Genève\, 1225\, Suisse
ATTACH;FMTTYPE=image/png:https://genevabucketlist.com/wp-content/uploads/2025/04/481817_2025-04-23.png
END:VEVENT
BEGIN:VEVENT
DTSTART;TZID=Europe/Paris:20250501T193000
DTEND;TZID=Europe/Paris:20250501T220000
DTSTAMP:20260423T100028
CREATED:20250416T225710Z
LAST-MODIFIED:20250416T225710Z
UID:10003972-1746127800-1746136800@genevabucketlist.com
SUMMARY:Un bon garçon
DESCRIPTION:Après ses précédents succès\, la Compagnie à Trois Temps présente « Un bon garçon »\, opérette de Maurice Yvain et A.Barde\, pour apporter au Casino-Théâtre un souffle de fraîcheur… venu des années 20 ! \nEt si vous n’aviez plus à choisir entre théâtre\, opéra et cinéma ?\nUn bon garçon réunit le meilleur de ces trois univers pour vous faire vivre une histoire inoubliable\, une intrigue rocambolesque où l’Amourvirevolte entre mensonges\, hypocrisie et trahison. Plongez dans les innombrables quiproquos et rebondissements de ce vaudeville lyrique où Achille\, notre bon garçon (de café !)\, fera tout pour que l’Amour puisse triompher. Emportés par l’indispensable charleston des années 1920\, les musicien-nes de la Compagnie à Trois Temps vous invitent à une soirée pleine de rire et de légèreté. \nPrix : \n\n\n\n\nEntrée libre\, chapeau à la sortie
URL:https://genevabucketlist.com/agenda/un-bon-garcon/2025-05-01/
LOCATION:Casino Théâtre\, 42 Rue de Carouge\, Genève\, Genève\, 1205\, Suisse
ATTACH;FMTTYPE=image/webp:https://genevabucketlist.com/wp-content/uploads/2025/04/oa-75113869.jpg.webp
END:VEVENT
BEGIN:VEVENT
DTSTART;TZID=Europe/Paris:20250502T160000
DTEND;TZID=Europe/Paris:20250502T213000
DTSTAMP:20260423T100028
CREATED:20250421T105821Z
LAST-MODIFIED:20250421T105821Z
UID:10003987-1746201600-1746221400@genevabucketlist.com
SUMMARY:Festival l'Escalier
DESCRIPTION:Festival tous arts confondus ! \nAvez vous l’habitude d’aller voir des pièces de théâtre ? De cirque ? De danse ? De musique ? D’un autre art scénique en tout genre ou en tout style ? Si vous avez répondu oui\, alors rendez vous au théâtre pour découvrir comment les nouvelles générations d’artistes s’approprient ces formes ! \nSi vous avez répondu non à au moins une de ces questions alors ce festival à été créé pour vous ! Sur chaque journée\, un programme varié passant par tous les genres et toutes les durées\, laissez-vous intriguer par un spectacle et restez pour découvrir le suivant ! Le festival L’Escalier c’est 10 jours de découverte\, pour vous mais aussi pour les artistes. \nDétails\, infos\, réservation et tarifs : www.festival-l-escalier.ch
URL:https://genevabucketlist.com/agenda/festival-lescalier/2025-05-02/
LOCATION:Le Théâtricul\, 64\, Route de Genève\, Chêne-Bourg\, Genève\, 1225\, Suisse
ATTACH;FMTTYPE=image/png:https://genevabucketlist.com/wp-content/uploads/2025/04/481817_2025-04-23.png
END:VEVENT
BEGIN:VEVENT
DTSTART;TZID=Europe/Paris:20250502T193000
DTEND;TZID=Europe/Paris:20250502T220000
DTSTAMP:20260423T100028
CREATED:20250416T225710Z
LAST-MODIFIED:20250416T225710Z
UID:10003973-1746214200-1746223200@genevabucketlist.com
SUMMARY:Un bon garçon
DESCRIPTION:Après ses précédents succès\, la Compagnie à Trois Temps présente « Un bon garçon »\, opérette de Maurice Yvain et A.Barde\, pour apporter au Casino-Théâtre un souffle de fraîcheur… venu des années 20 ! \nEt si vous n’aviez plus à choisir entre théâtre\, opéra et cinéma ?\nUn bon garçon réunit le meilleur de ces trois univers pour vous faire vivre une histoire inoubliable\, une intrigue rocambolesque où l’Amourvirevolte entre mensonges\, hypocrisie et trahison. Plongez dans les innombrables quiproquos et rebondissements de ce vaudeville lyrique où Achille\, notre bon garçon (de café !)\, fera tout pour que l’Amour puisse triompher. Emportés par l’indispensable charleston des années 1920\, les musicien-nes de la Compagnie à Trois Temps vous invitent à une soirée pleine de rire et de légèreté. \nPrix : \n\n\n\n\nEntrée libre\, chapeau à la sortie
URL:https://genevabucketlist.com/agenda/un-bon-garcon/2025-05-02/
LOCATION:Casino Théâtre\, 42 Rue de Carouge\, Genève\, Genève\, 1205\, Suisse
ATTACH;FMTTYPE=image/webp:https://genevabucketlist.com/wp-content/uploads/2025/04/oa-75113869.jpg.webp
END:VEVENT
END:VCALENDAR