BEGIN:VCALENDAR
VERSION:2.0
PRODID:-//Genevabucketlist - ECPv6.15.20//NONSGML v1.0//EN
CALSCALE:GREGORIAN
METHOD:PUBLISH
X-WR-CALNAME:Genevabucketlist
X-ORIGINAL-URL:https://genevabucketlist.com
X-WR-CALDESC:Évènements pour Genevabucketlist
REFRESH-INTERVAL;VALUE=DURATION:PT1H
X-Robots-Tag:noindex
X-PUBLISHED-TTL:PT1H
BEGIN:VTIMEZONE
TZID:Europe/Paris
BEGIN:DAYLIGHT
TZOFFSETFROM:+0100
TZOFFSETTO:+0200
TZNAME:CEST
DTSTART:20240331T010000
END:DAYLIGHT
BEGIN:STANDARD
TZOFFSETFROM:+0200
TZOFFSETTO:+0100
TZNAME:CET
DTSTART:20241027T010000
END:STANDARD
BEGIN:DAYLIGHT
TZOFFSETFROM:+0100
TZOFFSETTO:+0200
TZNAME:CEST
DTSTART:20250330T010000
END:DAYLIGHT
BEGIN:STANDARD
TZOFFSETFROM:+0200
TZOFFSETTO:+0100
TZNAME:CET
DTSTART:20251026T010000
END:STANDARD
BEGIN:DAYLIGHT
TZOFFSETFROM:+0100
TZOFFSETTO:+0200
TZNAME:CEST
DTSTART:20260329T010000
END:DAYLIGHT
BEGIN:STANDARD
TZOFFSETFROM:+0200
TZOFFSETTO:+0100
TZNAME:CET
DTSTART:20261025T010000
END:STANDARD
END:VTIMEZONE
BEGIN:VEVENT
DTSTART;TZID=Europe/Paris:20250510T110000
DTEND;TZID=Europe/Paris:20250510T190000
DTSTAMP:20260421T155233
CREATED:20250508T132754Z
LAST-MODIFIED:20250508T132754Z
UID:10004063-1746874800-1746903600@genevabucketlist.com
SUMMARY:3ème édition de la grande friperie!
DESCRIPTION:👕👗 La friperie sera l’occasion rêvée de dénicher des trésors à petits prix parmi des milliers d’articles de seconde main: vêtements pour femmes\, hommes & enfants\, mais aussi chaussures et accessoires. Toutes les pièces sont à CHF 2\, 5 et 10.-. 👡🎒 \nLe combo idéal pour préparer votre garde-robe pour l’été\, tout en consommant de manière durable et sociale. En participant à notre événement\, vous contribuez directement au financement des actions sociales et gratuites que mène le CSP\, institution sociale privée active depuis 70 ans. Chaque année\, l’association propose une aide professionnelle gratuite à quelque 11’000 personnes qui vivent en situation de précarité ou d’exclusion à Genève. \n\n\nDEFILE DES CREATIONS DES JEUNES DE L’ATELIER COUTURE – 15h \nAssistez au défilé organisé par les six jeunes qui suivent actuellement une formation au sein de notre Atelier Création Textile. Les créations sont toutes réalisées à partir de textiles et accessoires ayant été donnés à la brocante. Ils sont customisés et transformés ainsi en pièce unique\, leur offrant une seconde vie. \nCe défilé de mode permettra à chacun.e de montrer ses créations et faire découvrir son propre style. 🥻\n\nATELIER UPCYCLING: TRANSFORMEZ DE VIEUX TEXTILES EN TOTE-BAGS UNIQUE! \nProfitez de votre shopping pour participer à un atelier créatif et responsable autour de l’upcycling! 🌿👕Notre partenaire Bubble Ethic\, la communauté éco-responsable à Genève\, vous attend pour un atelier fun et gratuit pendant lequel vous apprendrez à transformer de vieux textiles en tote-bags uniques et personnalisés. Plutôt que de laisser un t-shirt trainer au fond de votre armoire ou de collectionner les tote-bags publicitaires oubliés\, pourquoi ne pas leur donner une nouvelle vie? Une manière ludique et engagée de repenser sa consommation et de réduire les déchets textiles! \nL’atelier se déroulera pendant la friperie\, entre 12h et 16h. Dans une atmosphère chaleureuse et conviviale\, rejoignez nous entre amis\, en solo ou en famille et redonnez vie à vos vieux Tote-bags pour y ranger vos trouvailles du jours. \nAucune inscription nécessaire\, juste l’envie de créer et de s’amuser tout en adoptant une mode plus responsable! 🎨♻️ \nVous pouvez apporter un de vos vieux t-shirts ou un tote-bag que vous souhaitez upcycler\, acheter un t-shirt coup de cœur à customiser à la friperie\, ou piocher dans ceux qui seront mis à disposition!
URL:https://genevabucketlist.com/agenda/3eme-edition-de-la-grande-friperie/
LOCATION:Salle communale de Plainpalais\, Rue de Carouge 52\, Genève\, 1205\, Suisse
ATTACH;FMTTYPE=image/jpeg:https://genevabucketlist.com/wp-content/uploads/2025/05/2025-friperie-affiche-a4-rvb-low.jpg
END:VEVENT
BEGIN:VEVENT
DTSTART;TZID=Europe/Paris:20250510T110000
DTEND;TZID=Europe/Paris:20250510T210000
DTSTAMP:20260421T155233
CREATED:20250501T082829Z
LAST-MODIFIED:20250501T082829Z
UID:10004021-1746874800-1746910800@genevabucketlist.com
SUMMARY:Week-end en fanfare
DESCRIPTION:Fanfares\, big bands\, brass bands\, chorales… Les musiques populaires sont à l’honneur\, samedi 10 mai. Dès la fin de la matinée\, des concerts gratuits donnés par les membres de l’Union genevoise des musiques et chorales (UGMC) animeront la Place du Molard\, et se poursuivront dès 17h\, au Temple de la Madeleine. \nProgramme : \nPlace du Molard\n11h00 Musique de la Croix-Bleue de Genève\n12h00 Harmonie Nautique\n13h00 Cadets de Genève\n14h00 Fanfare municipale du Petit-Saconnex\n15h00 Fifres et tambours du CPMDT\n16h00 Big Band des Eaux-Vives \nTemple de la Madeleine\n17h00 Cercle choral de Genève\n18h00 Liederkranz – Concordia\n19h00 Société chorale des Eaux-Vives\n20h00 Union accordéoniste mixte \nEn cas de mauvais temps\, tous les concerts seront déplacés au Temple de la Madeleine.\nConcerts gratuits.
URL:https://genevabucketlist.com/agenda/week-end-en-fanfare/
LOCATION:Différents lieux à Genève\, Genève\, Switzerland
ATTACH;FMTTYPE=image/jpeg:https://genevabucketlist.com/wp-content/uploads/2025/05/3555611.jpg
END:VEVENT
BEGIN:VEVENT
DTSTART;TZID=Europe/Paris:20250510T140000
DTEND;TZID=Europe/Paris:20250510T180000
DTSTAMP:20260421T155233
CREATED:20250225T125123Z
LAST-MODIFIED:20250408T124641Z
UID:10003913-1746885600-1746900000@genevabucketlist.com
SUMMARY:Jardin Tissé ateliers créatifs pour petit·es et grand·es !
DESCRIPTION:JARDIN TISSÉ\nClémentine Pellegrin\n\nDU 12 FÉVRIER AU 11 MAI\nME + SA + DI de 14h à 18h\nTous les jours des vacances scolaires de 14h à 18h\n(sauf 1er mai)\n\n\n\n\n\nBienvenue dans les ateliers créatifs de Clémentine Pellegrin pour petit·es et grand·es !\nInspirée par le magnifique Jardin botanique alpin et l’histoire d’Amable Gras – ancien négociant en tissus et propriétaire de la Villa – l’artiste invitée propose une activité où nature et art textile se rencontrent. \nAvec son imagination débordante\, elle métamorphose fleurs\, plantes et autres végétaux en création artistique : les treillis des jardins deviennent des fils entrelacés\, les feuilles et les fleurs se transforment en motifs et les couleurs dansent partout autour de nous ! \nÀ travers deux ateliers ludiques\, les enfants accompagné·es des plus grand·es pourront :\n• Créer leurs propres motifs inspirés des plantes et des fleurs et les agencer dans une grande composition collective ;\n• Découvrir le tissage dans une structure originale qui rappelle les architectures de jardin.\nUn moment de partage pour expérimenter les liens entre nature et création textile tout en s’amusant !
URL:https://genevabucketlist.com/agenda/jardin-tisse-ateliers-creatifs-pour-petit%c2%b7es-et-grand%c2%b7es/2025-05-10/
LOCATION:CAIRN / Villa du jardin\, Chem. du Jardin Alpin 7\, Meyrin\, 1217\, Suisse
ATTACH;FMTTYPE=image/jpeg:https://genevabucketlist.com/wp-content/uploads/2025/02/JARDIN-TISSE.jpeg
END:VEVENT
END:VCALENDAR