BEGIN:VCALENDAR
VERSION:2.0
PRODID:-//Genevabucketlist - ECPv6.15.20//NONSGML v1.0//EN
CALSCALE:GREGORIAN
METHOD:PUBLISH
X-WR-CALNAME:Genevabucketlist
X-ORIGINAL-URL:https://genevabucketlist.com
X-WR-CALDESC:Évènements pour Genevabucketlist
REFRESH-INTERVAL;VALUE=DURATION:PT1H
X-Robots-Tag:noindex
X-PUBLISHED-TTL:PT1H
BEGIN:VTIMEZONE
TZID:Europe/Paris
BEGIN:DAYLIGHT
TZOFFSETFROM:+0100
TZOFFSETTO:+0200
TZNAME:CEST
DTSTART:20240331T010000
END:DAYLIGHT
BEGIN:STANDARD
TZOFFSETFROM:+0200
TZOFFSETTO:+0100
TZNAME:CET
DTSTART:20241027T010000
END:STANDARD
BEGIN:DAYLIGHT
TZOFFSETFROM:+0100
TZOFFSETTO:+0200
TZNAME:CEST
DTSTART:20250330T010000
END:DAYLIGHT
BEGIN:STANDARD
TZOFFSETFROM:+0200
TZOFFSETTO:+0100
TZNAME:CET
DTSTART:20251026T010000
END:STANDARD
BEGIN:DAYLIGHT
TZOFFSETFROM:+0100
TZOFFSETTO:+0200
TZNAME:CEST
DTSTART:20260329T010000
END:DAYLIGHT
BEGIN:STANDARD
TZOFFSETFROM:+0200
TZOFFSETTO:+0100
TZNAME:CET
DTSTART:20261025T010000
END:STANDARD
END:VTIMEZONE
BEGIN:VEVENT
DTSTART;TZID=Europe/Paris:20250510T090000
DTEND;TZID=Europe/Paris:20250510T190000
DTSTAMP:20260423T113750
CREATED:20250506T155011Z
LAST-MODIFIED:20250506T155011Z
UID:10004061-1746867600-1746903600@genevabucketlist.com
SUMMARY:Vogue de quartier Soubeyran
DESCRIPTION:En collaboration avec les associations et institutions du quartier\n\n\n\nOuvert à toutes et à tous et gratuit !\nProgramme:\nde 9h à 12h: S’activer\nMobilité et stretching − Aryoga\nHatha yoga − Ana Cudin yoga\nQi Gong − Yoga Servette\nMéditation mantra − Mantra Cultural Society\nHarmonie en mouvement − Camarada \nde 12h30 à 13h30:\nRepas offert et prise de parole d’Ariane Merkelbach\, Directrice du Département de la cohésion sociale et de la solidarité \nde 14h à 16h: Créer\nMaquillages − Swiss Nanny Association\nAnimations − Université des cultures de Genève –\nSecteur petite enfance de la Servette – Association Intégration\nMineurs et famille\nCouture créative − Heidi Hopeametsä\nAtelier dessins − Bariolée\nActivité argile − Jeanne Thévenot\nJeux vidéo (Just Dance\, FIFA et Codenames) − Vieusseux to the World \nde 16h à 18h: Cuisiner\nAtelier cuisine − Bariolée\nLes bonnes recettes − Amicale des aînés de Vieusseux\nActivité sur la pyramide alimentaire − Caritas\nCours de salsa et atelier alimentation sur les légumineuses − Saybar\nRéalisation de paniers Locali − La Fève \nde 18h à 19h:\nDanses indiennes et musique − Mantra Cultural Society\nApéritif offert \nRenseignements\nEquipe sociale de proximité Servette Petit-Saconnex / Saint-Jean\n022 418 97 90\nesp.servette.soc@geneve.ch
URL:https://genevabucketlist.com/agenda/vogue-de-quartier-soubeyran/
LOCATION:Espace de quartier Soubeyran\, Rue Soubeyran 10\, Genève\, 1203\, Suisse
ATTACH;FMTTYPE=image/webp:https://genevabucketlist.com/wp-content/uploads/2025/05/Vogue-de-quartier-Soubeyran.webp
END:VEVENT
BEGIN:VEVENT
DTSTART;TZID=Europe/Paris:20250510T100000
DTEND;TZID=Europe/Paris:20250510T180000
DTSTAMP:20260423T113750
CREATED:20250506T154419Z
LAST-MODIFIED:20250506T154419Z
UID:10004060-1746871200-1746900000@genevabucketlist.com
SUMMARY:Fête à la Gavotte
DESCRIPTION:Vente de plantons\, boisson\, nourriture\, visite de la ferme et ballades a cheval le samedi 10 mai à la ferme de la Gavotte de 10h à 18h \nBon plan famille le samedi 10 mai à Genève !!! ☀ \nFaites une pierre deux coups\, venez rendre visite aux animaux de la Gavotte et en même temps initier vos enfants au jardinage avec l’équipe de l’Agrociation sans oublier de repartir avec des plantons pour votre potager !!! 🌱🐐\nDes stands de boissons et nourritures seront de la partie pour alimenter vos braves jardiniers en herbes !!! 🌮 \nOn se réjouit de vous y retrouver nombreux !! 🫶🏼 \n📍Ferme de la Gavotte : Chemin des Verjus 138\, 1212 Lancy\n🕦 Samedi 10 mai de 10h à 18h
URL:https://genevabucketlist.com/agenda/fete-a-la-gavotte/
LOCATION:Ferme de la Gavotte\, Chem. des Verjus 138\, Genève\, Lancy\, 1212\, Suisse
ATTACH;FMTTYPE=image/webp:https://genevabucketlist.com/wp-content/uploads/2025/05/Fete-a-la-Gavotte-.webp
END:VEVENT
BEGIN:VEVENT
DTSTART;TZID=Europe/Paris:20250510T110000
DTEND;TZID=Europe/Paris:20250510T190000
DTSTAMP:20260423T113750
CREATED:20250508T132754Z
LAST-MODIFIED:20250508T132754Z
UID:10004063-1746874800-1746903600@genevabucketlist.com
SUMMARY:3ème édition de la grande friperie!
DESCRIPTION:👕👗 La friperie sera l’occasion rêvée de dénicher des trésors à petits prix parmi des milliers d’articles de seconde main: vêtements pour femmes\, hommes & enfants\, mais aussi chaussures et accessoires. Toutes les pièces sont à CHF 2\, 5 et 10.-. 👡🎒 \nLe combo idéal pour préparer votre garde-robe pour l’été\, tout en consommant de manière durable et sociale. En participant à notre événement\, vous contribuez directement au financement des actions sociales et gratuites que mène le CSP\, institution sociale privée active depuis 70 ans. Chaque année\, l’association propose une aide professionnelle gratuite à quelque 11’000 personnes qui vivent en situation de précarité ou d’exclusion à Genève. \n\n\nDEFILE DES CREATIONS DES JEUNES DE L’ATELIER COUTURE – 15h \nAssistez au défilé organisé par les six jeunes qui suivent actuellement une formation au sein de notre Atelier Création Textile. Les créations sont toutes réalisées à partir de textiles et accessoires ayant été donnés à la brocante. Ils sont customisés et transformés ainsi en pièce unique\, leur offrant une seconde vie. \nCe défilé de mode permettra à chacun.e de montrer ses créations et faire découvrir son propre style. 🥻\n\nATELIER UPCYCLING: TRANSFORMEZ DE VIEUX TEXTILES EN TOTE-BAGS UNIQUE! \nProfitez de votre shopping pour participer à un atelier créatif et responsable autour de l’upcycling! 🌿👕Notre partenaire Bubble Ethic\, la communauté éco-responsable à Genève\, vous attend pour un atelier fun et gratuit pendant lequel vous apprendrez à transformer de vieux textiles en tote-bags uniques et personnalisés. Plutôt que de laisser un t-shirt trainer au fond de votre armoire ou de collectionner les tote-bags publicitaires oubliés\, pourquoi ne pas leur donner une nouvelle vie? Une manière ludique et engagée de repenser sa consommation et de réduire les déchets textiles! \nL’atelier se déroulera pendant la friperie\, entre 12h et 16h. Dans une atmosphère chaleureuse et conviviale\, rejoignez nous entre amis\, en solo ou en famille et redonnez vie à vos vieux Tote-bags pour y ranger vos trouvailles du jours. \nAucune inscription nécessaire\, juste l’envie de créer et de s’amuser tout en adoptant une mode plus responsable! 🎨♻️ \nVous pouvez apporter un de vos vieux t-shirts ou un tote-bag que vous souhaitez upcycler\, acheter un t-shirt coup de cœur à customiser à la friperie\, ou piocher dans ceux qui seront mis à disposition!
URL:https://genevabucketlist.com/agenda/3eme-edition-de-la-grande-friperie/
LOCATION:Salle communale de Plainpalais\, Rue de Carouge 52\, Genève\, 1205\, Suisse
ATTACH;FMTTYPE=image/jpeg:https://genevabucketlist.com/wp-content/uploads/2025/05/2025-friperie-affiche-a4-rvb-low.jpg
END:VEVENT
BEGIN:VEVENT
DTSTART;TZID=Europe/Paris:20250510T110000
DTEND;TZID=Europe/Paris:20250510T210000
DTSTAMP:20260423T113750
CREATED:20250501T082829Z
LAST-MODIFIED:20250501T082829Z
UID:10004021-1746874800-1746910800@genevabucketlist.com
SUMMARY:Week-end en fanfare
DESCRIPTION:Fanfares\, big bands\, brass bands\, chorales… Les musiques populaires sont à l’honneur\, samedi 10 mai. Dès la fin de la matinée\, des concerts gratuits donnés par les membres de l’Union genevoise des musiques et chorales (UGMC) animeront la Place du Molard\, et se poursuivront dès 17h\, au Temple de la Madeleine. \nProgramme : \nPlace du Molard\n11h00 Musique de la Croix-Bleue de Genève\n12h00 Harmonie Nautique\n13h00 Cadets de Genève\n14h00 Fanfare municipale du Petit-Saconnex\n15h00 Fifres et tambours du CPMDT\n16h00 Big Band des Eaux-Vives \nTemple de la Madeleine\n17h00 Cercle choral de Genève\n18h00 Liederkranz – Concordia\n19h00 Société chorale des Eaux-Vives\n20h00 Union accordéoniste mixte \nEn cas de mauvais temps\, tous les concerts seront déplacés au Temple de la Madeleine.\nConcerts gratuits.
URL:https://genevabucketlist.com/agenda/week-end-en-fanfare/
LOCATION:Différents lieux à Genève\, Genève\, Switzerland
ATTACH;FMTTYPE=image/jpeg:https://genevabucketlist.com/wp-content/uploads/2025/05/3555611.jpg
END:VEVENT
BEGIN:VEVENT
DTSTART;TZID=Europe/Paris:20250510T140000
DTEND;TZID=Europe/Paris:20250510T180000
DTSTAMP:20260423T113750
CREATED:20250225T125123Z
LAST-MODIFIED:20250408T124641Z
UID:10003913-1746885600-1746900000@genevabucketlist.com
SUMMARY:Jardin Tissé ateliers créatifs pour petit·es et grand·es !
DESCRIPTION:JARDIN TISSÉ\nClémentine Pellegrin\n\nDU 12 FÉVRIER AU 11 MAI\nME + SA + DI de 14h à 18h\nTous les jours des vacances scolaires de 14h à 18h\n(sauf 1er mai)\n\n\n\n\n\nBienvenue dans les ateliers créatifs de Clémentine Pellegrin pour petit·es et grand·es !\nInspirée par le magnifique Jardin botanique alpin et l’histoire d’Amable Gras – ancien négociant en tissus et propriétaire de la Villa – l’artiste invitée propose une activité où nature et art textile se rencontrent. \nAvec son imagination débordante\, elle métamorphose fleurs\, plantes et autres végétaux en création artistique : les treillis des jardins deviennent des fils entrelacés\, les feuilles et les fleurs se transforment en motifs et les couleurs dansent partout autour de nous ! \nÀ travers deux ateliers ludiques\, les enfants accompagné·es des plus grand·es pourront :\n• Créer leurs propres motifs inspirés des plantes et des fleurs et les agencer dans une grande composition collective ;\n• Découvrir le tissage dans une structure originale qui rappelle les architectures de jardin.\nUn moment de partage pour expérimenter les liens entre nature et création textile tout en s’amusant !
URL:https://genevabucketlist.com/agenda/jardin-tisse-ateliers-creatifs-pour-petit%c2%b7es-et-grand%c2%b7es/2025-05-10/
LOCATION:CAIRN / Villa du jardin\, Chem. du Jardin Alpin 7\, Meyrin\, 1217\, Suisse
ATTACH;FMTTYPE=image/jpeg:https://genevabucketlist.com/wp-content/uploads/2025/02/JARDIN-TISSE.jpeg
END:VEVENT
BEGIN:VEVENT
DTSTART;TZID=Europe/Paris:20250511T100000
DTEND;TZID=Europe/Paris:20250511T110000
DTSTAMP:20260423T113750
CREATED:20250318T134820Z
LAST-MODIFIED:20250318T134820Z
UID:10003852-1746957600-1746961200@genevabucketlist.com
SUMMARY:Cours de Taï-Chi
DESCRIPTION:Tous les dimanches aux Bains \n\nD’octobre à mai: de 10h à 11h\nDe juin à septembre: de 9h15 à 10h15\n\nEn cas de pluie ou de vent: abri côté bistrot \nCours ouvert à tous – offerts par les Bains – sans inscription \n\nEntrée aux bains: CHF 2.-  pendant la saison chaude\n\nEnseignantes pour le Taï-chi: Laurence Bovay\, Careen Croset\, Valérie Oppel\, Marianne Schweizer \nSens de l’orientation\, éloge de la lenteur\, tonus musculaire\, respiration\, méditation\, souplesse\, mémoire\, équilibre
URL:https://genevabucketlist.com/agenda/cours-de-tai-chi/2025-05-11/
LOCATION:Bains des Paquis\, Quai du Mont-Blanc 30\, Genève\, Genève\, 1201\, Suisse
ATTACH;FMTTYPE=image/png:https://genevabucketlist.com/wp-content/uploads/2025/03/Cours-de-Tai-Chi.png
END:VEVENT
BEGIN:VEVENT
DTSTART;TZID=Europe/Paris:20250511T100000
DTEND;TZID=Europe/Paris:20250511T170000
DTSTAMP:20260423T113750
CREATED:20250416T215858Z
LAST-MODIFIED:20250416T215858Z
UID:10003960-1746957600-1746982800@genevabucketlist.com
SUMMARY:GemGenève
DESCRIPTION:GemGenève\, salon international de la joaillerie du 8 au 11 mai 2025 à Palexpo Genève\, réunit créateurs\, marchands et experts à travers expositions\, conférences et ateliers. \n\n\n\n\n\n\n\n\n\n\n\nGemGenève est le rendez-vous immanquable des amateurs de pierres précieuses\, des collectionneurs de bijoux et des professionnels de l’industrie de la joaillerie. \nRéunissant chaque année à Genève tous les métiers du secteur\, dont les plus grands marchands internationaux\, ce salon aussi intimiste et convivial que transversal s’est affirmé comme un lieu d’échange entre passionnés et experts du monde entier. \nOffrant un vibrant panorama sur la jeune création\, GemGenève est un tremplin incontournable pour les designers émergents et tous les talents de demain. \nAccessible aux initiés comme au grand public\, GemGenève invite le monde entier à célébrer les arts joailliers et œuvre à la transmission des savoir-faire rares grâce à une programmation culturelle dense : expositions thématiques originales présentant des pièces de qualité muséale\, cycles de conférences\, librairies éphémères et ateliers métiers d’art. \nChaque année\, grandes maisons de joaillerie\, musées et institutions de renom s’associent à l’événement le temps d’un partenariat et y exposent des pièces historiques et des chefs-d’œuvre de haute-joaillerie. \nPrix: \nPrix entrée : CHF 50.- \nGratuit pour les étudiant·es et les moins de 18 an
URL:https://genevabucketlist.com/agenda/gemgeneve/2025-05-11/
LOCATION:Palexpo\, Route François-Peyrot 30\, 1218\, Suisse
ATTACH;FMTTYPE=image/png:https://genevabucketlist.com/wp-content/uploads/2025/04/GemGeneve.png
END:VEVENT
BEGIN:VEVENT
DTSTART;TZID=Europe/Paris:20250511T140000
DTEND;TZID=Europe/Paris:20250511T180000
DTSTAMP:20260423T113750
CREATED:20250225T125123Z
LAST-MODIFIED:20250408T124641Z
UID:10003914-1746972000-1746986400@genevabucketlist.com
SUMMARY:Jardin Tissé ateliers créatifs pour petit·es et grand·es !
DESCRIPTION:JARDIN TISSÉ\nClémentine Pellegrin\n\nDU 12 FÉVRIER AU 11 MAI\nME + SA + DI de 14h à 18h\nTous les jours des vacances scolaires de 14h à 18h\n(sauf 1er mai)\n\n\n\n\n\nBienvenue dans les ateliers créatifs de Clémentine Pellegrin pour petit·es et grand·es !\nInspirée par le magnifique Jardin botanique alpin et l’histoire d’Amable Gras – ancien négociant en tissus et propriétaire de la Villa – l’artiste invitée propose une activité où nature et art textile se rencontrent. \nAvec son imagination débordante\, elle métamorphose fleurs\, plantes et autres végétaux en création artistique : les treillis des jardins deviennent des fils entrelacés\, les feuilles et les fleurs se transforment en motifs et les couleurs dansent partout autour de nous ! \nÀ travers deux ateliers ludiques\, les enfants accompagné·es des plus grand·es pourront :\n• Créer leurs propres motifs inspirés des plantes et des fleurs et les agencer dans une grande composition collective ;\n• Découvrir le tissage dans une structure originale qui rappelle les architectures de jardin.\nUn moment de partage pour expérimenter les liens entre nature et création textile tout en s’amusant !
URL:https://genevabucketlist.com/agenda/jardin-tisse-ateliers-creatifs-pour-petit%c2%b7es-et-grand%c2%b7es/2025-05-11/
LOCATION:CAIRN / Villa du jardin\, Chem. du Jardin Alpin 7\, Meyrin\, 1217\, Suisse
ATTACH;FMTTYPE=image/jpeg:https://genevabucketlist.com/wp-content/uploads/2025/02/JARDIN-TISSE.jpeg
END:VEVENT
BEGIN:VEVENT
DTSTART;TZID=Europe/Paris:20250512T200000
DTEND;TZID=Europe/Paris:20250512T233000
DTSTAMP:20260423T113750
CREATED:20250204T194534Z
LAST-MODIFIED:20250313T100315Z
UID:10003682-1747080000-1747092600@genevabucketlist.com
SUMMARY:Full Moon Sauna
DESCRIPTION:Tous les soirs de pleine lune\, les saunas sont ouverts jusqu’à 23h30. \nProfitez de la magie des Bains de nuit avec un brasero\, de l’argile pour tartiner votre corps\, des glaçons et des morceaux d’orange.
URL:https://genevabucketlist.com/agenda/full-moon-sauna/2025-05-12/
LOCATION:Bains des Paquis\, Quai du Mont-Blanc 30\, Genève\, Genève\, 1201\, Suisse
ATTACH;FMTTYPE=image/png:https://genevabucketlist.com/wp-content/uploads/2025/02/Full-Moon-Sauna.png
END:VEVENT
BEGIN:VEVENT
DTSTART;TZID=Europe/Paris:20250513T130000
DTEND;TZID=Europe/Paris:20250513T140000
DTSTAMP:20260423T113750
CREATED:20250506T155537Z
LAST-MODIFIED:20250506T155537Z
UID:10004062-1747141200-1747144800@genevabucketlist.com
SUMMARY:Visite du fleurissement du Jardin de la Perle du Lac
DESCRIPTION:Découvrez le Jardin de la Perle du Lac\, conçu par Armand Auberson\, à l’occasion de la parution d’un livre hommage consacré à cet ancien chef du Service des espaces verts de la Ville de Genève.\n\n\n\n\nEntré comme commis en 1939 au Service des parcs et promenades\, il gravit tous les échelons jusqu’à en devenir le chef\, poste qu’il quittera en 1971.\nUne belle occasion de redécouvrir l’héritage d’Auberson et de se plonger dans l’histoire du paysage genevois. \nInformations pratiques :\n• Inscription obligatoire : https://visitefleurissement-1.eventwise.ch/fr\n• Accueil à 12h45 devant le restaurant de la Perle du lac\, partie officielle puis visite de 13h15 à 13h45\n• Visite guidée de 30 minutes\n• Groupe limité à 20 personnes\n• La visite a lieu par tous les temps\, sauf en cas d’orage \nEn image :\nPhoto d’archive du parc de la Perle du Lac dans les années 1960-1970.\nOn y voit un massif de dahlias en fleurs\, emblématique des compositions florales de l’époque.\n© Bibliothèque de Genève
URL:https://genevabucketlist.com/agenda/visite-du-fleurissement-du-jardin-de-la-perle-du-lac/
LOCATION:Parc de la perle du Lac\, Rue de Lausanne 120B\, Genève\, 1202\, Suisse
ATTACH;FMTTYPE=image/jpeg:https://genevabucketlist.com/wp-content/uploads/2023/09/2FE2F60A-9B9E-414F-9551-100470F4DBB3.jpg
END:VEVENT
BEGIN:VEVENT
DTSTART;TZID=Europe/Paris:20250513T203000
DTEND;TZID=Europe/Paris:20250513T233000
DTSTAMP:20260423T113750
CREATED:20250513T073914Z
LAST-MODIFIED:20250513T073914Z
UID:10004064-1747168200-1747179000@genevabucketlist.com
SUMMARY:ROCK ON STAGE : Classic / André Schmid
DESCRIPTION:La soirée Rock on Stage Classic\, c’est une soirée où la scène vous appartient ! \nSous la houlette d’André Schmid\, chanteur de l’emblématique groupe genevois Ça va chier\, les musiciens et musiciennes de tous niveaux et tous horizons sont les bienvenu.e.s sur scène : venez jouer accompagné.e.s par une équipe de musiciens professionnels\, ou\, selon votre préférence\, par vous-mêmes ou vos propres accompagnateurs et accompagnatrices !
URL:https://genevabucketlist.com/agenda/rock-on-stage-classic-andre-schmid-2/
LOCATION:AMR\, 10 Rue des Alpes\, Genève\, Genève\, 1201\, Suisse
ATTACH;FMTTYPE=image/jpeg:https://genevabucketlist.com/wp-content/uploads/2025/05/482474_2025-05-13_img.jpeg
END:VEVENT
BEGIN:VEVENT
DTSTART;TZID=Europe/Paris:20250514T123000
DTEND;TZID=Europe/Paris:20250514T140000
DTSTAMP:20260423T113750
CREATED:20250501T071404Z
LAST-MODIFIED:20250501T071404Z
UID:10003994-1747225800-1747231200@genevabucketlist.com
SUMMARY:Fête de la danse 2025
DESCRIPTION:Du 14 au 18 mai 2025\, la danse envoûtera les cœurs et fera vibrer les corps à Genève et dans toute la Suisse !\n\nLes Marchés Dansés sont de retour en 2025 ! À Lancy et Carouge\, la danse investit les marchés pour des performances surprenantes et des moments de partage uniques. Une invitation à découvrir la danse sous un nouvel angle\, en plein cœur de la ville. \nLe programme : ici ! \nLa danse dans tous ses états \nAvec le retour du printemps\, la danse sort de l’ombre pour illuminer les rues\, les places et les salles de Genève. Que ce soit dans des marchés animés\, sur des places publiques\, ou dans d’autres lieux à Vernier\, Onex ou encore Meyrin\, la danse promet de surprendre\, d’émouvoir et de faire vibrer. \nUne fête à ne pas manquer \nAvec plus de 30 lieux participants\, la Fête de la Danse Genève 2025 s’annonce riche en découvertes et en émotions. Spectacles\, ateliers participatifs\, et cours de danse pour tous les niveaux seront au programme.\nRendez-vous prochainement pour découvrir les détails du programme : la danse n’attend plus que vous ! \n\nGratuit en extérieur \n\nTicket adulte : CHF 15\n\n\nTicket enfant : CHF 0 Jusqu’à 16 ans\n\n\n\nPass adulte :CHF 25\n\n\nSoutiens : CHF libre
URL:https://genevabucketlist.com/agenda/fete-de-la-danse-2025/2025-05-14/1/
LOCATION:Différents lieux à Genève\, Genève\, Switzerland
ATTACH;FMTTYPE=image/png:https://genevabucketlist.com/wp-content/uploads/2025/05/Fete-de-la-danse.png
END:VEVENT
BEGIN:VEVENT
DTSTART;TZID=Europe/Paris:20250514T173000
DTEND;TZID=Europe/Paris:20250514T190000
DTSTAMP:20260423T113750
CREATED:20250414T062423Z
LAST-MODIFIED:20250528T071914Z
UID:10004042-1747243800-1747249200@genevabucketlist.com
SUMMARY:Micro ouvert "7 humoristes en test"
DESCRIPTION:7 humoristes viennent tester des blagues dans la cave pendant que le bar reste ouvert. Ce n’est pas un spectacle\, c’est un labo ! Tu peux monter reprendre une bière\, discuter avec les artistes\, donner rdv à ton date… \n40 minutes de pures portes ouvertes du Caustic dans une ambiance de détente pour toi et de travail pour les humoristes. Leur workshop\, ton afterwork ! \nEntrée à 6 CHF / sortie au chapeau
URL:https://genevabucketlist.com/agenda/micro-ouvert-7-humoristes-en-test-2/2025-05-14/
LOCATION:Caustic Comedy Club\, Av. Cardinal-Mermillod 6\, Genève\, Carouge\, 1227\, Suisse
ATTACH;FMTTYPE=image/jpeg:https://genevabucketlist.com/wp-content/uploads/2025/04/Micro-ouvert-227-humoristes-en-test22.jpeg
END:VEVENT
BEGIN:VEVENT
DTSTART;TZID=Europe/Paris:20250514T180000
DTEND;TZID=Europe/Paris:20250514T190000
DTSTAMP:20260423T113750
CREATED:20250501T071404Z
LAST-MODIFIED:20250501T071404Z
UID:10003995-1747245600-1747249200@genevabucketlist.com
SUMMARY:Fête de la danse 2025
DESCRIPTION:Du 14 au 18 mai 2025\, la danse envoûtera les cœurs et fera vibrer les corps à Genève et dans toute la Suisse !\n\nLes Marchés Dansés sont de retour en 2025 ! À Lancy et Carouge\, la danse investit les marchés pour des performances surprenantes et des moments de partage uniques. Une invitation à découvrir la danse sous un nouvel angle\, en plein cœur de la ville. \nLe programme : ici ! \nLa danse dans tous ses états \nAvec le retour du printemps\, la danse sort de l’ombre pour illuminer les rues\, les places et les salles de Genève. Que ce soit dans des marchés animés\, sur des places publiques\, ou dans d’autres lieux à Vernier\, Onex ou encore Meyrin\, la danse promet de surprendre\, d’émouvoir et de faire vibrer. \nUne fête à ne pas manquer \nAvec plus de 30 lieux participants\, la Fête de la Danse Genève 2025 s’annonce riche en découvertes et en émotions. Spectacles\, ateliers participatifs\, et cours de danse pour tous les niveaux seront au programme.\nRendez-vous prochainement pour découvrir les détails du programme : la danse n’attend plus que vous ! \n\nGratuit en extérieur \n\nTicket adulte : CHF 15\n\n\nTicket enfant : CHF 0 Jusqu’à 16 ans\n\n\n\nPass adulte :CHF 25\n\n\nSoutiens : CHF libre
URL:https://genevabucketlist.com/agenda/fete-de-la-danse-2025/2025-05-14/2/
LOCATION:Différents lieux à Genève\, Genève\, Switzerland
ATTACH;FMTTYPE=image/png:https://genevabucketlist.com/wp-content/uploads/2025/05/Fete-de-la-danse.png
END:VEVENT
BEGIN:VEVENT
DTSTART;TZID=Europe/Paris:20250514T200000
DTEND;TZID=Europe/Paris:20250514T213000
DTSTAMP:20260423T113750
CREATED:20250506T150531Z
LAST-MODIFIED:20250506T150531Z
UID:10004046-1747252800-1747258200@genevabucketlist.com
SUMMARY:Krazy Kat Iz Back !
DESCRIPTION:KRAZY KAT IZ BACK ! \nD’après George Herriman\nMise en scène Eric Jeanmonod\nCompagnie du Théâtre du Loup \n6 – 25 mai 2025 \nTout public\, dès 10 ans / Durée 1h25 ✨ \n– \nLe retour sur les planches d’une des plus belles bandes dessinées – toutes époques confondues – qui pétille encore aujourd’hui. \nElle raconte les amours très paradoxales entre 3 drôles d’animaux qui nous ressemblent plus que nature : une chatte follement amoureuse d’un souris\, un chien – secrètement amoureux de cette chatte Krazy –\, et le souris – qui n’adore personne mais n’aime rien tant que balancer sa brique sur la tête de la chatte ! Elle prend ça pour une déclaration d’amour\, alors que le chien – policier de son état – jette le souris en prison\, pour “rock’n’roll attitude”… \nQuoi de plus émouvant que cette héroïne suprêmement innocente qui aime justement celui qui l’ignore et se méprend sur celui qui l’adore ? \nToute sa vie\, George Herriman aura dessiné des milliers de variations autour de ces amours impossibles\, avec poésie\, ironie\, et génie inégalé. Jusqu’en 1944\, où sa disparition entraîne celle de ses personnages. \nEn 1984\, le Théâtre du Loup en réalise la première adaptation pour la scène\, qui voyagera beaucoup : Québec\, Belgique\, France… Puis\, à l’invitation de la Comédie de Genève\, en 1992\, nous proposions « Le Retour de Krazy Kat »\, une re-création qui obtiendra le prix suisse romand du théâtre indépendant\, et qui sera à l’origine de la construction du bâtiment du Loup. \nC’est pour marquer artistiquement la dernière saison des fondateur⸱ice⸱s de la Compagnie du Théâtre du Loup que nous vous proposons ce « Krazy Kat » revisité. \nAvec : \n🌟 Jeu : Janju Bonzon\, Aloys Lolo\, Juliette Riccaboni\, Lola Riccaboni et Adrien Zumthor \n🌟 Voix des personnages et musique live : Simon Aeschimann\, Céline Frey\, Christian Graf et Cédric Simon \n🌟 Les enfants : Dina Aboun\, Théo Borel et Jeanne Riccaboni (en alternance) \n🌟 Participation spéciale : Rossella Riccaboni \n– \nNouveau : les représentations du mercredi sont à prix libre ! \n+ d’infos et réservations :\nwww.theatreduloup.ch\n+41 22 301 31 00
URL:https://genevabucketlist.com/agenda/krazy-kat-iz-back/2025-05-14/
LOCATION:Théatre du Loup\, Chemin de la Gravière 10\, Genève\, Acacias\, 1227\, Suisse
ATTACH;FMTTYPE=image/jpeg:https://genevabucketlist.com/wp-content/uploads/2025/05/Krazy-Kat-Iz-Back-.jpeg
END:VEVENT
END:VCALENDAR