BEGIN:VCALENDAR
VERSION:2.0
PRODID:-//Genevabucketlist - ECPv6.15.20//NONSGML v1.0//EN
CALSCALE:GREGORIAN
METHOD:PUBLISH
X-WR-CALNAME:Genevabucketlist
X-ORIGINAL-URL:https://genevabucketlist.com
X-WR-CALDESC:Évènements pour Genevabucketlist
REFRESH-INTERVAL;VALUE=DURATION:PT1H
X-Robots-Tag:noindex
X-PUBLISHED-TTL:PT1H
BEGIN:VTIMEZONE
TZID:Europe/Paris
BEGIN:DAYLIGHT
TZOFFSETFROM:+0100
TZOFFSETTO:+0200
TZNAME:CEST
DTSTART:20240331T010000
END:DAYLIGHT
BEGIN:STANDARD
TZOFFSETFROM:+0200
TZOFFSETTO:+0100
TZNAME:CET
DTSTART:20241027T010000
END:STANDARD
BEGIN:DAYLIGHT
TZOFFSETFROM:+0100
TZOFFSETTO:+0200
TZNAME:CEST
DTSTART:20250330T010000
END:DAYLIGHT
BEGIN:STANDARD
TZOFFSETFROM:+0200
TZOFFSETTO:+0100
TZNAME:CET
DTSTART:20251026T010000
END:STANDARD
BEGIN:DAYLIGHT
TZOFFSETFROM:+0100
TZOFFSETTO:+0200
TZNAME:CEST
DTSTART:20260329T010000
END:DAYLIGHT
BEGIN:STANDARD
TZOFFSETFROM:+0200
TZOFFSETTO:+0100
TZNAME:CET
DTSTART:20261025T010000
END:STANDARD
END:VTIMEZONE
BEGIN:VEVENT
DTSTART;TZID=Europe/Paris:20250621T130000
DTEND;TZID=Europe/Paris:20250621T190000
DTSTAMP:20260424T022000
CREATED:20250616T064747Z
LAST-MODIFIED:20250619T115439Z
UID:10004175-1750510800-1750532400@genevabucketlist.com
SUMMARY:ATLETICAGENEVE
DESCRIPTION:ATLETICAGENEVE\, meeting international d’athlétisme de Genève (21 juin) \n\n\nEtape du World Athletics Continental Tour / Bronze\, 500 athlètes de 80 pays et 5 continents se retrouveront à Genève avec l’élite suisse\, en vue des qualifications aux mondiaux de Tokyo 2025. \n\n\nRendez-vous incontournable de l’athlétisme suisse\, le traditionnel meeting de Genève attire les meilleurs athlètes européens et du monde.\nVenez soutenir les meilleurs athlètes suisses et les jeunes talents genevois dans une ambiance de haute compétition internationale.\nL’entrée est gratuite.\nVenez encourager de tout près les athlètes\, et les prestigeuses équipes nationales de relais 4x100m en vue des qualifications aux championnats du monde de Tokyo.
URL:https://genevabucketlist.com/agenda/atleticageneve/
LOCATION:Centre sportif du Bout-du-Monde\, Route de Vessy 12\, Genève\, Genève\, 1206\, Suisse
ATTACH;FMTTYPE=image/jpeg:https://genevabucketlist.com/wp-content/uploads/2024/05/20230610_Athletica_Geneve_00719PM-scaled-1.jpg
END:VEVENT
BEGIN:VEVENT
DTSTART;TZID=Europe/Paris:20250622T090000
DTEND;TZID=Europe/Paris:20250622T170000
DTSTAMP:20260424T022000
CREATED:20250622T080826Z
LAST-MODIFIED:20250622T080826Z
UID:10004208-1750582800-1750611600@genevabucketlist.com
SUMMARY:Hopa Cup - Tournoi de football caritatif
DESCRIPTION:Hope a le plaisir d’annoncer la première édition de la Hopa Cup\, tournoi de football caritatif au stade Varembé le 22 juin. Un event sportif et solidaire pour les enfants et orphelins en Indonésie.\n\n\n\n\n\n\nPourquoi ce tournoi ?\nLes enfants de Lombok vivent dans des conditions précaires. Grâce à la Hopa Cup\, nous voulons leur offrir un avenir meilleur : un toit\, des repas quotidiens\, une éducation de qualité et des infrastructures permettant leur épanouissement. Tous les bénéfices récoltés seront intégralement reversés à ce projet pour bâtir un écosystème solidaire autour de l’orphelinat accueillant déjà plus de 250 enfants. \nPlus d’informations sur le projet via le lien suivant : https://hope-geneva.org/lombok/ \nRejoignez-nous pour une journée de sport\, de solidarité et d’espoir ! Ensemble\, faisons la différence pour les enfants de Lombok 💙 \nLe format du tournoi \n\n9h à 17h\n12 équipes de 7 joueurs\, soit 84 participants\nMatchs en phase de poules en matinée suivis de phases éliminatoires l’après-midi\nRestauration\, animations et activités sur place\n\nInscriptions \n\nCompose ton équipe de 7 joueurs\nForfait de 30.- par joueur incluant :\nUn maillot de VOTRE choix pour chaque joueur parmi la sélection\nDélai d’inscription au 1 mai 18h !\n\n100% des bénéfices de la journée reversés !\nPlus d’informations sur le tournoi juste ici : https://hope-geneva.org/f-hopa-cup/
URL:https://genevabucketlist.com/agenda/hopa-cup-tournoi-de-football-caritatif/
LOCATION:Stade de Varembé\, Rue de Vermont 33\, Genève\, 1202\, Suisse
ATTACH;FMTTYPE=image/webp:https://genevabucketlist.com/wp-content/uploads/2025/06/Hopa-Cup-.webp
END:VEVENT
BEGIN:VEVENT
DTSTART;TZID=Europe/Paris:20250622T110000
DTEND;TZID=Europe/Paris:20250622T200000
DTSTAMP:20260424T022000
CREATED:20250603T154750Z
LAST-MODIFIED:20250603T154750Z
UID:10004126-1750590000-1750622400@genevabucketlist.com
SUMMARY:La Fête de la musique
DESCRIPTION:Trois jours de concerts\, de spectacles et d’ateliers\, une trentaine de scènes intérieures ou en plein air\, sur un grand périmètre allant de la rue des Rois\, Place de Neuve\, à travers le Parc des Bastions\, les ruelles de la Vieille-Ville et des Tranchées\, et jusqu’au Parc La Grange: la Fête de la musique de Genève c’est un moment très attendu pour s’émerveiller devant la diversité et la qualité du panorama musical de Genève\, des passionnés aux professionnelles\, en passant par les écoles et les institutions de la musique. \nLe programme ici ! \nHoraires de la Fête de la musique: \n\nVendredi 20 juin 19h – 02h\nSamedi 21 juin 11h – 02h\nDimanche 22 juin 11h – 20h\n\nLes concerts se terminent une heure avant la fermeture de la Fête de la musique.
URL:https://genevabucketlist.com/agenda/la-fete-de-la-musique/2025-06-22/
LOCATION:Différents lieux en Ville de Genève
ATTACH;FMTTYPE=image/webp:https://genevabucketlist.com/wp-content/uploads/2025/06/La-Fete-de-la-musique-.webp
END:VEVENT
BEGIN:VEVENT
DTSTART;TZID=Europe/Paris:20250623T183000
DTEND;TZID=Europe/Paris:20250623T230000
DTSTAMP:20260424T022000
CREATED:20250609T080713Z
LAST-MODIFIED:20250609T080713Z
UID:10004147-1750703400-1750719600@genevabucketlist.com
SUMMARY:Soirée Tango à La Chaloupe
DESCRIPTION:✨ Le tango fait son grand retour au bord de l’eau ! \nTous les lundis soirs\, laissez-vous emporter par la magie du tango argentin dans un cadre idyllique\, face au lac. \nUn rendez-vous pour les passionné·es de danse… et pour les curieux·ses en quête d’émotions\, de musique et de connexion. \n💃 Initiation gratuite de 18h30 à 19h30 – ouverte à toutes et tous\, sans inscription\n🕺 Milonga en plein air de 19h30 à 23h45 – ambiance élégante et détendue\n📍 Parc de la Perle du Lac – La Chaloupe à Vapeur \nVenez nombreux pour célébrer le retour du tango à La Chaloupe !
URL:https://genevabucketlist.com/agenda/soiree-tango-a-la-chaloupe/2025-06-23/
LOCATION:La Chaloupe à vapeur\, Perle du Lac - Rue de Lausanne 128\, Genève\, Genève\, 1202\, Suisse
ATTACH;FMTTYPE=image/png:https://genevabucketlist.com/wp-content/uploads/2025/06/Soiree-tango.png
END:VEVENT
END:VCALENDAR