BEGIN:VCALENDAR
VERSION:2.0
PRODID:-//Genevabucketlist - ECPv6.15.20//NONSGML v1.0//EN
CALSCALE:GREGORIAN
METHOD:PUBLISH
X-WR-CALNAME:Genevabucketlist
X-ORIGINAL-URL:https://genevabucketlist.com
X-WR-CALDESC:Évènements pour Genevabucketlist
REFRESH-INTERVAL;VALUE=DURATION:PT1H
X-Robots-Tag:noindex
X-PUBLISHED-TTL:PT1H
BEGIN:VTIMEZONE
TZID:Europe/Paris
BEGIN:DAYLIGHT
TZOFFSETFROM:+0100
TZOFFSETTO:+0200
TZNAME:CEST
DTSTART:20240331T010000
END:DAYLIGHT
BEGIN:STANDARD
TZOFFSETFROM:+0200
TZOFFSETTO:+0100
TZNAME:CET
DTSTART:20241027T010000
END:STANDARD
BEGIN:DAYLIGHT
TZOFFSETFROM:+0100
TZOFFSETTO:+0200
TZNAME:CEST
DTSTART:20250330T010000
END:DAYLIGHT
BEGIN:STANDARD
TZOFFSETFROM:+0200
TZOFFSETTO:+0100
TZNAME:CET
DTSTART:20251026T010000
END:STANDARD
BEGIN:DAYLIGHT
TZOFFSETFROM:+0100
TZOFFSETTO:+0200
TZNAME:CEST
DTSTART:20260329T010000
END:DAYLIGHT
BEGIN:STANDARD
TZOFFSETFROM:+0200
TZOFFSETTO:+0100
TZNAME:CET
DTSTART:20261025T010000
END:STANDARD
END:VTIMEZONE
BEGIN:VEVENT
DTSTART;TZID=Europe/Paris:20250702T210000
DTEND;TZID=Europe/Paris:20250702T223000
DTSTAMP:20260422T033049
CREATED:20250618T193331Z
LAST-MODIFIED:20250618T193331Z
UID:10004183-1751490000-1751495400@genevabucketlist.com
SUMMARY:Scène Ella Fitzgerald – Concerts d’été au Parc de la Grange
DESCRIPTION:La Scène Ella Fitzgerald revient pour sa programmation estivale ! Du 20 juin au 22 août 2025\, retrouve une série de concerts gratuits en plein air dans le cadre verdoyant du Parc de la Grange\, Genève \nAu programme : \n\n\nRap\, cumbia\, soul\, jazz\, funk\, pop et musique du monde. \n\n\nPlusieurs rendez-vous phares : Oxmo Puccino (4 juillet)\, L’Orchestre de Chambre (11 juillet)\, Ralphie Choo (18 juillet)\, Uzi Freyja (8 août)\, Burning Spear (13 août)\, et bien d’autres \n\nvoir le programme détaillé ICI\n\nAmbiance conviviale\, accessible à toutes et tous\, avec entrée libre \n👉 En plein air\, les concerts se tiennent quel que soit le temps (sauf en cas d’orage\, annulation possible). Plus d’infos et programme complet sur le site de la Ville de Genève. Culture estivale garantie ! 🎶
URL:https://genevabucketlist.com/agenda/scene-ella-fitzgerald-concerts-dete-au-parc-de-la-grange/2025-07-02/
LOCATION:Parc la Grange\, Avenue Alice-et-William-Favre 19\,\, Genève\, 1207\, Suisse
ATTACH;FMTTYPE=image/jpeg:https://genevabucketlist.com/wp-content/uploads/2025/06/Ella-Fitzgerald.jpeg
END:VEVENT
BEGIN:VEVENT
DTSTART;TZID=Europe/Paris:20250703T190000
DTEND;TZID=Europe/Paris:20250703T200000
DTSTAMP:20260422T033049
CREATED:20250630T063537Z
LAST-MODIFIED:20250630T063537Z
UID:10004231-1751569200-1751572800@genevabucketlist.com
SUMMARY:Caustic Sunset
DESCRIPTION:Le Caustic x La Canopée !\nSTAND-UP AU BORD DU LAC 💧 \nTous les jeudis à 19h tu as ta petite routine : spritz\, soleil et blagues au bordu pour bien commencer tes soirées… Et en plus c’est gratuit ! 🍹 ☀️ \nOn t’a sélectionné des humoristes de qualité avec quelques guests d’ici et d’ailleurs qui vont te régaler… \n– Entrée gratuite et sans réservation\n– 30 humoristes en alternance\n– Durée 1h
URL:https://genevabucketlist.com/agenda/caustic-sunset/2025-07-03/
LOCATION:La Canopée\, Quai Gustave-Ador\, Genève\, Genève\, 1200\, Suisse
ATTACH;FMTTYPE=application/pdf:https://genevabucketlist.com/wp-content/uploads/2025/06/Caustic.pdf
END:VEVENT
END:VCALENDAR