BEGIN:VCALENDAR
VERSION:2.0
PRODID:-//Genevabucketlist - ECPv6.15.20//NONSGML v1.0//EN
CALSCALE:GREGORIAN
METHOD:PUBLISH
X-WR-CALNAME:Genevabucketlist
X-ORIGINAL-URL:https://genevabucketlist.com
X-WR-CALDESC:Évènements pour Genevabucketlist
REFRESH-INTERVAL;VALUE=DURATION:PT1H
X-Robots-Tag:noindex
X-PUBLISHED-TTL:PT1H
BEGIN:VTIMEZONE
TZID:Europe/Paris
BEGIN:DAYLIGHT
TZOFFSETFROM:+0100
TZOFFSETTO:+0200
TZNAME:CEST
DTSTART:20240331T010000
END:DAYLIGHT
BEGIN:STANDARD
TZOFFSETFROM:+0200
TZOFFSETTO:+0100
TZNAME:CET
DTSTART:20241027T010000
END:STANDARD
BEGIN:DAYLIGHT
TZOFFSETFROM:+0100
TZOFFSETTO:+0200
TZNAME:CEST
DTSTART:20250330T010000
END:DAYLIGHT
BEGIN:STANDARD
TZOFFSETFROM:+0200
TZOFFSETTO:+0100
TZNAME:CET
DTSTART:20251026T010000
END:STANDARD
BEGIN:DAYLIGHT
TZOFFSETFROM:+0100
TZOFFSETTO:+0200
TZNAME:CEST
DTSTART:20260329T010000
END:DAYLIGHT
BEGIN:STANDARD
TZOFFSETFROM:+0200
TZOFFSETTO:+0100
TZNAME:CET
DTSTART:20261025T010000
END:STANDARD
END:VTIMEZONE
BEGIN:VEVENT
DTSTART;TZID=Europe/Paris:20250707T210000
DTEND;TZID=Europe/Paris:20250707T230000
DTSTAMP:20260419T144443
CREATED:20250205T082849Z
LAST-MODIFIED:20250205T082849Z
UID:10003688-1751922000-1751929200@genevabucketlist.com
SUMMARY:UEFA Women's EURO 2025
DESCRIPTION:Du 4 au 22 juillet 2025\, Genève accueillera des matchs passionnants du Championnat d’Europe féminin de l’UEFA. \nNe manquez pas cette occasion unique de vivre l’excitation des grands jeux dans l’une des plus belles villes d’Europe. \n\n\n\n\n\n\n\n\n\n\n\n\nLe Stade de Genève accueillera cinq matchs :\n\n\n\n\n\n\n\n\n-4 juillet 2025\n\n\n\n🇩🇰 Danemark contre 🇸🇪 Suède / L’événement commence à 18h00 \n\n\n\n\n\n-7 juillet 2025\n\n\n\n🇵🇹 Portugal contre 🇮🇹 Italie \nL’événement commence à 21h00 \n\n\n\n\n\n\n\n\n\n\n\n-10 juillet 2025\n\n\n\n\n\n\n\n\n\n\n\n🇫🇮 Finlande contre 🇨🇭Suisse \nL’événement commence à 21h00 \n\n\n\n\n\n-16 juillet 2025\n\n\n\nMatch de qualification\nQuart de finale 1 \n\n\n\n\n\n\n\n\n\n\n\n-22 juillet 2025\n\n\n\n\n\n\n\n\n\n\n\nMatch de qualification\nDemi-finale 1
URL:https://genevabucketlist.com/agenda/uefa-womens-euro-2025/2025-07-07/
LOCATION:Stade de Genève\, Rte des Jeunes 16\,\, Lancy\, 1212\, Suisse
ATTACH;FMTTYPE=image/png:https://genevabucketlist.com/wp-content/uploads/2025/02/UEFA-Womens-EURO-2025.png
END:VEVENT
BEGIN:VEVENT
DTSTART;TZID=Europe/Paris:20250707T210000
DTEND;TZID=Europe/Paris:20250707T233000
DTSTAMP:20260419T144443
CREATED:20250609T070124Z
LAST-MODIFIED:20250609T070124Z
UID:10004137-1751922000-1751931000@genevabucketlist.com
SUMMARY:Les Nocturnes de St-Pierre 2025
DESCRIPTION:La Cathédrale Saint-Pierre propose un accès aux tours pour admirer le panorama les soirées de pleine lune! \nDates \n\nlundi 9 juin     \nlundi 7 juillet\nlundi 11 août\nlundi 8 septembre\n\nde 21h00 à 23h30 \nPrix \nAdultes CHF 10.– \nJeunes (de 5 à 16 ans) CHF 5.– \nInformations \nL’accès aux tours s’effectue depuis l’intérieur. Profitez-en pour découvrir la Cathédrale ou la Chapelle des Macchabées avant de monter. \nEn cas de forte affluence\, le temps de visite au sommet de la tour nord peut être limité. \nNous vous demandons de ne pas stationner trop longtemps à un même lieu sur les coursives extérieures. Les trépieds pour appareil photo ne sont pas autorisés pour des raisons de sécurité. \nLes sacs à dos et bagages doivent être laissés en consigne auprès du gardien lors de l’achat des billets.
URL:https://genevabucketlist.com/agenda/les-nocturnes-de-st-pierre-2025/2025-07-07/
LOCATION:Cathédrale St-Pierre\, Cr de Saint-Pierre\, Genève\, Genève\, 1204\, Suisse
ATTACH;FMTTYPE=image/jpeg:https://genevabucketlist.com/wp-content/uploads/2025/06/Les-Nocturnes-de-St-Pierre-2025.jpeg
END:VEVENT
BEGIN:VEVENT
DTSTART;TZID=Europe/Paris:20250708T140000
DTEND;TZID=Europe/Paris:20250708T153000
DTSTAMP:20260419T144443
CREATED:20250708T065718Z
LAST-MODIFIED:20250708T065718Z
UID:10004263-1751983200-1751988600@genevabucketlist.com
SUMMARY:Ciné "Falcon Express"
DESCRIPTION:CinéBio \n1 hr 30 min\nDes animaux de compagnie\, piégés dans un train lancé à toute allure\, vont devoir déjouer les plans de Hans\, un blaireau rancunier en quête de vengeance. Alors que le crash semble inévitable\, les animaux peuvent compter sur Falcon\, un raton-laveur filou et débrouillard\, prêt à tout pour les sauver !
URL:https://genevabucketlist.com/agenda/cine-falcon-express/
LOCATION:Cinéma Bio\, Rue Saint-Joseph 47\, Carouge\, Genève\, 1227\, Suisse
ATTACH;FMTTYPE=image/jpeg:https://genevabucketlist.com/wp-content/uploads/2025/07/Cine-22Falcon-Express22.jpeg
END:VEVENT
END:VCALENDAR