BEGIN:VCALENDAR
VERSION:2.0
PRODID:-//Genevabucketlist - ECPv6.15.20//NONSGML v1.0//EN
CALSCALE:GREGORIAN
METHOD:PUBLISH
X-WR-CALNAME:Genevabucketlist
X-ORIGINAL-URL:https://genevabucketlist.com
X-WR-CALDESC:Évènements pour Genevabucketlist
REFRESH-INTERVAL;VALUE=DURATION:PT1H
X-Robots-Tag:noindex
X-PUBLISHED-TTL:PT1H
BEGIN:VTIMEZONE
TZID:Europe/Paris
BEGIN:DAYLIGHT
TZOFFSETFROM:+0100
TZOFFSETTO:+0200
TZNAME:CEST
DTSTART:20240331T010000
END:DAYLIGHT
BEGIN:STANDARD
TZOFFSETFROM:+0200
TZOFFSETTO:+0100
TZNAME:CET
DTSTART:20241027T010000
END:STANDARD
BEGIN:DAYLIGHT
TZOFFSETFROM:+0100
TZOFFSETTO:+0200
TZNAME:CEST
DTSTART:20250330T010000
END:DAYLIGHT
BEGIN:STANDARD
TZOFFSETFROM:+0200
TZOFFSETTO:+0100
TZNAME:CET
DTSTART:20251026T010000
END:STANDARD
BEGIN:DAYLIGHT
TZOFFSETFROM:+0100
TZOFFSETTO:+0200
TZNAME:CEST
DTSTART:20260329T010000
END:DAYLIGHT
BEGIN:STANDARD
TZOFFSETFROM:+0200
TZOFFSETTO:+0100
TZNAME:CET
DTSTART:20261025T010000
END:STANDARD
END:VTIMEZONE
BEGIN:VEVENT
DTSTART;TZID=Europe/Paris:20250714T183000
DTEND;TZID=Europe/Paris:20250714T230000
DTSTAMP:20260420T021714
CREATED:20250609T080713Z
LAST-MODIFIED:20250609T080713Z
UID:10004150-1752517800-1752534000@genevabucketlist.com
SUMMARY:Soirée Tango à La Chaloupe
DESCRIPTION:✨ Le tango fait son grand retour au bord de l’eau ! \nTous les lundis soirs\, laissez-vous emporter par la magie du tango argentin dans un cadre idyllique\, face au lac. \nUn rendez-vous pour les passionné·es de danse… et pour les curieux·ses en quête d’émotions\, de musique et de connexion. \n💃 Initiation gratuite de 18h30 à 19h30 – ouverte à toutes et tous\, sans inscription\n🕺 Milonga en plein air de 19h30 à 23h45 – ambiance élégante et détendue\n📍 Parc de la Perle du Lac – La Chaloupe à Vapeur \nVenez nombreux pour célébrer le retour du tango à La Chaloupe !
URL:https://genevabucketlist.com/agenda/soiree-tango-a-la-chaloupe/2025-07-14/
LOCATION:La Chaloupe à vapeur\, Perle du Lac - Rue de Lausanne 128\, Genève\, Genève\, 1202\, Suisse
ATTACH;FMTTYPE=image/png:https://genevabucketlist.com/wp-content/uploads/2025/06/Soiree-tango.png
END:VEVENT
BEGIN:VEVENT
DTSTART;TZID=Europe/Paris:20250714T210000
DTEND;TZID=Europe/Paris:20250714T223000
DTSTAMP:20260420T021714
CREATED:20250618T193331Z
LAST-MODIFIED:20250618T193331Z
UID:10004188-1752526800-1752532200@genevabucketlist.com
SUMMARY:Scène Ella Fitzgerald – Concerts d’été au Parc de la Grange
DESCRIPTION:La Scène Ella Fitzgerald revient pour sa programmation estivale ! Du 20 juin au 22 août 2025\, retrouve une série de concerts gratuits en plein air dans le cadre verdoyant du Parc de la Grange\, Genève \nAu programme : \n\n\nRap\, cumbia\, soul\, jazz\, funk\, pop et musique du monde. \n\n\nPlusieurs rendez-vous phares : Oxmo Puccino (4 juillet)\, L’Orchestre de Chambre (11 juillet)\, Ralphie Choo (18 juillet)\, Uzi Freyja (8 août)\, Burning Spear (13 août)\, et bien d’autres \n\nvoir le programme détaillé ICI\n\nAmbiance conviviale\, accessible à toutes et tous\, avec entrée libre \n👉 En plein air\, les concerts se tiennent quel que soit le temps (sauf en cas d’orage\, annulation possible). Plus d’infos et programme complet sur le site de la Ville de Genève. Culture estivale garantie ! 🎶
URL:https://genevabucketlist.com/agenda/scene-ella-fitzgerald-concerts-dete-au-parc-de-la-grange/2025-07-14/
LOCATION:Parc la Grange\, Avenue Alice-et-William-Favre 19\,\, Genève\, 1207\, Suisse
ATTACH;FMTTYPE=image/jpeg:https://genevabucketlist.com/wp-content/uploads/2025/06/Ella-Fitzgerald.jpeg
END:VEVENT
BEGIN:VEVENT
DTSTART;TZID=Europe/Paris:20250715T163000
DTEND;TZID=Europe/Paris:20250715T173000
DTSTAMP:20260420T021714
CREATED:20250715T071431Z
LAST-MODIFIED:20250715T071431Z
UID:10004267-1752597000-1752600600@genevabucketlist.com
SUMMARY:Miracle\, spectacle de rue
DESCRIPTION:Miracles à vendre dans votre ville ! \nÀ bord de leur triporteur\, Paco et Eugénie sillonnent le monde entier pour prodiguer leurs boniments. Profitez-en : ils ont la solution à tout… et des fou-rires plein les poches. \n« Miracle » réunit sous le même ciel les arts du clown\, du cirque et du chant. Petits et grandes croquent ensemble ce spectacle plein de poésie et d’humour\, qui réussit à pointer\, dans le mouvement de la vie\, de vrais petits miracles. \nPar la Cie Fada \nSpectacle dès 5 ans\, entrée libre sans réservation \nEn cas de pluie\, la représentation sera annulée; merci de consulter notre site internet si la météo est incertaine \n\n\n www.bernex.ch/agenda/-miracle–spectacle-de-rue-6216
URL:https://genevabucketlist.com/agenda/miracle-spectacle-de-rue/
LOCATION:Zone sportive du Signal\, Chemin du Signal 23\, Bernex\, Genève\, 1233\, Suisse
ATTACH;FMTTYPE=image/jpeg:https://genevabucketlist.com/wp-content/uploads/2024/06/4f93fa744ae641d1a72705754f10a278.base_.image_.jpg
END:VEVENT
BEGIN:VEVENT
DTSTART;TZID=Europe/Paris:20250716T193000
DTEND;TZID=Europe/Paris:20250716T203000
DTSTAMP:20260420T021714
CREATED:20250707T074011Z
LAST-MODIFIED:20250707T074011Z
UID:10004260-1752694200-1752697800@genevabucketlist.com
SUMMARY:CINÉMA EN PLEIN AIR – INSÉPARABLES
DESCRIPTION:Cet été encore\, préparez-vous à vivre une expérience cinématographique unique sous les étoiles !Des films cultes\, des comédies\, des classiques et bien plus encore… à découvrir gratuitement dans des lieux uniques de notre ville. \nLe temps d’une séance\, plongez dans une comédie aussi improbable qu’attendrissante avec le film « Inséparables ». \nQuand un homme d’affaires un peu trop sûr de lui croise la route d’un ex-taulard au grand cœur\, tout les oppose… et pourtant\, une amitié explosive va naître. Entre clashs\, malentendus et moments de complicité inattendus\, « Inséparables » vous emmène dans une aventure drôle et décalée\, où l’on découvre que les plus belles rencontres sont souvent celles qu’on n’attendait pas. Un duo hilarant\, des répliques percutantes\, et un regard tendre sur la fraternité et la seconde chance. \nDécouvrez la bande-annonce ICI\nAvec Ahmed Sylla\, Alban Ivanov et Judith El Zein \n📍 Piscine de Thônex\n📅 Mercredi 16 juillet\n⏰ Dès 19h30\, projection à 20h30 (durée 1h35)\n👛 Gratuit
URL:https://genevabucketlist.com/agenda/cinema-en-plein-air-inseparables/
LOCATION:Piscine de Thônex\, Chemin de Marcelly 8\, Thônex\, Suisse\, 1226\, Suisse
ATTACH;FMTTYPE=image/jpeg:https://genevabucketlist.com/wp-content/uploads/2025/07/Inseparables_750x450px.jpg
END:VEVENT
BEGIN:VEVENT
DTSTART;TZID=Europe/Paris:20250716T210000
DTEND;TZID=Europe/Paris:20250716T223000
DTSTAMP:20260420T021714
CREATED:20250618T193331Z
LAST-MODIFIED:20250618T193331Z
UID:10004189-1752699600-1752705000@genevabucketlist.com
SUMMARY:Scène Ella Fitzgerald – Concerts d’été au Parc de la Grange
DESCRIPTION:La Scène Ella Fitzgerald revient pour sa programmation estivale ! Du 20 juin au 22 août 2025\, retrouve une série de concerts gratuits en plein air dans le cadre verdoyant du Parc de la Grange\, Genève \nAu programme : \n\n\nRap\, cumbia\, soul\, jazz\, funk\, pop et musique du monde. \n\n\nPlusieurs rendez-vous phares : Oxmo Puccino (4 juillet)\, L’Orchestre de Chambre (11 juillet)\, Ralphie Choo (18 juillet)\, Uzi Freyja (8 août)\, Burning Spear (13 août)\, et bien d’autres \n\nvoir le programme détaillé ICI\n\nAmbiance conviviale\, accessible à toutes et tous\, avec entrée libre \n👉 En plein air\, les concerts se tiennent quel que soit le temps (sauf en cas d’orage\, annulation possible). Plus d’infos et programme complet sur le site de la Ville de Genève. Culture estivale garantie ! 🎶
URL:https://genevabucketlist.com/agenda/scene-ella-fitzgerald-concerts-dete-au-parc-de-la-grange/2025-07-16/
LOCATION:Parc la Grange\, Avenue Alice-et-William-Favre 19\,\, Genève\, 1207\, Suisse
ATTACH;FMTTYPE=image/jpeg:https://genevabucketlist.com/wp-content/uploads/2025/06/Ella-Fitzgerald.jpeg
END:VEVENT
BEGIN:VEVENT
DTSTART;TZID=Europe/Paris:20250716T210000
DTEND;TZID=Europe/Paris:20250716T230000
DTSTAMP:20260420T021714
CREATED:20250205T082849Z
LAST-MODIFIED:20250205T082849Z
UID:10003690-1752699600-1752706800@genevabucketlist.com
SUMMARY:UEFA Women's EURO 2025
DESCRIPTION:Du 4 au 22 juillet 2025\, Genève accueillera des matchs passionnants du Championnat d’Europe féminin de l’UEFA. \nNe manquez pas cette occasion unique de vivre l’excitation des grands jeux dans l’une des plus belles villes d’Europe. \n\n\n\n\n\n\n\n\n\n\n\n\nLe Stade de Genève accueillera cinq matchs :\n\n\n\n\n\n\n\n\n-4 juillet 2025\n\n\n\n🇩🇰 Danemark contre 🇸🇪 Suède / L’événement commence à 18h00 \n\n\n\n\n\n-7 juillet 2025\n\n\n\n🇵🇹 Portugal contre 🇮🇹 Italie \nL’événement commence à 21h00 \n\n\n\n\n\n\n\n\n\n\n\n-10 juillet 2025\n\n\n\n\n\n\n\n\n\n\n\n🇫🇮 Finlande contre 🇨🇭Suisse \nL’événement commence à 21h00 \n\n\n\n\n\n-16 juillet 2025\n\n\n\nMatch de qualification\nQuart de finale 1 \n\n\n\n\n\n\n\n\n\n\n\n-22 juillet 2025\n\n\n\n\n\n\n\n\n\n\n\nMatch de qualification\nDemi-finale 1
URL:https://genevabucketlist.com/agenda/uefa-womens-euro-2025/2025-07-16/
LOCATION:Stade de Genève\, Rte des Jeunes 16\,\, Lancy\, 1212\, Suisse
ATTACH;FMTTYPE=image/png:https://genevabucketlist.com/wp-content/uploads/2025/02/UEFA-Womens-EURO-2025.png
END:VEVENT
BEGIN:VEVENT
DTSTART;TZID=Europe/Paris:20250717T190000
DTEND;TZID=Europe/Paris:20250717T200000
DTSTAMP:20260420T021714
CREATED:20250630T063537Z
LAST-MODIFIED:20250630T063537Z
UID:10004233-1752778800-1752782400@genevabucketlist.com
SUMMARY:Caustic Sunset
DESCRIPTION:Le Caustic x La Canopée !\nSTAND-UP AU BORD DU LAC 💧 \nTous les jeudis à 19h tu as ta petite routine : spritz\, soleil et blagues au bordu pour bien commencer tes soirées… Et en plus c’est gratuit ! 🍹 ☀️ \nOn t’a sélectionné des humoristes de qualité avec quelques guests d’ici et d’ailleurs qui vont te régaler… \n– Entrée gratuite et sans réservation\n– 30 humoristes en alternance\n– Durée 1h
URL:https://genevabucketlist.com/agenda/caustic-sunset/2025-07-17/
LOCATION:La Canopée\, Quai Gustave-Ador\, Genève\, Genève\, 1200\, Suisse
ATTACH;FMTTYPE=application/pdf:https://genevabucketlist.com/wp-content/uploads/2025/06/Caustic.pdf
END:VEVENT
BEGIN:VEVENT
DTSTART;TZID=Europe/Paris:20250717T210000
DTEND;TZID=Europe/Paris:20250717T233000
DTSTAMP:20260420T021714
CREATED:20250707T081732Z
LAST-MODIFIED:20250707T081732Z
UID:10004261-1752786000-1752795000@genevabucketlist.com
SUMMARY:Lancy fait son cinéma "FLOW"
DESCRIPTION:Film d’animation\nTout public dès 8 ans\nDurée: 1h15 \nUn chat se réveille dans un univers envahi par l’eau où toute vie humaine semble avoir disparu. Il trouve refuge sur un bateau avec un groupe d’autres animaux. Mais s’entendre avec eux s’avère un défi encore plus grand que de surmonter sa peur de l’eau ! Tous devront désormais apprendre à surmonter leurs différences et à s’adapter au nouveau monde qui s’impose à eux. \nRéalisation : Gints Zilbalodis \nEn cas de conditions météorologiques défavorables (intempéries ou fortes chaleurs)\, l’événement peut être annulé ou reporté. \nCrédit photo : DR
URL:https://genevabucketlist.com/agenda/lancy-fait-son-cinema-flow/
LOCATION:Place de Pont-Rouge\, Place de Pont-Rouge\, Grand-Lancy\, 1212\, Suisse
ATTACH;FMTTYPE=image/jpeg:https://genevabucketlist.com/wp-content/uploads/2025/07/Flow.jpeg
END:VEVENT
END:VCALENDAR