BEGIN:VCALENDAR
VERSION:2.0
PRODID:-//Genevabucketlist - ECPv6.15.20//NONSGML v1.0//EN
CALSCALE:GREGORIAN
METHOD:PUBLISH
X-WR-CALNAME:Genevabucketlist
X-ORIGINAL-URL:https://genevabucketlist.com
X-WR-CALDESC:Évènements pour Genevabucketlist
REFRESH-INTERVAL;VALUE=DURATION:PT1H
X-Robots-Tag:noindex
X-PUBLISHED-TTL:PT1H
BEGIN:VTIMEZONE
TZID:Europe/Paris
BEGIN:DAYLIGHT
TZOFFSETFROM:+0100
TZOFFSETTO:+0200
TZNAME:CEST
DTSTART:20240331T010000
END:DAYLIGHT
BEGIN:STANDARD
TZOFFSETFROM:+0200
TZOFFSETTO:+0100
TZNAME:CET
DTSTART:20241027T010000
END:STANDARD
BEGIN:DAYLIGHT
TZOFFSETFROM:+0100
TZOFFSETTO:+0200
TZNAME:CEST
DTSTART:20250330T010000
END:DAYLIGHT
BEGIN:STANDARD
TZOFFSETFROM:+0200
TZOFFSETTO:+0100
TZNAME:CET
DTSTART:20251026T010000
END:STANDARD
BEGIN:DAYLIGHT
TZOFFSETFROM:+0100
TZOFFSETTO:+0200
TZNAME:CEST
DTSTART:20260329T010000
END:DAYLIGHT
BEGIN:STANDARD
TZOFFSETFROM:+0200
TZOFFSETTO:+0100
TZNAME:CET
DTSTART:20261025T010000
END:STANDARD
END:VTIMEZONE
BEGIN:VEVENT
DTSTART;TZID=Europe/Paris:20250814T213000
DTEND;TZID=Europe/Paris:20250817T233000
DTSTAMP:20260425T040635
CREATED:20250728T033708Z
LAST-MODIFIED:20250811T073310Z
UID:10004279-1755207000-1755473400@genevabucketlist.com
SUMMARY:CinéTransat
DESCRIPTION:CinéTransat revient en 2025 !du 10 juillet au 17 août à la Perle du Lac \nLes projections de CinéTransat ont lieu dans le parc public de la Perle du Lac à Genève\, et sont gratuites. \nElles sont accessibles à tou.te.s et sans réservation ! \nDébut des films à la tombée de la nuit\, entre 22h00 (mi-juillet) et 21h15 (fin août) . \nBuvette\, location de transats et animations dès 19h00. \nFin de la soirée vers minuit.
URL:https://genevabucketlist.com/agenda/cinetransat-3/
LOCATION:Parc de la perle du Lac\, Rue de Lausanne 120B\, Genève\, 1202\, Suisse
ATTACH;FMTTYPE=application/pdf:https://genevabucketlist.com/wp-content/uploads/2025/06/CineTransat2.pdf
END:VEVENT
BEGIN:VEVENT
DTSTART;TZID=Europe/Paris:20250815T210000
DTEND;TZID=Europe/Paris:20250815T223000
DTSTAMP:20260425T040635
CREATED:20250618T193331Z
LAST-MODIFIED:20250618T193331Z
UID:10004202-1755291600-1755297000@genevabucketlist.com
SUMMARY:Scène Ella Fitzgerald – Concerts d’été au Parc de la Grange
DESCRIPTION:La Scène Ella Fitzgerald revient pour sa programmation estivale ! Du 20 juin au 22 août 2025\, retrouve une série de concerts gratuits en plein air dans le cadre verdoyant du Parc de la Grange\, Genève \nAu programme : \n\n\nRap\, cumbia\, soul\, jazz\, funk\, pop et musique du monde. \n\n\nPlusieurs rendez-vous phares : Oxmo Puccino (4 juillet)\, L’Orchestre de Chambre (11 juillet)\, Ralphie Choo (18 juillet)\, Uzi Freyja (8 août)\, Burning Spear (13 août)\, et bien d’autres \n\nvoir le programme détaillé ICI\n\nAmbiance conviviale\, accessible à toutes et tous\, avec entrée libre \n👉 En plein air\, les concerts se tiennent quel que soit le temps (sauf en cas d’orage\, annulation possible). Plus d’infos et programme complet sur le site de la Ville de Genève. Culture estivale garantie ! 🎶
URL:https://genevabucketlist.com/agenda/scene-ella-fitzgerald-concerts-dete-au-parc-de-la-grange/2025-08-15/
LOCATION:Parc la Grange\, Avenue Alice-et-William-Favre 19\,\, Genève\, 1207\, Suisse
ATTACH;FMTTYPE=image/jpeg:https://genevabucketlist.com/wp-content/uploads/2025/06/Ella-Fitzgerald.jpeg
END:VEVENT
BEGIN:VEVENT
DTSTART;TZID=Europe/Paris:20250816T100000
DTEND;TZID=Europe/Paris:20250816T170000
DTSTAMP:20260425T040635
CREATED:20250814T071621Z
LAST-MODIFIED:20250814T071621Z
UID:10004299-1755338400-1755363600@genevabucketlist.com
SUMMARY:Fête des Fermes urbaines genevoises - Inauguration de la Ferme de Bernex
DESCRIPTION:Animations familles \nComme chaque année\, vous êtes conviées et conviés à la traditionnelle fête des Fermes Urbaines genevoises qui se tiendra à la Ferme de Bernex le 16 août 2025. \nRejoignez-nous pour inaugurer\, la nouvelle ferme urbaine de Genève et partez à la découverte de notre patrimoine agricole local 🚜🌽 \nAu programme\, découverte de la ferme\, animations en tous genres et restauration délicieuse.
URL:https://genevabucketlist.com/agenda/fete-des-fermes-urbaines-genevoises-inauguration-de-la-ferme-de-bernex/
LOCATION:Ferme Bernex\, Chem. des Molliers 3\, Genève\, 1233\, Suisse
ATTACH;FMTTYPE=image/jpeg:https://genevabucketlist.com/wp-content/uploads/2025/08/Fermes-bernex.jpeg
END:VEVENT
BEGIN:VEVENT
DTSTART;TZID=Europe/Paris:20250818T183000
DTEND;TZID=Europe/Paris:20250818T193000
DTSTAMP:20260425T040635
CREATED:20250630T214940Z
LAST-MODIFIED:20250818T061311Z
UID:10004318-1755541800-1755545400@genevabucketlist.com
SUMMARY:Concerts d’été à Saint‑Germain
DESCRIPTION:Chaque été\, les Concerts d’été à Saint-Germain animent la Vieille Ville au rythme de programmations musicales de grande qualité. Cette année encore\, nous posons nos valises dans l’église de Saint-Germain\, tous les dimanches et lundis du 6 juillet au 1er septembre 2025. Depuis toujours\, la musique fait partie du quotidien et\, en 2025\, nous vous proposons de remonter le temps encore plus loin\, jusqu’à la Grèce antique et ses instruments tombés en désuétude. Profitez d’une variété de répertoires\, du duo à l’ensemble de chambre\, en passant par le quatuor\, le quintette ou encore l’octuor.
URL:https://genevabucketlist.com/agenda/concerts-dete-a-saint%e2%80%91germain/2025-08-18/
LOCATION:Église Saint Germain\, Rue de Saint-Germain 2\, Genève\, Genève\, 1204\, Suisse
ATTACH;FMTTYPE=image/jpeg:https://genevabucketlist.com/wp-content/uploads/2025/06/52341867462_90055e19bd_o-scaled.jpg
END:VEVENT
BEGIN:VEVENT
DTSTART;TZID=Europe/Paris:20250818T183000
DTEND;TZID=Europe/Paris:20250818T233000
DTSTAMP:20260425T040635
CREATED:20250818T051945Z
LAST-MODIFIED:20250818T051945Z
UID:10004303-1755541800-1755559800@genevabucketlist.com
SUMMARY:Soirée Tango à La Chaloupe
DESCRIPTION:✨ Le tango fait son grand retour au bord de l’eau ! \nTous les lundis soirs\, laissez-vous emporter par la magie du tango argentin dans un cadre idyllique\, face au lac. \nUn rendez-vous pour les passionné·es de danse… et pour les curieux·ses en quête d’émotions\, de musique et de connexion. \n💃 Initiation gratuite de 18h30 à 19h30 – ouverte à toutes et tous\, sans inscription\n🕺 Milonga en plein air de 19h30 à 23h45 – ambiance élégante et détendue\n📍 Parc de la Perle du Lac – La Chaloupe à Vapeur \nVenez nombreux pour célébrer le retour du tango à La Chaloupe ! \n\n\n www.labarje.ch
URL:https://genevabucketlist.com/agenda/soiree-tango-a-la-chaloupe-2/
LOCATION:Parc de la perle du Lac\, Rue de Lausanne 120B\, Genève\, 1202\, Suisse
ATTACH;FMTTYPE=image/jpeg:https://genevabucketlist.com/wp-content/uploads/2025/08/Image-5.jpeg
END:VEVENT
BEGIN:VEVENT
DTSTART;TZID=Europe/Paris:20250818T210000
DTEND;TZID=Europe/Paris:20250818T223000
DTSTAMP:20260425T040635
CREATED:20250618T193331Z
LAST-MODIFIED:20250618T193331Z
UID:10004203-1755550800-1755556200@genevabucketlist.com
SUMMARY:Scène Ella Fitzgerald – Concerts d’été au Parc de la Grange
DESCRIPTION:La Scène Ella Fitzgerald revient pour sa programmation estivale ! Du 20 juin au 22 août 2025\, retrouve une série de concerts gratuits en plein air dans le cadre verdoyant du Parc de la Grange\, Genève \nAu programme : \n\n\nRap\, cumbia\, soul\, jazz\, funk\, pop et musique du monde. \n\n\nPlusieurs rendez-vous phares : Oxmo Puccino (4 juillet)\, L’Orchestre de Chambre (11 juillet)\, Ralphie Choo (18 juillet)\, Uzi Freyja (8 août)\, Burning Spear (13 août)\, et bien d’autres \n\nvoir le programme détaillé ICI\n\nAmbiance conviviale\, accessible à toutes et tous\, avec entrée libre \n👉 En plein air\, les concerts se tiennent quel que soit le temps (sauf en cas d’orage\, annulation possible). Plus d’infos et programme complet sur le site de la Ville de Genève. Culture estivale garantie ! 🎶
URL:https://genevabucketlist.com/agenda/scene-ella-fitzgerald-concerts-dete-au-parc-de-la-grange/2025-08-18/
LOCATION:Parc la Grange\, Avenue Alice-et-William-Favre 19\,\, Genève\, 1207\, Suisse
ATTACH;FMTTYPE=image/jpeg:https://genevabucketlist.com/wp-content/uploads/2025/06/Ella-Fitzgerald.jpeg
END:VEVENT
BEGIN:VEVENT
DTSTART;TZID=Europe/Paris:20250819T200000
DTEND;TZID=Europe/Paris:20250819T233000
DTSTAMP:20260425T040635
CREATED:20250818T060336Z
LAST-MODIFIED:20250818T060336Z
UID:10004315-1755633600-1755646200@genevabucketlist.com
SUMMARY:Soirée Swing à la Chaloupe
DESCRIPTION:💃 Swing à la Chaloupe ! \nAmbiance rétro et énergie contagieuse tous les mardis à La Chaloupe !\nQue vous soyez fan de Lindy Hop ou simplement curieux·se\, venez danser dans un cadre magique au bord du lac. \n🎷 Initiation à 20h00 – 20h30\n💃 Soirée dansante de 20h30 à 23h45\n📍 Parc de la Perle du Lac – La Chaloupe à Vapeur \nA très vite ! \n\n\n www.labarje.ch
URL:https://genevabucketlist.com/agenda/soiree-swing-a-la-chaloupe/2025-08-19/
LOCATION:Parc de la perle du Lac\, Rue de Lausanne 120B\, Genève\, 1202\, Suisse
ATTACH;FMTTYPE=image/jpeg:https://genevabucketlist.com/wp-content/uploads/2025/08/Image-13.jpeg
END:VEVENT
END:VCALENDAR