BEGIN:VCALENDAR
VERSION:2.0
PRODID:-//Genevabucketlist - ECPv6.15.20//NONSGML v1.0//EN
CALSCALE:GREGORIAN
METHOD:PUBLISH
X-WR-CALNAME:Genevabucketlist
X-ORIGINAL-URL:https://genevabucketlist.com
X-WR-CALDESC:Évènements pour Genevabucketlist
REFRESH-INTERVAL;VALUE=DURATION:PT1H
X-Robots-Tag:noindex
X-PUBLISHED-TTL:PT1H
BEGIN:VTIMEZONE
TZID:Europe/Paris
BEGIN:DAYLIGHT
TZOFFSETFROM:+0100
TZOFFSETTO:+0200
TZNAME:CEST
DTSTART:20240331T010000
END:DAYLIGHT
BEGIN:STANDARD
TZOFFSETFROM:+0200
TZOFFSETTO:+0100
TZNAME:CET
DTSTART:20241027T010000
END:STANDARD
BEGIN:DAYLIGHT
TZOFFSETFROM:+0100
TZOFFSETTO:+0200
TZNAME:CEST
DTSTART:20250330T010000
END:DAYLIGHT
BEGIN:STANDARD
TZOFFSETFROM:+0200
TZOFFSETTO:+0100
TZNAME:CET
DTSTART:20251026T010000
END:STANDARD
BEGIN:DAYLIGHT
TZOFFSETFROM:+0100
TZOFFSETTO:+0200
TZNAME:CEST
DTSTART:20260329T010000
END:DAYLIGHT
BEGIN:STANDARD
TZOFFSETFROM:+0200
TZOFFSETTO:+0100
TZNAME:CET
DTSTART:20261025T010000
END:STANDARD
END:VTIMEZONE
BEGIN:VEVENT
DTSTART;TZID=Europe/Paris:20250826T200000
DTEND;TZID=Europe/Paris:20250826T233000
DTSTAMP:20260423T145523
CREATED:20250818T060336Z
LAST-MODIFIED:20250818T060336Z
UID:10004316-1756238400-1756251000@genevabucketlist.com
SUMMARY:Soirée Swing à la Chaloupe
DESCRIPTION:💃 Swing à la Chaloupe ! \nAmbiance rétro et énergie contagieuse tous les mardis à La Chaloupe !\nQue vous soyez fan de Lindy Hop ou simplement curieux·se\, venez danser dans un cadre magique au bord du lac. \n🎷 Initiation à 20h00 – 20h30\n💃 Soirée dansante de 20h30 à 23h45\n📍 Parc de la Perle du Lac – La Chaloupe à Vapeur \nA très vite ! \n\n\n www.labarje.ch
URL:https://genevabucketlist.com/agenda/soiree-swing-a-la-chaloupe/2025-08-26/
LOCATION:Parc de la perle du Lac\, Rue de Lausanne 120B\, Genève\, 1202\, Suisse
ATTACH;FMTTYPE=image/jpeg:https://genevabucketlist.com/wp-content/uploads/2025/08/Image-13.jpeg
END:VEVENT
END:VCALENDAR