BEGIN:VCALENDAR
VERSION:2.0
PRODID:-//Genevabucketlist - ECPv6.15.20//NONSGML v1.0//EN
CALSCALE:GREGORIAN
METHOD:PUBLISH
X-WR-CALNAME:Genevabucketlist
X-ORIGINAL-URL:https://genevabucketlist.com
X-WR-CALDESC:Évènements pour Genevabucketlist
REFRESH-INTERVAL;VALUE=DURATION:PT1H
X-Robots-Tag:noindex
X-PUBLISHED-TTL:PT1H
BEGIN:VTIMEZONE
TZID:Europe/Paris
BEGIN:DAYLIGHT
TZOFFSETFROM:+0100
TZOFFSETTO:+0200
TZNAME:CEST
DTSTART:20240331T010000
END:DAYLIGHT
BEGIN:STANDARD
TZOFFSETFROM:+0200
TZOFFSETTO:+0100
TZNAME:CET
DTSTART:20241027T010000
END:STANDARD
BEGIN:DAYLIGHT
TZOFFSETFROM:+0100
TZOFFSETTO:+0200
TZNAME:CEST
DTSTART:20250330T010000
END:DAYLIGHT
BEGIN:STANDARD
TZOFFSETFROM:+0200
TZOFFSETTO:+0100
TZNAME:CET
DTSTART:20251026T010000
END:STANDARD
BEGIN:DAYLIGHT
TZOFFSETFROM:+0100
TZOFFSETTO:+0200
TZNAME:CEST
DTSTART:20260329T010000
END:DAYLIGHT
BEGIN:STANDARD
TZOFFSETFROM:+0200
TZOFFSETTO:+0100
TZNAME:CET
DTSTART:20261025T010000
END:STANDARD
END:VTIMEZONE
BEGIN:VEVENT
DTSTART;TZID=Europe/Paris:20250826T200000
DTEND;TZID=Europe/Paris:20250826T233000
DTSTAMP:20260423T191743
CREATED:20250818T060336Z
LAST-MODIFIED:20250818T060336Z
UID:10004316-1756238400-1756251000@genevabucketlist.com
SUMMARY:Soirée Swing à la Chaloupe
DESCRIPTION:💃 Swing à la Chaloupe ! \nAmbiance rétro et énergie contagieuse tous les mardis à La Chaloupe !\nQue vous soyez fan de Lindy Hop ou simplement curieux·se\, venez danser dans un cadre magique au bord du lac. \n🎷 Initiation à 20h00 – 20h30\n💃 Soirée dansante de 20h30 à 23h45\n📍 Parc de la Perle du Lac – La Chaloupe à Vapeur \nA très vite ! \n\n\n www.labarje.ch
URL:https://genevabucketlist.com/agenda/soiree-swing-a-la-chaloupe/2025-08-26/
LOCATION:Parc de la perle du Lac\, Rue de Lausanne 120B\, Genève\, 1202\, Suisse
ATTACH;FMTTYPE=image/jpeg:https://genevabucketlist.com/wp-content/uploads/2025/08/Image-13.jpeg
END:VEVENT
BEGIN:VEVENT
DTSTART;TZID=Europe/Paris:20250828T080000
DTEND;TZID=Europe/Paris:20250828T170000
DTSTAMP:20260423T191743
CREATED:20250818T054206Z
LAST-MODIFIED:20250818T054454Z
UID:10004308-1756368000-1756400400@genevabucketlist.com
SUMMARY:Nocturne au MAMCO
DESCRIPTION:Chaque jeudi\, ouverture prolongée jusqu’à 22h \n\n\nChaque jeudi\, profitez d’une ouverture prolongée de l’exposition jusqu’à 22h accompagnée d’une offre conviviale et gourmande proposée par le bar éphémère Liaisons avec des plats à partager préparés par Florian Le Bouhec. Guides volants à votre disposition pour discuter dans l’exposition et visites flash de l’exposition à 19h (en français et en anglais). \n\n\nRéservations pour le dîner sur le compte Instagram @liaisonseauxvives ou par e-mail: order@mamco.ch
URL:https://genevabucketlist.com/agenda/nocturne-au-mamco-4/2025-08-28/
LOCATION:SOMA\, 32 Rue de l’Avenir\, Geneva\, 1207\, Suisse
ATTACH;FMTTYPE=image/jpeg:https://genevabucketlist.com/wp-content/uploads/2025/08/Image-9.jpeg
END:VEVENT
BEGIN:VEVENT
DTSTART;TZID=Europe/Paris:20250828T183000
DTEND;TZID=Europe/Paris:20250828T203000
DTSTAMP:20260423T191743
CREATED:20250825T055909Z
LAST-MODIFIED:20250825T055909Z
UID:10004333-1756405800-1756413000@genevabucketlist.com
SUMMARY:MÉLODIES SUR LES RIVES
DESCRIPTION:ANIMATION MUSICALE SUR L’ESPLANADE DU QUAI \nMUSIQUE SOUL-POP – DUO DE ONLY JAM \nBAR – PETITE RESTAURATION\nASSOCIATION POUR LES INTÉRÊTS DE LA COMMUNE DE CORSIER
URL:https://genevabucketlist.com/agenda/melodies-sur-les-rives/
LOCATION:Corsier\, Chemin Neuf\, Corsier\, 1246\, Suisse
ATTACH;FMTTYPE=image/jpeg:https://genevabucketlist.com/wp-content/uploads/2025/08/Image-20.jpeg
END:VEVENT
BEGIN:VEVENT
DTSTART;TZID=Europe/Paris:20250829T170000
DTEND;TZID=Europe/Paris:20250829T220000
DTSTAMP:20260423T191743
CREATED:20250818T064016Z
LAST-MODIFIED:20250818T064016Z
UID:10004323-1756486800-1756504800@genevabucketlist.com
SUMMARY:Festi’Terroir 2025
DESCRIPTION:Le grand festival de la vente directe et du bio revient pour une 7ème édition. \n\n\nFesti’Terroir revient pour une 7ème édition\, les 29\, 30 et 31 août au parc des Bastions.\nRetrouvez pour l’occasion plus de 90 stands en lien avec l’agriculture locale et l’alimentation durable. Grand marché de produits locaux et bio\, vous pourrez y retrouver toute la diversité et la richesse du terroir genevois et des productrices et producteurs qui y travaillent. \nAu programme\nVendredi 29 août – 17h-22h: domaines et caves\, distillerie\, brasseries\, producteurs de kéfirs\, limonades et hydromels ainsi que des stands de restauration et des concerts.\nSamedi 30 août – 10h-22h: grand marché (fruits\, légumes\, miel\, sirops\, pains\, fromages\, vin\, bière\, boissons sans alcool\, fleurs\, etc.)\, stands de restauration\, conférences\, animations pour enfants\, concerts.\nDimanche 31 août – 10h-17h: grand marché (fruits\, légumes\, miel\, sirops\, pains\, fromages\, vin\, bière\, boissons sans alcool\, fleurs\, etc.)\, stands de restauration\, conférences\, animations pour enfants\, concerts. \nPlus d’infos\nListe des participants et infos complètes: festiterroir.ch
URL:https://genevabucketlist.com/agenda/festiterroir-2025/2025-08-29/
LOCATION:Parc des Bastions\, Promenade des Bastions 1\, Genève\, Genève\, 1204\, Suisse
ATTACH;FMTTYPE=image/jpeg:https://genevabucketlist.com/wp-content/uploads/2025/08/Image-15.jpeg
END:VEVENT
BEGIN:VEVENT
DTSTART;TZID=Europe/Paris:20250829T180000
DTEND;TZID=Europe/Paris:20250829T220000
DTSTAMP:20260423T191743
CREATED:20250829T062551Z
LAST-MODIFIED:20250829T071414Z
UID:10004335-1756490400-1756504800@genevabucketlist.com
SUMMARY:Vogue de Satigny
DESCRIPTION:Rejoignez-nous pour un week-end inoubliable rempli d’activités pour tous les âges ! \n\nVendredi 29 août dès 18h :\n\nAfterwork « La Voguette » de 18h à 22h \n\nProfitez de la musique\, du bar\, de petites restaurations et des bateaux\n\nSamedi 30 août dès 11h : \n\n\nDifférents stands de nourriture \n\n\nDe 11h à 18h : maquillage\, tatouage\, châteaux gonflables\, petits chevaux en bois\, rodéo mécanique\, tire à la carabine\, lancer de hache et encore d’autres activités \n\n\nDe 18h à 22h : Blind Test pour enfants et adultes \n\n\nEt à partir de 22h : Soirée avec un DJ du Village du Soir \n\n\n\nOù ? \n\n\nComplexe Communal de Satigny \n\n\nRampe de Choully 17 \n\n\n1242 Satigny
URL:https://genevabucketlist.com/agenda/vogue-de-satigny/2025-08-29/
LOCATION:Complexe Communal de Satigny\, Rampe de Choully 17\, satigny\, 1242\, Suisse
ATTACH;FMTTYPE=image/jpeg:https://genevabucketlist.com/wp-content/uploads/2025/08/Image.jpeg
END:VEVENT
BEGIN:VEVENT
DTSTART;TZID=Europe/Paris:20250829T180000
DTEND;TZID=Europe/Paris:20250829T220000
DTSTAMP:20260423T191743
CREATED:20250818T055526Z
LAST-MODIFIED:20250818T055526Z
UID:10004312-1756490400-1756504800@genevabucketlist.com
SUMMARY:La nuit des chauves-souris
DESCRIPTION:Stands scientifiques\, balades acoustiques\, conférences\, ateliers pour les enfants au Parc des Evaux \n\n\nToute une soirée dédiée aux chauves-souris? Il fallait bien ça\, tant il y a de choses à dire sur ces mammifères volants! \nLe temps d’une douce soirée d’été au Parc des Evaux\, laissez-vous émerveiller en compagnie de spécialistes des chauves-souris impatients et impatientes de vous transmettre leur passion. \n* PROGRAMME *\nDans la salle évènementielle des Evaux et sur sa terrasse:\nTous publics\n• Conférence sur les chauves-souris (19h\, 20h et 21h)\nTout savoir sur ces espèces mammifères et sur la lumière qui les menace\n• Je vole donc je suis…?\nZoom sur l’évolution des chauves-souris\n• Voir avec les oreilles\nLes secrets de l’écholocalisation\n• Régime alimentaire\nFace à une chauve-souris affamée\, les insectes se carapatent!\n• Études scientifiques\nLes différentes méthodes pour étudier des animaux nocturnes et inaudibles\n• La protection des chauves-souris\nEt si on les favorisait à la maison?\n• Chauves-souris en difficulté\nComment le centre de soins ARBOR les prend en charge?\n• La taxidermie dévoilée\nComment préserver et présenter les animaux naturalisés?\n• Parc des Evaux\nComment favoriser la nature dans le Parc?\nPour les enfants\n• Bingo: 18h30\, 19h15\, 20h00\n• Atelier masque de chauves-souris \nDans le parc: \nPour les enfants\n• Parcours d’orientation: 18h00 – 20h00\nRemise des prix à 20h45 \nTous publics\n• Balades acoustiques: Toutes les 30 min dès 20h30\, inscription sur place \nBuvette toute la soirée et restaurant à proximité. \nInformations pratiques:\nAccès: Salle évènementielle des Evaux (Restaurant des Evaux) Centre intercommunal de sports\, loisirs et nature des Evaux\, 110 chemin François-Chavaz 1213 Onex\nOrganisation: CCO-Genève avec le Muséum d’histoire naturelle de la Ville de Genève.\nEn partenariat avec la Fondation des Evaux et le Restaurant des Evaux.
URL:https://genevabucketlist.com/agenda/la-nuit-des-chauves-souris/
LOCATION:Centre intercommunal de sports\, loisirs et nature des Evaux\, Chemin François-CHAVAZ 110\, Onex\, 1213\, Suisse
ATTACH;FMTTYPE=image/jpeg:https://genevabucketlist.com/wp-content/uploads/2025/08/Image-11.jpeg
END:VEVENT
BEGIN:VEVENT
DTSTART;TZID=Europe/Paris:20250829T180000
DTEND;TZID=Europe/Paris:20250829T223000
DTSTAMP:20260423T191743
CREATED:20250829T064024Z
LAST-MODIFIED:20250829T064024Z
UID:10004337-1756490400-1756506600@genevabucketlist.com
SUMMARY:Le Foustival
DESCRIPTION:Une fête pas très sage… mais pleine de sens. \nOn s’est dit qu’un simple apéro ne suffirait pas. Alors ils ont inventés le Foustival.\nPour célébrer les 10 ans de la reprise associative de La Bretelle\, ce bar mythique qui tient debout grâce à l’énergie de tout un quartier et à l’amour des gens qui y passent — et y repassent. \nCe week-end\, on fête un lieu\, des idées\, des galères (aussi)\, et surtout des liens : ceux qu’on tisse avec les artistes\, les voisin·es\, les potes\, les inconnu·es\, les curieux·ses\, les acharné·es de la vie culturelle et les fêtard·es du vendredi soir. \nLe Foustival\, c’est notre manière de dire : le quartier compte\, la culture compte\, et vous aussi. \nPour ses 10 ans\, l’association Les Amis de la Bretelle lance une ribambelle d’événements festifs qui célèbrent la vie culturelle et les liens qui font vibrer le quartier de Saint-Gervais. \nConcert au chapeau : comment ça marche ?\nIci\, pas de billet d’entrée\, mais une participation libre et consciente. Les artistes jouent avec talent\, énergie et passion — leur travail mérite rémunération. Le prix libre n’est pas gratuit… il est solidaire.\nVous donnez ce que vous pouvez. Un peu plus si vous le pouvez. C’est ce qui permet à toutes et tous d’accéder à la culture\, et aux artistes de vivre de leur art. Merci pour votre générosité — elle fait toute la différence.
URL:https://genevabucketlist.com/agenda/le-foustival/2025-08-29/
LOCATION:Saint-Jean\, Av. des Tilleuls 19\, Genève\, Genève\, 1203\, Suisse
ATTACH;FMTTYPE=image/jpeg:https://genevabucketlist.com/wp-content/uploads/2025/08/Image-1.jpeg
END:VEVENT
BEGIN:VEVENT
DTSTART;TZID=Europe/Paris:20250829T190000
DTEND;TZID=Europe/Paris:20250829T233000
DTSTAMP:20260423T191743
CREATED:20250801T123353Z
LAST-MODIFIED:20250801T123353Z
UID:10004290-1756494000-1756510200@genevabucketlist.com
SUMMARY:La Vogue de Carouge
DESCRIPTION:Traditionnelle Vogue de Carouge\, place de Sardaigne\, mail des Promenades et parc Cottier\n29/08/2025 – 31/08/2025\n\n\n\n\n\n\n\n\n\n\n\n\n\n\n\nSous le chapiteau\, animation\, concert\, orchestre et danse.\nForains\, stands artisans autour du chapiteau.\nParc Cottier\, espace Pt’it Loups\, espace enfants et parents\, ateliers peintures\, maquillage\,\nspectacle pour enfants. \nHoraires\nVendredi 19h – 02h00\nSamedi 11h – 02h00\nDimanche 10h30 – 02h00
URL:https://genevabucketlist.com/agenda/la-vogue-de-carouge/2025-08-29/
LOCATION:Carouge\, place du Marché\, Carouge\, Genève\, 1227\, Suisse
ATTACH;FMTTYPE=image/jpeg:https://genevabucketlist.com/wp-content/uploads/2025/08/Vogue-carouge.jpeg
END:VEVENT
END:VCALENDAR