BEGIN:VCALENDAR
VERSION:2.0
PRODID:-//Genevabucketlist - ECPv6.15.20//NONSGML v1.0//EN
CALSCALE:GREGORIAN
METHOD:PUBLISH
X-WR-CALNAME:Genevabucketlist
X-ORIGINAL-URL:https://genevabucketlist.com
X-WR-CALDESC:Évènements pour Genevabucketlist
REFRESH-INTERVAL;VALUE=DURATION:PT1H
X-Robots-Tag:noindex
X-PUBLISHED-TTL:PT1H
BEGIN:VTIMEZONE
TZID:Europe/Paris
BEGIN:DAYLIGHT
TZOFFSETFROM:+0100
TZOFFSETTO:+0200
TZNAME:CEST
DTSTART:20240331T010000
END:DAYLIGHT
BEGIN:STANDARD
TZOFFSETFROM:+0200
TZOFFSETTO:+0100
TZNAME:CET
DTSTART:20241027T010000
END:STANDARD
BEGIN:DAYLIGHT
TZOFFSETFROM:+0100
TZOFFSETTO:+0200
TZNAME:CEST
DTSTART:20250330T010000
END:DAYLIGHT
BEGIN:STANDARD
TZOFFSETFROM:+0200
TZOFFSETTO:+0100
TZNAME:CET
DTSTART:20251026T010000
END:STANDARD
BEGIN:DAYLIGHT
TZOFFSETFROM:+0100
TZOFFSETTO:+0200
TZNAME:CEST
DTSTART:20260329T010000
END:DAYLIGHT
BEGIN:STANDARD
TZOFFSETFROM:+0200
TZOFFSETTO:+0100
TZNAME:CET
DTSTART:20261025T010000
END:STANDARD
END:VTIMEZONE
BEGIN:VEVENT
DTSTART;TZID=Europe/Paris:20250225T190000
DTEND;TZID=Europe/Paris:20250225T210000
DTSTAMP:20260420T172256
CREATED:20250211T080406Z
LAST-MODIFIED:20250211T080406Z
UID:10003730-1740510000-1740517200@genevabucketlist.com
SUMMARY:Loup Garou Géant
DESCRIPTION:🐺 Loup-Garou Géant 🌕🎲 \nRejoignez-nous chaque mardi pour une nuit d’intrigues et de mystères lors de notre Loup-Garou Géant ! 🌟 \n📍Bar Le Brise Glace\, Rue des Pâquis 4\, 1201 Genève\n🗓️ Chaque mardi\n🕒 19h\n💰 L’entrée est à seulement 10 CHF par personne et comprend une grande bière blonde ou blanche\, ou une boisson sans alcool équivalente. 🍺🎉\n📝 Pas de réservation – premier arrivé premier servi! ( places limitées) \nPlongez-vous dans une ambiance envoûtante et stratégique où chaque décision compte. Découvrez qui parmi vos amis est un loup-garou affamé de nuit ou un villageois innocent en quête de survie. Cette soirée ludique et immersive vous promet des émotions fortes et des moments inoubliables !\n🌕🎲 Rejoignez-nous pour une soirée de jeu\, de suspense et de camaraderie\, dans une atmosphère conviviale et divertissante. 🔥🐺
URL:https://genevabucketlist.com/agenda/loup-garou-geant/2025-02-25/
LOCATION:Bar Le Brise Glace\, Rue des Pâquis 4\, Genève\, 1201\, Suisse
ATTACH;FMTTYPE=image/jpeg:https://genevabucketlist.com/wp-content/uploads/2025/02/Loup-garou.jpeg
END:VEVENT
BEGIN:VEVENT
DTSTART;TZID=Europe/Paris:20250226T180000
DTEND;TZID=Europe/Paris:20250226T200000
DTSTAMP:20260420T172256
CREATED:20250204T194810Z
LAST-MODIFIED:20250204T194810Z
UID:10003683-1740592800-1740600000@genevabucketlist.com
SUMMARY:Nages de nuit
DESCRIPTION:Venez partager avec nous le plaisir de la nage en eau froide et de nuit dans une ambiance pas comme les autres! \nLes Bains vous offrent à boire et à manger pour vous réchauffer et mettent à disposition des sauveteurs. \n 
URL:https://genevabucketlist.com/agenda/nages-de-nuit/2025-02-26/
LOCATION:Bains des Paquis\, Quai du Mont-Blanc 30\, Genève\, Genève\, 1201\, Suisse
ATTACH;FMTTYPE=image/jpeg:https://genevabucketlist.com/wp-content/uploads/2025/02/Nages-de-nut.jpeg
END:VEVENT
BEGIN:VEVENT
DTSTART;TZID=Europe/Paris:20250227T180000
DTEND;TZID=Europe/Paris:20250227T210000
DTSTAMP:20260420T172256
CREATED:20250217T071640Z
LAST-MODIFIED:20250217T071730Z
UID:10003738-1740679200-1740690000@genevabucketlist.com
SUMMARY:Jeudi soir au MAH
DESCRIPTION:Le jeudi soir\, c’est au MAH qu’il faut être ! \nDe 18h à 21h\, le musée propose différents événements permettant de (re)découvrir la collection et les expositions temporaires dans une atmosphère privilégiée\, tout en prenant un verre entre amis au restaurant Le Barocco. \nAfterworks\, inaugurations\, soirées « carte blanche »\, visites décalées ou thématiques\, concerts… Le MAH a pour objectif de vous surprendre à chacune de ces nocturnes et de vous offrir d’agréables moments.
URL:https://genevabucketlist.com/agenda/jeudi-soir-au-mah/2025-02-27/
LOCATION:MAH\, Rue Charles-Galland 2\, Genève\, Genève\, 1206\, Suisse
ATTACH;FMTTYPE=image/webp:https://genevabucketlist.com/wp-content/uploads/2024/05/211104_Afterwork-2-sur-179.jpg-scaled.webp
END:VEVENT
BEGIN:VEVENT
DTSTART;TZID=Europe/Paris:20250227T203000
DTEND;TZID=Europe/Paris:20250227T223000
DTSTAMP:20260420T172256
CREATED:20250225T124016Z
LAST-MODIFIED:20250225T124016Z
UID:10003768-1740688200-1740695400@genevabucketlist.com
SUMMARY:Festival Improfolies
DESCRIPTION:C’est le grand retour des Improfolies\, le grand festival international d’improvisation théâtrale organisé par la Fédération d’Improvisation Genevoise. \nSortez les paillettes et les néons\, en février c’est l’IMPROVISION 👩‍🎤 \n27.02 – LE GRAND GALA DE L’IMPROVISION\nEn ouverture du festival\, toutes les équipes présenteront leurs élements les plus charismatiques lors d’un match où vous\, public\, aurez le dernier mot !🕺 \n28.02 – IL ÉTAIT UNE FOIS L’IMPROVISION\nCette fois-ci\, on va voyager ! À l’occasion de l’Improvision\, les artistes raconteront simultanément 3 longues histoires\, teintées des cultures des 4 pays.🧳 \n01.03 – LA GRANDE FINALE DE L’IMPROVISION\nGrand feu d’artifice pour le dernier soir ! Un grand concours d’impro cabaret pour désigner l’ultime nation vainqueure de l’improvision ! 🎆 \n***\nCette année\, la FIG invite des équipe de Belgique\, de France et du Luxembourg pour trois beaux jours de fête et d’impro ⭐️ \nFRANCE\nVenus de la galaxie parisienne\, Impronet représentera la France 🇫🇷 \nSUISSE\nComme à Bâle\, on jouera à domicile ! La Suisse sera représentée par la Fédération d’Improvisation Genevoise 🇨🇭 \nBELGIQUE\nÀ Namur\, on sait chanter et jouer ! Les Oh My God seront à Genève pour représenter la Belgique 🇧🇪 \nLUXEMBOURG\nLa Fédération Luxembourgeoise d’improvisation fait le déplacement\, pour montrer qu’eux aussi\, ils ont la classe en tenue de gala 🇱🇺 \n📍 Théâtre de la Madeleine\n⌚️ Ouverture des portes : 19H30 / Spectacle : 20H30
URL:https://genevabucketlist.com/agenda/festival-improfolies/2025-02-27/
LOCATION:Salle Centrale Madeleine\, Rue de la Madeleine 10\, Genève\, Genève\, 1204\, Suisse
ATTACH;FMTTYPE=image/png:https://genevabucketlist.com/wp-content/uploads/2025/02/Festival-Improfolies.png
END:VEVENT
BEGIN:VEVENT
DTSTART;TZID=Europe/Paris:20250228T203000
DTEND;TZID=Europe/Paris:20250228T223000
DTSTAMP:20260420T172256
CREATED:20250225T124016Z
LAST-MODIFIED:20250225T124016Z
UID:10003769-1740774600-1740781800@genevabucketlist.com
SUMMARY:Festival Improfolies
DESCRIPTION:C’est le grand retour des Improfolies\, le grand festival international d’improvisation théâtrale organisé par la Fédération d’Improvisation Genevoise. \nSortez les paillettes et les néons\, en février c’est l’IMPROVISION 👩‍🎤 \n27.02 – LE GRAND GALA DE L’IMPROVISION\nEn ouverture du festival\, toutes les équipes présenteront leurs élements les plus charismatiques lors d’un match où vous\, public\, aurez le dernier mot !🕺 \n28.02 – IL ÉTAIT UNE FOIS L’IMPROVISION\nCette fois-ci\, on va voyager ! À l’occasion de l’Improvision\, les artistes raconteront simultanément 3 longues histoires\, teintées des cultures des 4 pays.🧳 \n01.03 – LA GRANDE FINALE DE L’IMPROVISION\nGrand feu d’artifice pour le dernier soir ! Un grand concours d’impro cabaret pour désigner l’ultime nation vainqueure de l’improvision ! 🎆 \n***\nCette année\, la FIG invite des équipe de Belgique\, de France et du Luxembourg pour trois beaux jours de fête et d’impro ⭐️ \nFRANCE\nVenus de la galaxie parisienne\, Impronet représentera la France 🇫🇷 \nSUISSE\nComme à Bâle\, on jouera à domicile ! La Suisse sera représentée par la Fédération d’Improvisation Genevoise 🇨🇭 \nBELGIQUE\nÀ Namur\, on sait chanter et jouer ! Les Oh My God seront à Genève pour représenter la Belgique 🇧🇪 \nLUXEMBOURG\nLa Fédération Luxembourgeoise d’improvisation fait le déplacement\, pour montrer qu’eux aussi\, ils ont la classe en tenue de gala 🇱🇺 \n📍 Théâtre de la Madeleine\n⌚️ Ouverture des portes : 19H30 / Spectacle : 20H30
URL:https://genevabucketlist.com/agenda/festival-improfolies/2025-02-28/
LOCATION:Salle Centrale Madeleine\, Rue de la Madeleine 10\, Genève\, Genève\, 1204\, Suisse
ATTACH;FMTTYPE=image/png:https://genevabucketlist.com/wp-content/uploads/2025/02/Festival-Improfolies.png
END:VEVENT
BEGIN:VEVENT
DTSTART;TZID=Europe/Paris:20250301T100000
DTEND;TZID=Europe/Paris:20250301T110000
DTSTAMP:20260420T172256
CREATED:20250204T193650Z
LAST-MODIFIED:20250204T193718Z
UID:10003668-1740823200-1740826800@genevabucketlist.com
SUMMARY:Yoga aux Bains des Pâquis
DESCRIPTION:Avec vue sur le lac\, entre les platanes du phare une pause bien-être adaptée au rythme des saisons est proposée par Natachafaitduyoga une fois par semaine. Les séances\, bienveillantes\, régénérantes et accessibles à touxtes\, invitent à se relier avec l’état intérieur\, prendre soin de soi et se ressourcer. \nÀ travers le mouvement\, la respiration consciente et la méditation\, la pratique permet d’harmoniser l’organisme\, d’honorer le moment présent et d’augmenter son énergie vitale. Retour à la sensation\, réveil du corps\, libération du souffle\, et relaxation sont au programme avant ou après la baignade. \nTous les samedis\nD’octobre à  avril: 10h à 11h \nDe mai à septembre: 9h à 10h
URL:https://genevabucketlist.com/agenda/yoga-au-bains-des-paquis/2025-03-01/
LOCATION:Bains des Paquis\, Quai du Mont-Blanc 30\, Genève\, Genève\, 1201\, Suisse
ATTACH;FMTTYPE=image/jpeg:https://genevabucketlist.com/wp-content/uploads/2025/02/Yoga-au-bains-des-paquis.jpeg
END:VEVENT
BEGIN:VEVENT
DTSTART;TZID=Europe/Paris:20250301T100000
DTEND;TZID=Europe/Paris:20250301T170000
DTSTAMP:20260420T172256
CREATED:20250301T095226Z
LAST-MODIFIED:20250301T095226Z
UID:10003801-1740823200-1740848400@genevabucketlist.com
SUMMARY:Big Air sur la Butte
DESCRIPTION:Weekend hivernal plein d’adrénaline \n\n\n\n\n\n\nEvènement festif qui se déroule sur la butte de Plan-les-Ouates spécialement aménagée avec une piste de luge et un tremplin pour permettre aux participants de réaliser des sauts en bouée et des figures en l’air. Un airbag géant permet un atterrissage tout en douceur. \nAucune compétence particulière n’est requise mise à part l’envie de vivre une expérience unique pleine d’adrénaline. Des bouées gonflables sont fournies sur place \, mais les plus téméraires peuvent apporter leurs skis. \nPour plus de fun\, d’autres activités outdoor sont à découvrir durant l’ensemble du week-end. Au programme\, mur de grimpe et Ninja Parkour. \n\nInformations pratiques : \nDates: 1er et 2 mars 2025 de 10h à 17h \nGratuit\, inscription sur place \nLieu : Butte de Plan-les-Ouates – Chemin de la Butte\, 1228 Plan-les-Ouates \nÂge : dès 6 ans (minimum 25kg pour le big airbag) \nPetite restauration sur place: buvette avec snacks et tonneaux à fondue. \n\nRetour en images sur l’édition 2023
URL:https://genevabucketlist.com/agenda/big-air-sur-la-butte/2025-03-01/
LOCATION:Butte de Plan-les-Ouates\, Chemin de la Butte\, Plan-les-Ouates\, 1228\, Suisse
ATTACH;FMTTYPE=image/webp:https://genevabucketlist.com/wp-content/uploads/2025/03/BigAirsurlaButtedef.webp
END:VEVENT
BEGIN:VEVENT
DTSTART;TZID=Europe/Paris:20250301T150000
DTEND;TZID=Europe/Paris:20250301T170000
DTSTAMP:20260420T172256
CREATED:20250221T020639Z
LAST-MODIFIED:20250221T020709Z
UID:10003745-1740841200-1740848400@genevabucketlist.com
SUMMARY:La Bâtie des enfants en hiver
DESCRIPTION:La Bâtie des enfants vous attend avec vos bottes et vos doudounes pour vivre des moments inoubliables. \nJouer dans un orchestre avec des instruments recyclés\, faire du yoga\, créer des œuvres avec des éléments de la nature ou s’émerveiller face à un spectacle de cirque et de marionnettes \nEn plein air : des activités créatives et artistiques proposées dans le cadre de la Bâtie des enfants. \nTous les week-ends\, Jusqu’au 23 mars 2025\, venez développer votre imagination et vous imprégner de culture dans cet espace magique en pleine nature. \n\n\n\n\n 
URL:https://genevabucketlist.com/agenda/la-batie-des-enfants-en-hiver/2025-03-01/
LOCATION:Bois de la Bâtie\, Chem. de la Bâtie\, Genève\, 1202\, Suisse
ATTACH;FMTTYPE=image/png:https://genevabucketlist.com/wp-content/uploads/2025/02/1acef4_8c135f948d07449b95d8043beac9350bmv2.png
END:VEVENT
BEGIN:VEVENT
DTSTART;TZID=Europe/Paris:20250301T170000
DTEND;TZID=Europe/Paris:20250301T220000
DTSTAMP:20260420T172256
CREATED:20250224T082824Z
LAST-MODIFIED:20250224T082824Z
UID:10003754-1740848400-1740866400@genevabucketlist.com
SUMMARY:CinéPiscine
DESCRIPTION:CinéPiscine revient samedi 1er mars à la piscine du Lignon ! Cette 5e édition aura comme thématique l’aventure et l’exploration. À travers des histoires captivantes\, laissez-vous transporter vers des contrées lointaines et des découvertes extraordinaires. La programmation a été pensée pour éveiller la curiosité et l’imaginaire de tous les âges. \nHoraires\n\nSéance enfants : entrée à 17h\nSéance adultes : entrée à 20h\n\nBilletterie\nRéservation et vente de billets en ligne uniquement.\nBilletterie séance enfants\nBilletterie séance adultes \nTarifs\n\nEnfants (de 6 à 18 ans) : CHF 3.–*\nAdultes : CHF 6.–*\n\n*pas de tarifs spéciaux ni d’abonnement pour ces séances \nSéance enfants\nPlusieurs courts métrages d’animation sur la thématique « aventure et exploration ».\nDès 6 ans – Durée : environ 71 minutes\nEntrée dès 17h / sortie 19h \n\nDrôle d’oiseaux\nCharlie Belin | France | 2021 | 34:30\nEllie est passionnée par la nature et les oiseaux et passe son temps plongée dans des livres. Elle doit d’ailleurs absolument rendre un livre emprunté à la documentaliste du collège et décide alors de s’aventurer jusque chez elle\, à quelques kilomètres de là\, sur une île pleine d’oiseaux…\n\n\nLa grande histoire d’un petit trait\nAntoine Robert | France | 2016 | 07:26\nUn enfant en promenade découvre un petit trait qui traîne sur le chemin. Machinalement\, il le met dans sa poche\, l’oublie. Mais le trait est vivant! C’est le début d’une longue aventure commune.\nTête en l’air\nRémi Durin | Belgique\, France | 2023 | 11:00\nAlphonse\, un petit écureuil\, a toujours la tête dans les nuages. Il adore les contempler et parfois même les prendre en photo. Ni ses parents\, ni ses amis\, ne comprennent vraiment cette passion…\nMadagascar\, carnet de voyage\nBastien Dubois | France | 2008 | 12:00\nUne histoire racontée en carnet de voyage\, retraçant le parcours d’un voyageur occidental confronté aux diﬀérentes coutumes malgache. Les pages du carnet se tournent\, puis les dessins s’animent\, nous parcourons les paysages luxuriants de Madagascar avant d’être initié à la culture malgache.\nLuminaris\nJuan Pablo Zaramella | Argentine | 2011 | 06:20\nDans un monde contrôlé et minuté par la lumière\, un homme ordinaire met au point un plan qui pourrait changer le cours des choses …\n\nSéance adultes\nLa Vie Rêvée de Walter Mitty\nComédie dramatique américaine (2013)\, réalisée par Ben Stiller\, avec Ben Stiller\, Kristen Wiig et Shirley MacLaine\nTous publics – Durée : 114’\nEntrée dès 20h / sortie 22h30 \nWalter Mitty est un homme ordinaire\, enfermé dans son quotidien\, qui n’ose s’évader qu’à travers des rêves à la fois drôles et extravagants. Mais confronté à une difficulté dans sa vie professionnelle\, Walter doit trouver le courage de passer à l’action dans le monde réel. Il embarque alors dans un périple incroyable\, pour vivre une aventure bien plus riche que tout ce qu’il aurait pu imaginer jusqu’ici. Et qui devrait changer sa vie à jamais. \nAnimation en partenariat avec l’ABARC et Animatou.
URL:https://genevabucketlist.com/agenda/cinepiscine/
LOCATION:Piscine du Lignon\, Rte du Bois-des-Frères 30\, Genève\, Lignon\, 1219\, Suisse
ATTACH;FMTTYPE=image/webp:https://genevabucketlist.com/wp-content/uploads/2025/02/CinePiscine.webp
END:VEVENT
BEGIN:VEVENT
DTSTART;TZID=Europe/Paris:20250301T203000
DTEND;TZID=Europe/Paris:20250301T223000
DTSTAMP:20260420T172256
CREATED:20250225T124016Z
LAST-MODIFIED:20250225T124016Z
UID:10003770-1740861000-1740868200@genevabucketlist.com
SUMMARY:Festival Improfolies
DESCRIPTION:C’est le grand retour des Improfolies\, le grand festival international d’improvisation théâtrale organisé par la Fédération d’Improvisation Genevoise. \nSortez les paillettes et les néons\, en février c’est l’IMPROVISION 👩‍🎤 \n27.02 – LE GRAND GALA DE L’IMPROVISION\nEn ouverture du festival\, toutes les équipes présenteront leurs élements les plus charismatiques lors d’un match où vous\, public\, aurez le dernier mot !🕺 \n28.02 – IL ÉTAIT UNE FOIS L’IMPROVISION\nCette fois-ci\, on va voyager ! À l’occasion de l’Improvision\, les artistes raconteront simultanément 3 longues histoires\, teintées des cultures des 4 pays.🧳 \n01.03 – LA GRANDE FINALE DE L’IMPROVISION\nGrand feu d’artifice pour le dernier soir ! Un grand concours d’impro cabaret pour désigner l’ultime nation vainqueure de l’improvision ! 🎆 \n***\nCette année\, la FIG invite des équipe de Belgique\, de France et du Luxembourg pour trois beaux jours de fête et d’impro ⭐️ \nFRANCE\nVenus de la galaxie parisienne\, Impronet représentera la France 🇫🇷 \nSUISSE\nComme à Bâle\, on jouera à domicile ! La Suisse sera représentée par la Fédération d’Improvisation Genevoise 🇨🇭 \nBELGIQUE\nÀ Namur\, on sait chanter et jouer ! Les Oh My God seront à Genève pour représenter la Belgique 🇧🇪 \nLUXEMBOURG\nLa Fédération Luxembourgeoise d’improvisation fait le déplacement\, pour montrer qu’eux aussi\, ils ont la classe en tenue de gala 🇱🇺 \n📍 Théâtre de la Madeleine\n⌚️ Ouverture des portes : 19H30 / Spectacle : 20H30
URL:https://genevabucketlist.com/agenda/festival-improfolies/2025-03-01/
LOCATION:Salle Centrale Madeleine\, Rue de la Madeleine 10\, Genève\, Genève\, 1204\, Suisse
ATTACH;FMTTYPE=image/png:https://genevabucketlist.com/wp-content/uploads/2025/02/Festival-Improfolies.png
END:VEVENT
BEGIN:VEVENT
DTSTART;TZID=Europe/Paris:20250302T100000
DTEND;TZID=Europe/Paris:20250302T170000
DTSTAMP:20260420T172256
CREATED:20250301T095226Z
LAST-MODIFIED:20250301T095226Z
UID:10003802-1740909600-1740934800@genevabucketlist.com
SUMMARY:Big Air sur la Butte
DESCRIPTION:Weekend hivernal plein d’adrénaline \n\n\n\n\n\n\nEvènement festif qui se déroule sur la butte de Plan-les-Ouates spécialement aménagée avec une piste de luge et un tremplin pour permettre aux participants de réaliser des sauts en bouée et des figures en l’air. Un airbag géant permet un atterrissage tout en douceur. \nAucune compétence particulière n’est requise mise à part l’envie de vivre une expérience unique pleine d’adrénaline. Des bouées gonflables sont fournies sur place \, mais les plus téméraires peuvent apporter leurs skis. \nPour plus de fun\, d’autres activités outdoor sont à découvrir durant l’ensemble du week-end. Au programme\, mur de grimpe et Ninja Parkour. \n\nInformations pratiques : \nDates: 1er et 2 mars 2025 de 10h à 17h \nGratuit\, inscription sur place \nLieu : Butte de Plan-les-Ouates – Chemin de la Butte\, 1228 Plan-les-Ouates \nÂge : dès 6 ans (minimum 25kg pour le big airbag) \nPetite restauration sur place: buvette avec snacks et tonneaux à fondue. \n\nRetour en images sur l’édition 2023
URL:https://genevabucketlist.com/agenda/big-air-sur-la-butte/2025-03-02/
LOCATION:Butte de Plan-les-Ouates\, Chemin de la Butte\, Plan-les-Ouates\, 1228\, Suisse
ATTACH;FMTTYPE=image/webp:https://genevabucketlist.com/wp-content/uploads/2025/03/BigAirsurlaButtedef.webp
END:VEVENT
BEGIN:VEVENT
DTSTART;TZID=Europe/Paris:20250302T150000
DTEND;TZID=Europe/Paris:20250302T170000
DTSTAMP:20260420T172256
CREATED:20250221T020639Z
LAST-MODIFIED:20250221T020709Z
UID:10003746-1740927600-1740934800@genevabucketlist.com
SUMMARY:La Bâtie des enfants en hiver
DESCRIPTION:La Bâtie des enfants vous attend avec vos bottes et vos doudounes pour vivre des moments inoubliables. \nJouer dans un orchestre avec des instruments recyclés\, faire du yoga\, créer des œuvres avec des éléments de la nature ou s’émerveiller face à un spectacle de cirque et de marionnettes \nEn plein air : des activités créatives et artistiques proposées dans le cadre de la Bâtie des enfants. \nTous les week-ends\, Jusqu’au 23 mars 2025\, venez développer votre imagination et vous imprégner de culture dans cet espace magique en pleine nature. \n\n\n\n\n 
URL:https://genevabucketlist.com/agenda/la-batie-des-enfants-en-hiver/2025-03-02/
LOCATION:Bois de la Bâtie\, Chem. de la Bâtie\, Genève\, 1202\, Suisse
ATTACH;FMTTYPE=image/png:https://genevabucketlist.com/wp-content/uploads/2025/02/1acef4_8c135f948d07449b95d8043beac9350bmv2.png
END:VEVENT
END:VCALENDAR