BEGIN:VCALENDAR
VERSION:2.0
PRODID:-//Genevabucketlist - ECPv6.15.20//NONSGML v1.0//EN
CALSCALE:GREGORIAN
METHOD:PUBLISH
X-WR-CALNAME:Genevabucketlist
X-ORIGINAL-URL:https://genevabucketlist.com
X-WR-CALDESC:Évènements pour Genevabucketlist
REFRESH-INTERVAL;VALUE=DURATION:PT1H
X-Robots-Tag:noindex
X-PUBLISHED-TTL:PT1H
BEGIN:VTIMEZONE
TZID:Europe/Paris
BEGIN:DAYLIGHT
TZOFFSETFROM:+0100
TZOFFSETTO:+0200
TZNAME:CEST
DTSTART:20240331T010000
END:DAYLIGHT
BEGIN:STANDARD
TZOFFSETFROM:+0200
TZOFFSETTO:+0100
TZNAME:CET
DTSTART:20241027T010000
END:STANDARD
BEGIN:DAYLIGHT
TZOFFSETFROM:+0100
TZOFFSETTO:+0200
TZNAME:CEST
DTSTART:20250330T010000
END:DAYLIGHT
BEGIN:STANDARD
TZOFFSETFROM:+0200
TZOFFSETTO:+0100
TZNAME:CET
DTSTART:20251026T010000
END:STANDARD
BEGIN:DAYLIGHT
TZOFFSETFROM:+0100
TZOFFSETTO:+0200
TZNAME:CEST
DTSTART:20260329T010000
END:DAYLIGHT
BEGIN:STANDARD
TZOFFSETFROM:+0200
TZOFFSETTO:+0100
TZNAME:CET
DTSTART:20261025T010000
END:STANDARD
END:VTIMEZONE
BEGIN:VEVENT
DTSTART;TZID=Europe/Paris:20250907T100000
DTEND;TZID=Europe/Paris:20250907T200000
DTSTAMP:20260424T175033
CREATED:20250828T164359Z
LAST-MODIFIED:20250828T164359Z
UID:10004334-1757239200-1757275200@genevabucketlist.com
SUMMARY:BIG BROCANTE DES HALLES
DESCRIPTION:Créateurs\, trésors vintage\, vibes d’été et street food → tout ce qu’on aime ! \nDes bonnes vibes\, des objets vintage qui racontent une histoire\, des créations originales à tomber\, et surtout – ici\, y’a de tout\, pour tout le monde ! \n🗓 Dimanche 7 septembre \nHeure : 10h à 20h \nLocation : Halles de la Jonction \n Entrée libre & ambiance assurée (Inscrivez-vous via le lien dans la bio) \nQue tu sois collectionneur·se\, curieux·se\, amateur·rice de bonnes affaires ou simplement à la recherche d’une ambiance cool : cet événement est fait pour toi ! \n Bar\, food trucks\, bonne vibes et rencontres garanties.\n Ramène tes potes\, ta famille\, ou viens solo – y’a toujours du monde avec qui papoter. \n Tu veux vendre ? Il reste peut-être des places pour exposer ton stand ! Contactez-nous via notre e-mail : hello@halles-jonction.com \n\nÀ très vite aux Halles ! On attend plus que vos sourires!
URL:https://genevabucketlist.com/agenda/big-brocante-des-halles/
LOCATION:Les Halles de la Jonction\, Av. de la Jonction\, Genève\, 1205\, Suisse
ATTACH;FMTTYPE=image/jpeg:https://genevabucketlist.com/wp-content/uploads/2025/08/IMG_0831.jpg
END:VEVENT
BEGIN:VEVENT
DTSTART;TZID=Europe/Paris:20250907T110000
DTEND;TZID=Europe/Paris:20250907T180000
DTSTAMP:20260424T175033
CREATED:20250901T105020Z
LAST-MODIFIED:20250901T105020Z
UID:10004359-1757242800-1757268000@genevabucketlist.com
SUMMARY:JOURNÉE PORTES OUVERTES GTG
DESCRIPTION:Journée portes ouvertes \n\n\nEn famille ou en flâneur\, les portes vous sont grandes ouvertes. \n\n\nJournée portes ouvertes \nEn famille ou en flâneur\, les portes vous sont grandes ouvertes. \nC’est un rituel de début de saison au Grand Théâtre : portes et fenêtres ouvertes\, venez passer la tête dans l’entrebâillement cacophonique et dépoussiérez votre regard : on vous convie à une répétition du Chœurm une rencontre avec des danseurs et danseuse du Ballet\, à des ateliers pour enfants\, des visites pour adultes\, les parcours découvertes et techniques pour ceux qui veulent toujours tout savoir\, bref\, vous n’aurez pas assez de doigts pour compter tout ce que vous avez fait. \nAu programme:\nVisite de la scène\nRépétition du Ballet\nPrésentation de l’atelier costumes\nRépétition du Chœur\nAtelier de maquillage\nExpositions\nJeux pour enfants\nOffres spéciales\nDécouvrez la magie des coulisses ! \nInfos pratiques:\nDe 11h à 18h\nEntrée libre\nAu GTG
URL:https://genevabucketlist.com/agenda/journee-portes-ouvertes-gtg/
LOCATION:Grand Théâtre de Genève\, Place de Neuve 3\, Genève\, Genève\, 1204\, Suisse
END:VEVENT
BEGIN:VEVENT
DTSTART;TZID=Europe/Paris:20250908T110000
DTEND;TZID=Europe/Paris:20250913T200000
DTSTAMP:20260424T175033
CREATED:20250908T075848Z
LAST-MODIFIED:20250908T075848Z
UID:10004364-1757329200-1757793600@genevabucketlist.com
SUMMARY:Le bon plan de la semaine : Un menu gourmand avec des produits « De la région. »
DESCRIPTION:Cette semaine\, Migros Restaurant met Genève à l’honneur 🇨🇭 \nAu menu :🥗 Salade de tomme🍖 Saucisson poché avec gratin dauphinois & carottes🍎 Verrine à la pomme \n💰 Plat dès 9.90.- | Menu complet dès 16.90.-📍 Disponible dans les 5 restaurants Migros à Genève et Nyon \nUn repas local\, savoureux et convivial… à prix tout doux ✨
URL:https://genevabucketlist.com/agenda/le-bon-plan-de-la-semaine-un-menu-gourmand-avec-des-produits-de-la-region/
LOCATION:Les Migros Restaurants Genève
ATTACH;FMTTYPE=image/jpeg:https://genevabucketlist.com/wp-content/uploads/2025/09/Menu_DLR_S37_2025_Ecran_totem-1-e1757914672688.jpg
END:VEVENT
BEGIN:VEVENT
DTSTART;TZID=Europe/Paris:20250908T210000
DTEND;TZID=Europe/Paris:20250908T233000
DTSTAMP:20260424T175033
CREATED:20250609T070124Z
LAST-MODIFIED:20250609T070124Z
UID:10004139-1757365200-1757374200@genevabucketlist.com
SUMMARY:Les Nocturnes de St-Pierre 2025
DESCRIPTION:La Cathédrale Saint-Pierre propose un accès aux tours pour admirer le panorama les soirées de pleine lune! \nDates \n\nlundi 9 juin     \nlundi 7 juillet\nlundi 11 août\nlundi 8 septembre\n\nde 21h00 à 23h30 \nPrix \nAdultes CHF 10.– \nJeunes (de 5 à 16 ans) CHF 5.– \nInformations \nL’accès aux tours s’effectue depuis l’intérieur. Profitez-en pour découvrir la Cathédrale ou la Chapelle des Macchabées avant de monter. \nEn cas de forte affluence\, le temps de visite au sommet de la tour nord peut être limité. \nNous vous demandons de ne pas stationner trop longtemps à un même lieu sur les coursives extérieures. Les trépieds pour appareil photo ne sont pas autorisés pour des raisons de sécurité. \nLes sacs à dos et bagages doivent être laissés en consigne auprès du gardien lors de l’achat des billets.
URL:https://genevabucketlist.com/agenda/les-nocturnes-de-st-pierre-2025/2025-09-08/
LOCATION:Cathédrale St-Pierre\, Cr de Saint-Pierre\, Genève\, Genève\, 1204\, Suisse
ATTACH;FMTTYPE=image/jpeg:https://genevabucketlist.com/wp-content/uploads/2025/06/Les-Nocturnes-de-St-Pierre-2025.jpeg
END:VEVENT
BEGIN:VEVENT
DTSTART;TZID=Europe/Paris:20250912T183000
DTEND;TZID=Europe/Paris:20250912T230000
DTSTAMP:20260424T175033
CREATED:20250912T083005Z
LAST-MODIFIED:20250912T083005Z
UID:10004377-1757701800-1757718000@genevabucketlist.com
SUMMARY:Festival: Les murs du son
DESCRIPTION:Festival organisé par les groupes et l’association l’Enclume avec le soutien de la maison de quartier de Carouge\, l’équipe TSHM et la Ville de Carouge. \nCe festival permet aux jeunes musicien.nes de Carouge de se représenter une fois par an sur scène.
URL:https://genevabucketlist.com/agenda/festival-les-murs-du-son/2025-09-12/
LOCATION:Pl. du Temple\, Pl. du Temple\, Carouge\, 1227\, Suisse
ATTACH;FMTTYPE=image/jpeg:https://genevabucketlist.com/wp-content/uploads/2025/09/Image-19.jpeg
END:VEVENT
BEGIN:VEVENT
DTSTART;TZID=Europe/Paris:20250912T193000
DTEND;TZID=Europe/Paris:20250912T203000
DTSTAMP:20260424T175033
CREATED:20250912T082445Z
LAST-MODIFIED:20250912T082445Z
UID:10004375-1757705400-1757709000@genevabucketlist.com
SUMMARY:CONCERT ETOILES DU BAROQUE – ENSEMBLE BERNINI
DESCRIPTION:Consacré à la musique ancienne avec un esprit dynamique et novateur\, l’Ensemble Bernini met à l’honneur les compositrices et musiciennes du baroque italien. Francesca Caccini\, Barbara Strozzi\, Isabella Leonarda ou Chiara Margherita Cozzolani furent de vraies stars en leur temps\, mais restent encore trop peu connues aujourd’hui. Le concert fait résonner leurs œuvres vocales et instrumentales\, ainsi que celles inspirées par des femmes\, comme les muses de Monteverdi ou de Vivaldi. \nEntre sacré et profane\, ce voyage musical rend justice à ces créatrices éclipsées par l’histoire. Pour accompagner l’écoute\, la musicienne Laudine Dard – aussi autrice du podcast Les Reines de la Nuit – glissera quelques clés et anecdotes\, rendant l’expérience aussi vivante qu’accessible. \nENSEMBLE BERNINI\nCLÉMENT DAMI\, VIOLONCELLE – INÊS FLORES-BRASIL\, SOPRANO – CONSTANCE TAILLARD\, CLAVECIN GUILHERME BARROSO\, THÉORBE – AVEC LAUDINE DARD\, MÉDIATION \nDurée : env. 60 minutes. \nDétails: De Caccini à Strozzi: voix et muses oubliées du Seicento italien \n\n 
URL:https://genevabucketlist.com/agenda/concert-etoiles-du-baroque-ensemble-bernini/2025-09-12/
LOCATION:Genève
ATTACH;FMTTYPE=image/jpeg:https://genevabucketlist.com/wp-content/uploads/2025/09/Image-18.jpeg
END:VEVENT
BEGIN:VEVENT
DTSTART;TZID=Europe/Paris:20250912T210000
DTEND;TZID=Europe/Paris:20250912T223000
DTSTAMP:20260424T175033
CREATED:20250912T060333Z
LAST-MODIFIED:20250912T060333Z
UID:10004365-1757710800-1757716200@genevabucketlist.com
SUMMARY:Impro sur terrasse
DESCRIPTION:Une terrasse\, des verres\, des potes et un spectacle d’improvisation estival qui repoussera les limites de l’impossible (grosse promesse!). \nSur la scène extérieure de la Parfumerie\, six improvisateur·rice·x·s assurent le show en vous jouant des histoires inoubliables\, de quoi vous faire rire à vous déboîter les côtes (c’est une image\, personne ne touchera à votre intégrité physique!). \nDes scènes garanties 100% impro s’enchaîneront et s’inspireront des propositions du public. Préparez-vous à des surprises! \nInvitez vos ami·e·x·s et venez profiter d’une excellente soirée en extérieur dans un cadre magnifique\, avec foodtruck. \n🪩Et après le théâtre\, on profite de la fête à la Parfumerie avec DJ S (2k’s to 2k10’s)\, DJ Bu (All Style) et Dj RSPT (2k’s to 2k20’s) pour la dernière Graverie de l’été ! \n⚠️Fermeture des portes dès le début de l’improvisation théâtrale à 21h ⚠️ \n⚠️ Ré-ouverture des portes à 23h au début de la Graverie ⚠️ \n🥙🚚FoodTruck saveurs marocaines 🇲🇦 (@FéeDale) ouvert à partir de 19h 🕖\n🏎️MarioKart🏎️|🗺️GéoGuessr🗺️|🏓PingPong🏓|⚽BabyFoot⚽|🪵JengaGéant🪵|🎳Pétanque🎳|🎯Fléchettes🎯 \n⏰Horaires⏰\n🕖 19h – Ouverture de la terrasse de la Parf’\n🕗 21h – 22h30 🕑– Improvisation théâtrale\n🕚 23h – Ouverture dancing et début de la musique (entrée payante)\n🕔 05h30 – Fermeture \n💲Tarifs💲\n🤑 Gratuit de 19h à 21h\n🪙 15 Chf de 23h à 00h\n💸 20 Chf après 00h \nConditions dès 23h :\n🔞 18 ans révolus\n🪪 Pièce d’identité physique obligatoire\n🚫💻🖼️📱🚫Captures d’écran/Photos/Applications non acceptées
URL:https://genevabucketlist.com/agenda/impro-sur-terrasse-2/
LOCATION:La Parfumerie\, Chem. de la Gravière 7\, Genève\, 1227\, Suisse
ATTACH;FMTTYPE=image/jpeg:https://genevabucketlist.com/wp-content/uploads/2024/08/455153_2024-08-02-2-e1755755477116.jpg
END:VEVENT
BEGIN:VEVENT
DTSTART;TZID=Europe/Paris:20250913T190000
DTEND;TZID=Europe/Paris:20250913T233000
DTSTAMP:20260424T175033
CREATED:20250912T083005Z
LAST-MODIFIED:20250912T083005Z
UID:10004378-1757790000-1757806200@genevabucketlist.com
SUMMARY:Festival: Les murs du son
DESCRIPTION:Festival organisé par les groupes et l’association l’Enclume avec le soutien de la maison de quartier de Carouge\, l’équipe TSHM et la Ville de Carouge. \nCe festival permet aux jeunes musicien.nes de Carouge de se représenter une fois par an sur scène.
URL:https://genevabucketlist.com/agenda/festival-les-murs-du-son/2025-09-13/
LOCATION:Pl. du Temple\, Pl. du Temple\, Carouge\, 1227\, Suisse
ATTACH;FMTTYPE=image/jpeg:https://genevabucketlist.com/wp-content/uploads/2025/09/Image-19.jpeg
END:VEVENT
END:VCALENDAR