BEGIN:VCALENDAR
VERSION:2.0
PRODID:-//Genevabucketlist - ECPv6.15.20//NONSGML v1.0//EN
CALSCALE:GREGORIAN
METHOD:PUBLISH
X-WR-CALNAME:Genevabucketlist
X-ORIGINAL-URL:https://genevabucketlist.com
X-WR-CALDESC:Évènements pour Genevabucketlist
REFRESH-INTERVAL;VALUE=DURATION:PT1H
X-Robots-Tag:noindex
X-PUBLISHED-TTL:PT1H
BEGIN:VTIMEZONE
TZID:Europe/Paris
BEGIN:DAYLIGHT
TZOFFSETFROM:+0100
TZOFFSETTO:+0200
TZNAME:CEST
DTSTART:20240331T010000
END:DAYLIGHT
BEGIN:STANDARD
TZOFFSETFROM:+0200
TZOFFSETTO:+0100
TZNAME:CET
DTSTART:20241027T010000
END:STANDARD
BEGIN:DAYLIGHT
TZOFFSETFROM:+0100
TZOFFSETTO:+0200
TZNAME:CEST
DTSTART:20250330T010000
END:DAYLIGHT
BEGIN:STANDARD
TZOFFSETFROM:+0200
TZOFFSETTO:+0100
TZNAME:CET
DTSTART:20251026T010000
END:STANDARD
BEGIN:DAYLIGHT
TZOFFSETFROM:+0100
TZOFFSETTO:+0200
TZNAME:CEST
DTSTART:20260329T010000
END:DAYLIGHT
BEGIN:STANDARD
TZOFFSETFROM:+0200
TZOFFSETTO:+0100
TZNAME:CET
DTSTART:20261025T010000
END:STANDARD
END:VTIMEZONE
BEGIN:VEVENT
DTSTART;TZID=Europe/Paris:20251110T120000
DTEND;TZID=Europe/Paris:20251114T220000
DTSTAMP:20260423T065420
CREATED:20250924T162238Z
LAST-MODIFIED:20251110T084053Z
UID:10004530-1762776000-1763157600@genevabucketlist.com
SUMMARY:Les Automnales\, la foire grand public genevoise !
DESCRIPTION:Les Automnales ne cessent de se réinventer en multipliant les univers et en mettant en avant les tendances qui marquent notre époque\, afin de captiver tous les publics. \nChaleureux et authentique\, cet événement s’articule autour d’un programme pensé pour rassembler le plus grand nombre\, grâce à des manifestations parallèles\, de nombreuses animations ainsi que des espaces de restauration et de convivialité. \nEn solo\, en famille ou entre ami·es\, les Automnales sont l’occasion idéale de sortir du quotidien et de profiter d’animations variées\, du marché de Noël\, des exposant·es de tous horizons et\, bien sûr\, des événements parallèles ! \nRetrouvez les incontournables comme le Cook’n’show ou le Stock Armée\, et découvrez des nouveautés à ne pas manquer\, notamment les afterworks de 20h à 22h. \nLes Automnales 2025 : une édition réinventée De nouveaux espaces – Automnales Food Festival\, Automnales Market\, Automnales Émotions – une programmation dynamique et des expériences immersives vous attendent. \nHoraires: \n\n\n\nAutomnales Food Festival\nLundi – vendredi : 11h – 22h\nSamedis : 10h – 22h\nDimanches : 10h – 18h \nAutomnales Market\nLundi – vendredi : 11h – 20h30\nSamedis : 10h – 20h30\nDimanches : 10h – 18h \nAutomnales Émotion\nVendredis : 11h – 20h30\nSamedis : 10h – 20h30\nDimanches : 10h – 18h
URL:https://genevabucketlist.com/agenda/les-automnales-la-foire-grand-public-genevoise/2025-11-10/
LOCATION:Palexpo\, Route François-Peyrot 30\, 1218\, Suisse
ATTACH;FMTTYPE=image/jpeg:https://genevabucketlist.com/wp-content/uploads/2025/09/Image-43.jpeg
END:VEVENT
BEGIN:VEVENT
DTSTART;TZID=Europe/Paris:20251111T110000
DTEND;TZID=Europe/Paris:20251116T180000
DTSTAMP:20260423T065420
CREATED:20251026T213937Z
LAST-MODIFIED:20251026T213937Z
UID:10004499-1762858800-1763316000@genevabucketlist.com
SUMMARY:GRAND PRIX D'HORLOGERIE DE GENÈVE (GPHG) 2025 - Programme de médiation culturelle
DESCRIPTION:Exposition des 90 garde-temps présélectionnés par l’Académie du GPHG \n\n\nProgramme de médiation culturelle 2025\nGPHG – Exposition des 90 garde-temps présélectionnés par l’Académie du GPHP \nINSCRIPTIONS\nVISITES GUIDÉES\nVisites guidées de l’exposition par un expert horloger \nLes mercredis à 14h et 15h. Les jeudis à 12h\, 18h30 et 19h30. Les samedis et dimanches à 14h\, 15h et 16h (50 min). Tout public dès 12 ans. \nATELIERS HORLOGERS\nAnimés par l’École d’Horlogerie de Genève\, ces ateliers d’initiation à l’horlogerie permettent de s’immerger au cœur du mécanisme d’une montre en expérimentant les savoir-faire horlogers que sont le montage\, l’anglage et le pivotage.\nLes mercredis à 14h et 15h. Les samedis et dimanches à 11h\, 13h\, 14h et 15h (60 min). Tout public dès 10 ans. \nATELIERS JEUNE PUBLIC\nL’Atelier gravure\nCet atelier permet aux plus jeunes de se mettre dans la peau d’un graveur en ciselant et sertissant leur « fond de boîte ». Ils apprennent les techniques de gravure sous le regard et la maîtrise d’animateurs du Musée International d’Horlogerie (MIH).\nLes samedis 8 et 15 novembre à 14h (75 min). De 6 à 8 ans. 18 places disponibles. \nL’Atelier cadran solaire\nCet atelier\, proposé par le Musée International d’Horlogerie (MIH)\, consiste à construire un cadran solaire\, totalement fonctionnel\, qui permet de calculer l’heure qu’il est à l’aide du soleil.\nLes samedis 8 et 15 novembre à 16h (90 min). De 8 à 12 ans. 18 places disponibles. \nCONFÉRENCE\nLa Fondation de la Haute Horlogerie (FHH) propose une conférence dédiée aux montres qui ont marqué l’histoire. À travers une sélection de modèles légendaires\, Pascal Ravessoud\, vice-président de la FHH\, expliquera ce qui rend une montre iconique : un design intemporel\, une prouesse technique et une influence culturelle. Un hommage concis et inspirant à l’excellence horlogère.\nLe jeudi 30 octobre à 18h30 (45 min). Tout public dès 15 ans. \nÉCOLE (activités gratuites)\nOFFRE ÉDUCATIVE COMBINÉE POUR LES ÉCOLES « À la découverte de l’horlogerie »\nTrois activités combinées destinées à des élèves entre 10 et 16 ans (8P et Cycle d’orientation) : \n\nAtelier d’initiation à l’horlogerie (45 min) Cet atelier permet de s’immerger au cœur du mécanisme d’une montre en expérimentant trois savoir-faire horlogers que sont le montage\, l’anglage et le pivotage.\nAtelier sur « les engrenages » (45 min) Autour d’une mallette pédagogique comprenant un kit de rouages sophistiqué\, et accompagnés par des médiateurs scientifiques\, les jeunes découvrent les notions de base (force\, vitesse\, levage\, transmission d’énergie ou d’information\, horlogerie).\nVisite guidée de l’exposition des 90 garde-temps (45 minutes) Animée par un expert horloger\, les élèves découvriront l’excellence des productions horlogères contemporaines présélectionnées par l’Académie du GPHG.\n\nLes mardis (4 et 11 novembre)\, mercredis (5 et 12 novembre)\, jeudis (30 octobre\, 6 et 13 novembre) et les vendredis (31 octobre et 14 novembre)\, 45 minutes par atelier\, soit 180 minutes pour toute la sortie scolaire (pauses comprises)\, 24 élèves maximum. \nINSCRIPTIONS\nPour plus d’information\, contactez le GPHG inscription@gphg.org
URL:https://genevabucketlist.com/agenda/grand-prix-dhorlogerie-de-geneve-gphg-2025-programme-de-mediation-culturelle-3/
LOCATION:MAH\, Rue Charles-Galland 2\, Genève\, Genève\, 1206\, Suisse
ATTACH;FMTTYPE=image/jpeg:https://genevabucketlist.com/wp-content/uploads/2025/10/Image-68-e1761516771985.jpeg
END:VEVENT
BEGIN:VEVENT
DTSTART;TZID=Europe/Paris:20251113T200000
DTEND;TZID=Europe/Paris:20251113T220000
DTSTAMP:20260423T065420
CREATED:20251110T081939Z
LAST-MODIFIED:20251110T081939Z
UID:10004528-1763064000-1763071200@genevabucketlist.com
SUMMARY:Genève-Servette Hockey Club vs SCL Tigers
DESCRIPTION:Assistez au prochain match des Aigles face aux Tigers à la patinoire des Vernets\, pour une soirée riche en émotions.\n\n\n\n\nLe Genève-Servette Hockey Club vous invite à vivre une expérience unique lors de son match contre les Tigers\, le jeudi 13 novembre 2025 à 20h00.\nVenez vibrer au rythme du hockey\, entouré de l’énergie des fans et de l’ambiance électrique des Vernets ! Profitez d’animations spéciales avant et pendant la rencontre\, et faites partie de l’aventure !\nRetrouvez toutes les infos sur https://www.gshc.ch/
URL:https://genevabucketlist.com/agenda/geneve-servette-hockey-club-vs-scl-tigers/
LOCATION:Patinoire des Vernets\, Rue Hans-WILSDORF 4\, Genève\, 1227\, Suisse
ATTACH;FMTTYPE=image/jpeg:https://genevabucketlist.com/wp-content/uploads/2025/09/Image-31-e1762762717408.jpeg
END:VEVENT
BEGIN:VEVENT
DTSTART;TZID=Europe/Paris:20251114T170000
DTEND;TZID=Europe/Paris:20251114T230000
DTSTAMP:20260423T065420
CREATED:20251031T000515Z
LAST-MODIFIED:20251031T000515Z
UID:10004517-1763139600-1763161200@genevabucketlist.com
SUMMARY:Les Féeries de Penthes
DESCRIPTION:Durant trois jours\, petits et grands sont invités à explorer un monde féerique\, où la créativité\, la convivialité et l’émerveillement se rencontrent à chaque pas. Les allées du domaine s’animent de musique\, défilés\, déambulations\, ateliers créatifs et contes… \nPlongez au cœur d’un univers magique et enchanteur lors de la 3ᵉ édition des Féeries de Penthes\, qui se tiendra du vendredi 14 au dimanche 16 novembre 2025 au Domaine de Penthes à Pregny-Chambésy. \nArtisans et gastronomie: \nLes Féeries de Penthes sont également l’occasion de découvrir des artisans talentueux et une offre gastronomique variée : \nPromenez-vous parmi les stands et trouvez cadeaux\, décorations artisanales et produits locaux. \nRégalez-vous auprès des foodtrucks proposant des spécialités sucrées et salées\, ou profitez d’un repas gourmand aux Chalets restauration et dans le restaurant Jardin de Penthes. \nChaque artisan et commerçant contribue à créer une atmosphère unique\, où l’artisanat\, la gastronomie et la féerie se mêlent pour le plus grand plaisir des visiteurs. \nAnimations féeriques: \nL’évènement propose une programmation riche : \nConcerts et performances musicales sur la Place du Château \nDéfilés et déambulations avec les MozDrums troupe internationale\, la Fée de Penthes\, Merlin l’Enchanteur et les lutins \nAteliers créatifs et contes dans l’Igloo de la Fée et l’Igloo des Lutins \nLe Sentier Féerique\, parcours immersif mettant en valeur les œuvres d’artistes et la nature du domaine \nLa Roue Magique\, permettant de gagner des lots offerts par les artisans et partenaires \nPour tous les âges \nLes Féeries de Penthes offrent des moments d’émerveillement pour toute la famille. Les enfants découvriront des activités ludiques et créatives\, tandis que les adultes pourront profiter de dégustations gourmandes\, concerts et instants féeriques dans un cadre exceptionnel. \n \nHoraires de l’édition 2025 \nVendredi 14 novembre : 17h00 – 23h00 \nSamedi 15 novembre : 11h00 – 23h00 \nDimanche 16 novembre : 11h00 – 18h00 \nLe Domaine de Penthes \nNiché dans un cadre naturel et historique\, le Domaine de Penthes est l’écrin parfait pour accueillir cet évènement féerique. Son parc majestueux et ses allées bordées d’arbres centenaires ajoutent une touche de magie unique à cette parenthèse enchantée. \nVenez vivre la magie des Féeries de Penthes 2025\, un événement qui promet des souvenirs inoubliables\, où chaque recoin du domaine raconte une histoire et chaque instant est empreint de féerie.
URL:https://genevabucketlist.com/agenda/les-feeries-de-penthes/2025-11-14/
LOCATION:Chem. de l’Impératrice 18\, Pregny-Chambésy\, genève\, 1292\, Suisse
ATTACH;FMTTYPE=image/jpeg:https://genevabucketlist.com/wp-content/uploads/2024/11/Les-Feeries-de-Penthes-1-e1761869097444.jpg
END:VEVENT
BEGIN:VEVENT
DTSTART;TZID=Europe/Paris:20251115T100000
DTEND;TZID=Europe/Paris:20251115T180000
DTSTAMP:20260423T065420
CREATED:20250924T162238Z
LAST-MODIFIED:20251110T084053Z
UID:10004418-1763200800-1763229600@genevabucketlist.com
SUMMARY:Les Automnales\, la foire grand public genevoise !
DESCRIPTION:Les Automnales ne cessent de se réinventer en multipliant les univers et en mettant en avant les tendances qui marquent notre époque\, afin de captiver tous les publics. \nChaleureux et authentique\, cet événement s’articule autour d’un programme pensé pour rassembler le plus grand nombre\, grâce à des manifestations parallèles\, de nombreuses animations ainsi que des espaces de restauration et de convivialité. \nEn solo\, en famille ou entre ami·es\, les Automnales sont l’occasion idéale de sortir du quotidien et de profiter d’animations variées\, du marché de Noël\, des exposant·es de tous horizons et\, bien sûr\, des événements parallèles ! \nRetrouvez les incontournables comme le Cook’n’show ou le Stock Armée\, et découvrez des nouveautés à ne pas manquer\, notamment les afterworks de 20h à 22h. \nLes Automnales 2025 : une édition réinventée De nouveaux espaces – Automnales Food Festival\, Automnales Market\, Automnales Émotions – une programmation dynamique et des expériences immersives vous attendent. \nHoraires: \n\n\n\nAutomnales Food Festival\nLundi – vendredi : 11h – 22h\nSamedis : 10h – 22h\nDimanches : 10h – 18h \nAutomnales Market\nLundi – vendredi : 11h – 20h30\nSamedis : 10h – 20h30\nDimanches : 10h – 18h \nAutomnales Émotion\nVendredis : 11h – 20h30\nSamedis : 10h – 20h30\nDimanches : 10h – 18h
URL:https://genevabucketlist.com/agenda/les-automnales-la-foire-grand-public-genevoise/2025-11-15/
LOCATION:Palexpo\, Route François-Peyrot 30\, 1218\, Suisse
ATTACH;FMTTYPE=image/jpeg:https://genevabucketlist.com/wp-content/uploads/2025/09/Image-43.jpeg
END:VEVENT
BEGIN:VEVENT
DTSTART;TZID=Europe/Paris:20251115T110000
DTEND;TZID=Europe/Paris:20251115T230000
DTSTAMP:20260423T065420
CREATED:20251031T000515Z
LAST-MODIFIED:20251031T000515Z
UID:10004518-1763204400-1763247600@genevabucketlist.com
SUMMARY:Les Féeries de Penthes
DESCRIPTION:Durant trois jours\, petits et grands sont invités à explorer un monde féerique\, où la créativité\, la convivialité et l’émerveillement se rencontrent à chaque pas. Les allées du domaine s’animent de musique\, défilés\, déambulations\, ateliers créatifs et contes… \nPlongez au cœur d’un univers magique et enchanteur lors de la 3ᵉ édition des Féeries de Penthes\, qui se tiendra du vendredi 14 au dimanche 16 novembre 2025 au Domaine de Penthes à Pregny-Chambésy. \nArtisans et gastronomie: \nLes Féeries de Penthes sont également l’occasion de découvrir des artisans talentueux et une offre gastronomique variée : \nPromenez-vous parmi les stands et trouvez cadeaux\, décorations artisanales et produits locaux. \nRégalez-vous auprès des foodtrucks proposant des spécialités sucrées et salées\, ou profitez d’un repas gourmand aux Chalets restauration et dans le restaurant Jardin de Penthes. \nChaque artisan et commerçant contribue à créer une atmosphère unique\, où l’artisanat\, la gastronomie et la féerie se mêlent pour le plus grand plaisir des visiteurs. \nAnimations féeriques: \nL’évènement propose une programmation riche : \nConcerts et performances musicales sur la Place du Château \nDéfilés et déambulations avec les MozDrums troupe internationale\, la Fée de Penthes\, Merlin l’Enchanteur et les lutins \nAteliers créatifs et contes dans l’Igloo de la Fée et l’Igloo des Lutins \nLe Sentier Féerique\, parcours immersif mettant en valeur les œuvres d’artistes et la nature du domaine \nLa Roue Magique\, permettant de gagner des lots offerts par les artisans et partenaires \nPour tous les âges \nLes Féeries de Penthes offrent des moments d’émerveillement pour toute la famille. Les enfants découvriront des activités ludiques et créatives\, tandis que les adultes pourront profiter de dégustations gourmandes\, concerts et instants féeriques dans un cadre exceptionnel. \n \nHoraires de l’édition 2025 \nVendredi 14 novembre : 17h00 – 23h00 \nSamedi 15 novembre : 11h00 – 23h00 \nDimanche 16 novembre : 11h00 – 18h00 \nLe Domaine de Penthes \nNiché dans un cadre naturel et historique\, le Domaine de Penthes est l’écrin parfait pour accueillir cet évènement féerique. Son parc majestueux et ses allées bordées d’arbres centenaires ajoutent une touche de magie unique à cette parenthèse enchantée. \nVenez vivre la magie des Féeries de Penthes 2025\, un événement qui promet des souvenirs inoubliables\, où chaque recoin du domaine raconte une histoire et chaque instant est empreint de féerie.
URL:https://genevabucketlist.com/agenda/les-feeries-de-penthes/2025-11-15/
LOCATION:Chem. de l’Impératrice 18\, Pregny-Chambésy\, genève\, 1292\, Suisse
ATTACH;FMTTYPE=image/jpeg:https://genevabucketlist.com/wp-content/uploads/2024/11/Les-Feeries-de-Penthes-1-e1761869097444.jpg
END:VEVENT
BEGIN:VEVENT
DTSTART;TZID=Europe/Paris:20251116T100000
DTEND;TZID=Europe/Paris:20251116T180000
DTSTAMP:20260423T065420
CREATED:20250924T162238Z
LAST-MODIFIED:20251110T084053Z
UID:10004419-1763287200-1763316000@genevabucketlist.com
SUMMARY:Les Automnales\, la foire grand public genevoise !
DESCRIPTION:Les Automnales ne cessent de se réinventer en multipliant les univers et en mettant en avant les tendances qui marquent notre époque\, afin de captiver tous les publics. \nChaleureux et authentique\, cet événement s’articule autour d’un programme pensé pour rassembler le plus grand nombre\, grâce à des manifestations parallèles\, de nombreuses animations ainsi que des espaces de restauration et de convivialité. \nEn solo\, en famille ou entre ami·es\, les Automnales sont l’occasion idéale de sortir du quotidien et de profiter d’animations variées\, du marché de Noël\, des exposant·es de tous horizons et\, bien sûr\, des événements parallèles ! \nRetrouvez les incontournables comme le Cook’n’show ou le Stock Armée\, et découvrez des nouveautés à ne pas manquer\, notamment les afterworks de 20h à 22h. \nLes Automnales 2025 : une édition réinventée De nouveaux espaces – Automnales Food Festival\, Automnales Market\, Automnales Émotions – une programmation dynamique et des expériences immersives vous attendent. \nHoraires: \n\n\n\nAutomnales Food Festival\nLundi – vendredi : 11h – 22h\nSamedis : 10h – 22h\nDimanches : 10h – 18h \nAutomnales Market\nLundi – vendredi : 11h – 20h30\nSamedis : 10h – 20h30\nDimanches : 10h – 18h \nAutomnales Émotion\nVendredis : 11h – 20h30\nSamedis : 10h – 20h30\nDimanches : 10h – 18h
URL:https://genevabucketlist.com/agenda/les-automnales-la-foire-grand-public-genevoise/2025-11-16/
LOCATION:Palexpo\, Route François-Peyrot 30\, 1218\, Suisse
ATTACH;FMTTYPE=image/jpeg:https://genevabucketlist.com/wp-content/uploads/2025/09/Image-43.jpeg
END:VEVENT
BEGIN:VEVENT
DTSTART;TZID=Europe/Paris:20251116T110000
DTEND;TZID=Europe/Paris:20251116T180000
DTSTAMP:20260423T065420
CREATED:20251031T000515Z
LAST-MODIFIED:20251031T000515Z
UID:10004519-1763290800-1763316000@genevabucketlist.com
SUMMARY:Les Féeries de Penthes
DESCRIPTION:Durant trois jours\, petits et grands sont invités à explorer un monde féerique\, où la créativité\, la convivialité et l’émerveillement se rencontrent à chaque pas. Les allées du domaine s’animent de musique\, défilés\, déambulations\, ateliers créatifs et contes… \nPlongez au cœur d’un univers magique et enchanteur lors de la 3ᵉ édition des Féeries de Penthes\, qui se tiendra du vendredi 14 au dimanche 16 novembre 2025 au Domaine de Penthes à Pregny-Chambésy. \nArtisans et gastronomie: \nLes Féeries de Penthes sont également l’occasion de découvrir des artisans talentueux et une offre gastronomique variée : \nPromenez-vous parmi les stands et trouvez cadeaux\, décorations artisanales et produits locaux. \nRégalez-vous auprès des foodtrucks proposant des spécialités sucrées et salées\, ou profitez d’un repas gourmand aux Chalets restauration et dans le restaurant Jardin de Penthes. \nChaque artisan et commerçant contribue à créer une atmosphère unique\, où l’artisanat\, la gastronomie et la féerie se mêlent pour le plus grand plaisir des visiteurs. \nAnimations féeriques: \nL’évènement propose une programmation riche : \nConcerts et performances musicales sur la Place du Château \nDéfilés et déambulations avec les MozDrums troupe internationale\, la Fée de Penthes\, Merlin l’Enchanteur et les lutins \nAteliers créatifs et contes dans l’Igloo de la Fée et l’Igloo des Lutins \nLe Sentier Féerique\, parcours immersif mettant en valeur les œuvres d’artistes et la nature du domaine \nLa Roue Magique\, permettant de gagner des lots offerts par les artisans et partenaires \nPour tous les âges \nLes Féeries de Penthes offrent des moments d’émerveillement pour toute la famille. Les enfants découvriront des activités ludiques et créatives\, tandis que les adultes pourront profiter de dégustations gourmandes\, concerts et instants féeriques dans un cadre exceptionnel. \n \nHoraires de l’édition 2025 \nVendredi 14 novembre : 17h00 – 23h00 \nSamedi 15 novembre : 11h00 – 23h00 \nDimanche 16 novembre : 11h00 – 18h00 \nLe Domaine de Penthes \nNiché dans un cadre naturel et historique\, le Domaine de Penthes est l’écrin parfait pour accueillir cet évènement féerique. Son parc majestueux et ses allées bordées d’arbres centenaires ajoutent une touche de magie unique à cette parenthèse enchantée. \nVenez vivre la magie des Féeries de Penthes 2025\, un événement qui promet des souvenirs inoubliables\, où chaque recoin du domaine raconte une histoire et chaque instant est empreint de féerie.
URL:https://genevabucketlist.com/agenda/les-feeries-de-penthes/2025-11-16/
LOCATION:Chem. de l’Impératrice 18\, Pregny-Chambésy\, genève\, 1292\, Suisse
ATTACH;FMTTYPE=image/jpeg:https://genevabucketlist.com/wp-content/uploads/2024/11/Les-Feeries-de-Penthes-1-e1761869097444.jpg
END:VEVENT
BEGIN:VEVENT
DTSTART;TZID=Europe/Paris:20251116T130000
DTEND;TZID=Europe/Paris:20251116T170000
DTSTAMP:20260423T065420
CREATED:20250829T070356Z
LAST-MODIFIED:20251020T075410Z
UID:10004488-1763298000-1763312400@genevabucketlist.com
SUMMARY:Le Muzoo - La collection du Théâtre du Loup
DESCRIPTION:Une sortie tout public\nPour les enfants\, les esthètes\, les amoureux.ses du\nthéâtre\, en groupe\, en famille\, seul.e\, jeune\, ou pas. \nEntre galerie\, cabinet des curiosités et caverne\nd’Ali Baba\, le Muzoo présente le meilleur de la production scénographique du Théâtre du Loup depuis la création de la compagnie en 1978.\nMasques de toutes tailles\, personnages en trois dimensions\, accessoires remarquables\, costumes\, éléments de décors\, maquettes\, affiches…\nSans marbre ni vitrine\, le Muzoo prend place dans l’entrepôt de décors de la compagnie\, que l’on peut visiter également.\nDécouvrez l’araignée géante de Suzy Certitude\, le taxi de Zazie dans le métro\, la cuisine de Buddy & Flappo\, les cactus de Krazy Kat… \n⋑ Loup Story\, le film (65’)\nSur place\, vous pourrez également visionner le film qui retrace le parcours du Théâtre du Loup depuis ses débuts. \n\n theatreduloup.ch/le-muzoo
URL:https://genevabucketlist.com/agenda/le-muzoo-la-collection-du-theatre-du-loup/2025-11-16/
LOCATION:Le muzoo\, Chemin de la Gravière 10\, Les Acacias\, 1227\, Suisse
ATTACH;FMTTYPE=image/jpeg:https://genevabucketlist.com/wp-content/uploads/2024/09/455389_2024-09-08.jpg
END:VEVENT
END:VCALENDAR