BEGIN:VCALENDAR
VERSION:2.0
PRODID:-//Genevabucketlist - ECPv6.15.20//NONSGML v1.0//EN
CALSCALE:GREGORIAN
METHOD:PUBLISH
X-WR-CALNAME:Genevabucketlist
X-ORIGINAL-URL:https://genevabucketlist.com
X-WR-CALDESC:Évènements pour Genevabucketlist
REFRESH-INTERVAL;VALUE=DURATION:PT1H
X-Robots-Tag:noindex
X-PUBLISHED-TTL:PT1H
BEGIN:VTIMEZONE
TZID:Europe/Paris
BEGIN:DAYLIGHT
TZOFFSETFROM:+0100
TZOFFSETTO:+0200
TZNAME:CEST
DTSTART:20240331T010000
END:DAYLIGHT
BEGIN:STANDARD
TZOFFSETFROM:+0200
TZOFFSETTO:+0100
TZNAME:CET
DTSTART:20241027T010000
END:STANDARD
BEGIN:DAYLIGHT
TZOFFSETFROM:+0100
TZOFFSETTO:+0200
TZNAME:CEST
DTSTART:20250330T010000
END:DAYLIGHT
BEGIN:STANDARD
TZOFFSETFROM:+0200
TZOFFSETTO:+0100
TZNAME:CET
DTSTART:20251026T010000
END:STANDARD
BEGIN:DAYLIGHT
TZOFFSETFROM:+0100
TZOFFSETTO:+0200
TZNAME:CEST
DTSTART:20260329T010000
END:DAYLIGHT
BEGIN:STANDARD
TZOFFSETFROM:+0200
TZOFFSETTO:+0100
TZNAME:CET
DTSTART:20261025T010000
END:STANDARD
END:VTIMEZONE
BEGIN:VEVENT
DTSTART;TZID=Europe/Paris:20251207T090000
DTEND;TZID=Europe/Paris:20251207T170000
DTSTAMP:20260425T192320
CREATED:20251030T233551Z
LAST-MODIFIED:20251030T233551Z
UID:10004507-1765098000-1765126800@genevabucketlist.com
SUMMARY:La Brocante Carouge
DESCRIPTION:Tous les premiers dimanches du mois\, de mars à décembre\, retrouvez la Brocante de Carouge sur toute la rue Saint Joseph depuis la Place d’Armes jusqu’à la Place du Marché \, de 9h à 17h !\nFlânez dans Carouge\, à la découverte de la perle rare !\n\n\n\n\n\n\n\n\n\n\n\n\n\n\n\n\n\n\n\n\n\n\n\n\nDe mars à décembre\, la Brocante prend ses quartiers tous les premiers dimanche du mois sur toute la rue Saint Joseph depuis la Place d’Armes jusqu’à la Place du Marché. De 9h à 17h\, venez fouiner parmi une multitude d’objets en tous genres et à travers les divers stands présents. \nEn plus de la Brocante\, une vingtaine de commerces seront ouverts dans tout Carouge\, de 11h à 17h. \nOrganisé par l’Association des Intérêts de Carouge https://icarouge.ch/
URL:https://genevabucketlist.com/agenda/la-brocante-carouge/2025-12-07/
LOCATION:Carouge\, place du Marché\, Carouge\, Genève\, 1227\, Suisse
ATTACH;FMTTYPE=image/jpeg:https://genevabucketlist.com/wp-content/uploads/2025/10/ybgazqt1yuk-e1761867329510.jpg
END:VEVENT
BEGIN:VEVENT
DTSTART;TZID=Europe/Paris:20251207T090000
DTEND;TZID=Europe/Paris:20251207T180000
DTSTAMP:20260425T192320
CREATED:20250924T160457Z
LAST-MODIFIED:20251201T130256Z
UID:10004413-1765098000-1765130400@genevabucketlist.com
SUMMARY:47e Course de l'Escalade
DESCRIPTION:La Course de l’Escalade est une course pédestre\, festive et populaire dont la 47e édition se déroulera le samedi 6 et le dimanche 7 décembre 2025 dans la Vieille-Ville de Genève. \nJoyeuse fête sportive et populaire\, la Course de l’Escalade rassemble\, chaque premier week-end de décembre\, des coureurs de tous horizons positionnant l’évènement à la première place des courses pédestres en Suisse et parmi les plus importantes en Europe.\nLa subtilité de l’évènement repose sur la double mission que son Comité s’est donnée : \n\nLa Course doit être populaire\, accueillante et bienfaisante afin d’œuvrer pour la collectivité\, en sensibilisant la population au bienfait d’une activité physique régulière.\nLa Course se doit d’être aussi hautement compétitive et convoitée par les élites de niveau national et international\, ces derniers offrant un spectacle de qualité et servant d’exemple aux jeunes.\n\nCe mélange ingénieux entre joyeux et sérieux entraîne dans un mouvement fédérateur les institutions publiques\, les sponsors et partenaires\, les écoles et associations qui œuvrent au sein d’un effort collectif\, dans la magie de l’hiver genevois\, pour promouvoir les valeurs de la Course : plaisir\, respect\, solidarité\, intégration et excellence. \n\n\n\nTarifs des coureurs\n\nPrix adulte : CHF 42 / Prix enfant : CHF 26\n\n\n\nPublic(s)\nTous publics\, gratuit !\n\n\nAge\nDès 4 ans\n\n\nRéservation et billetterie\n\nhttps://escalade.ch/inscriptions/
URL:https://genevabucketlist.com/agenda/47e-course-de-lescalade/2025-12-07/
LOCATION:Parc des Bastions\, Promenade des Bastions 1\, Genève\, Genève\, 1204\, Suisse
ATTACH;FMTTYPE=image/jpeg:https://genevabucketlist.com/wp-content/uploads/2025/09/Image-41.jpeg
END:VEVENT
BEGIN:VEVENT
DTSTART;TZID=Europe/Paris:20251207T100000
DTEND;TZID=Europe/Paris:20251207T180000
DTSTAMP:20260425T192320
CREATED:20251117T223447Z
LAST-MODIFIED:20251117T223447Z
UID:10004555-1765101600-1765130400@genevabucketlist.com
SUMMARY:Marché de Noël de Cologny
DESCRIPTION:Le marché de Noël de Cologny est un marché en plein air\, où l’on trouve des artisans\, des vendeurs de nourriture et de boissons\, et des décorations de Noël. C’est un lieu de convivialité et de fête qui propose des cadeaux\, des spécialités culinaires comme le vin chaud et les pains d’épices\, et une atmosphère féerique avec des lumières et des chants. \nProgramme:\nSamedi 6 décembre 2025 \n\n15h-22h: Village de Noël\n15h-17h: Atelier bricolage à la bibliothèque – dès 4 ans\n17h-21h: Animation musicale “Les chants de Noël à l’accordéon”\n\nDimanche 7 décembre 2025 \n\n10h-11h: Célébration interreligieuse\n11h-19h: Village de Noël\n13h-14h30: Atelier machine à écrire à la bibliothèque – dès 7 ans\n14h30-15h: Exposition d’Ophélie Selz : Tempo-sensoriel – –Senso-temporel*\n17h: Cortège aux flambeaux de la St-Nicolas\nCadeaux et goûter offerts aux enfants\, vin chaud et marrons pour les parents
URL:https://genevabucketlist.com/agenda/marche-de-noel-de-cologny/2025-12-07/
LOCATION:Pl. du Manoir1223 Cologny\, Suisse\, Pl. du Manoir\, Cologny\, 1223\, Suisse
ATTACH;FMTTYPE=image/png:https://genevabucketlist.com/wp-content/uploads/2024/11/Marche_Noel_Cologny.png
END:VEVENT
BEGIN:VEVENT
DTSTART;TZID=Europe/Paris:20251207T163000
DTEND;TZID=Europe/Paris:20251207T193000
DTSTAMP:20260425T192320
CREATED:20251201T102844Z
LAST-MODIFIED:20251201T102844Z
UID:10004580-1765125000-1765135800@genevabucketlist.com
SUMMARY:Festival international du Film sur les Glaciers
DESCRIPTION:Mettant à l’honneur les glaciers\, témoins de l’urgence climatique\, le festival promet de belles séances de cinéma gratuites au Grütli\, entre films d’animation\, courts métrages et documentaires. \nDes rencontres et une soirée de clôture complètent un programme riche en découvertes et en émotions. \nCette manifestation permettra de sensibiliser le grand public aux effets du changement climatique et à la nécessaire adaptation de nos villes\, à travers la projection  de films provenant de différents pays. La plupart des réalisateurs seront présents pour engager un dialogue avec le public. \nLe programme ici
URL:https://genevabucketlist.com/agenda/festival-international-du-film-sur-les-glaciers/2025-12-07/
LOCATION:Le Grütli\, rue Général-Dufour 16\, Genève\, Genève\, 1204\, Suisse
ATTACH;FMTTYPE=image/jpeg:https://genevabucketlist.com/wp-content/uploads/2025/12/Image-90.jpeg
END:VEVENT
BEGIN:VEVENT
DTSTART;TZID=Europe/Paris:20251207T170000
DTEND;TZID=Europe/Paris:20251207T190000
DTSTAMP:20260425T192320
CREATED:20251205T094209Z
LAST-MODIFIED:20251205T094209Z
UID:10004596-1765126800-1765134000@genevabucketlist.com
SUMMARY:Concert de l'Avent Carouge
DESCRIPTION:La Musique municipale de Carouge vous donne rendez-vous pour un concert de l’Avent inoubliable et haut en couleurs ! \nLa Musique Municipale de Carouge (MMC) a le plaisir de vous inviter pour son traditionnel concert de l’Avent\, qui se tiendra le dimanche 7 décembre à 17h au Temple de Carouge. La MMC vous propose un programme varié mêlant musiques de films\, traditions de Noël revisitées et créations contemporaines\, en passant par les univers épiques de How to Train Your Dragon\, les ambiances festives de Cowboy Christmas et la magie de Christmas Pipes. \n\nDate(s) et horaires \n07 décembre\, 17h00 – 19h00\n\nAdresse \n\nTemple de Carouge \n\n\n\nPlace du Temple 13\n1227 Carouge
URL:https://genevabucketlist.com/agenda/concert-de-lavent-carouge/
LOCATION:Temple de Carouge\, Place du Temple\, Genève\, Carouge\, 1227\, Suisse
ATTACH;FMTTYPE=image/jpeg:https://genevabucketlist.com/wp-content/uploads/2025/12/Image-96.jpeg
END:VEVENT
END:VCALENDAR