BEGIN:VCALENDAR
VERSION:2.0
PRODID:-//Genevabucketlist - ECPv6.15.20//NONSGML v1.0//EN
CALSCALE:GREGORIAN
METHOD:PUBLISH
X-WR-CALNAME:Genevabucketlist
X-ORIGINAL-URL:https://genevabucketlist.com
X-WR-CALDESC:Évènements pour Genevabucketlist
REFRESH-INTERVAL;VALUE=DURATION:PT1H
X-Robots-Tag:noindex
X-PUBLISHED-TTL:PT1H
BEGIN:VTIMEZONE
TZID:Europe/Paris
BEGIN:DAYLIGHT
TZOFFSETFROM:+0100
TZOFFSETTO:+0200
TZNAME:CEST
DTSTART:20240331T010000
END:DAYLIGHT
BEGIN:STANDARD
TZOFFSETFROM:+0200
TZOFFSETTO:+0100
TZNAME:CET
DTSTART:20241027T010000
END:STANDARD
BEGIN:DAYLIGHT
TZOFFSETFROM:+0100
TZOFFSETTO:+0200
TZNAME:CEST
DTSTART:20250330T010000
END:DAYLIGHT
BEGIN:STANDARD
TZOFFSETFROM:+0200
TZOFFSETTO:+0100
TZNAME:CET
DTSTART:20251026T010000
END:STANDARD
BEGIN:DAYLIGHT
TZOFFSETFROM:+0100
TZOFFSETTO:+0200
TZNAME:CEST
DTSTART:20260329T010000
END:DAYLIGHT
BEGIN:STANDARD
TZOFFSETFROM:+0200
TZOFFSETTO:+0100
TZNAME:CET
DTSTART:20261025T010000
END:STANDARD
END:VTIMEZONE
BEGIN:VEVENT
DTSTART;TZID=Europe/Paris:20250308T150000
DTEND;TZID=Europe/Paris:20250308T170000
DTSTAMP:20260422T030001
CREATED:20250221T020639Z
LAST-MODIFIED:20250221T020709Z
UID:10003747-1741446000-1741453200@genevabucketlist.com
SUMMARY:La Bâtie des enfants en hiver
DESCRIPTION:La Bâtie des enfants vous attend avec vos bottes et vos doudounes pour vivre des moments inoubliables. \nJouer dans un orchestre avec des instruments recyclés\, faire du yoga\, créer des œuvres avec des éléments de la nature ou s’émerveiller face à un spectacle de cirque et de marionnettes \nEn plein air : des activités créatives et artistiques proposées dans le cadre de la Bâtie des enfants. \nTous les week-ends\, Jusqu’au 23 mars 2025\, venez développer votre imagination et vous imprégner de culture dans cet espace magique en pleine nature. \n\n\n\n\n 
URL:https://genevabucketlist.com/agenda/la-batie-des-enfants-en-hiver/2025-03-08/
LOCATION:Bois de la Bâtie\, Chem. de la Bâtie\, Genève\, 1202\, Suisse
ATTACH;FMTTYPE=image/png:https://genevabucketlist.com/wp-content/uploads/2025/02/1acef4_8c135f948d07449b95d8043beac9350bmv2.png
END:VEVENT
BEGIN:VEVENT
DTSTART;TZID=Europe/Paris:20250309T100000
DTEND;TZID=Europe/Paris:20250309T180000
DTSTAMP:20260422T030001
CREATED:20250302T200929Z
LAST-MODIFIED:20250303T010022Z
UID:10003806-1741514400-1741543200@genevabucketlist.com
SUMMARY:AutoXpérience Genève
DESCRIPTION:AutoXpérience Genève est un événement local dédié à toutes celles et ceux qui sont désireux·ses d’acquérir un nouveau véhicule et à tous·tes les curieux·ses. \nIl se tiendra à Palexpo du 7 au 9 mars 2025. \nCette première édition offrira une nouvelle vitrine aux concessionnaires de la région\, permettant de mettre en avant les dernières tendances dans le domaine automobile. Avec un accent particulier sur les solutions de mobilité durable\, les véhicules électriques et les nouvelles technologies\, l’événement souhaite mettre l’accent sur l’innovation et le dynamisme de la région. \nLes visiteur·ses auront l’occasion de rencontrer directement les professionnels du secteur\, de découvrir et comparer les nouvelles options de mobilité et de tester les véhicules sur route. \nHoraires d’ouverture: \nVendredi 7 mars : 10h – 20h\nSamedi 8 mars : 10h – 20h\nDimanche 9 mars : 10h – 18h \n\n\nTarifs Billet: \n Adulte : 10.- en ligne / 13.- sur place \n\n\n Avs\, Ai\, étudiant.es : 0.- en ligne / 5.- sur place \n\n\nEnfant (moins de 16 ans):  CHF 0.-
URL:https://genevabucketlist.com/agenda/autoxperience-geneve/2025-03-09/
LOCATION:Palexpo\, Route François-Peyrot 30\, 1218\, Suisse
ATTACH;FMTTYPE=image/png:https://genevabucketlist.com/wp-content/uploads/2025/03/AutoXperience-Geneve.png
END:VEVENT
BEGIN:VEVENT
DTSTART;TZID=Europe/Paris:20250309T150000
DTEND;TZID=Europe/Paris:20250309T170000
DTSTAMP:20260422T030001
CREATED:20250221T020639Z
LAST-MODIFIED:20250221T020709Z
UID:10003748-1741532400-1741539600@genevabucketlist.com
SUMMARY:La Bâtie des enfants en hiver
DESCRIPTION:La Bâtie des enfants vous attend avec vos bottes et vos doudounes pour vivre des moments inoubliables. \nJouer dans un orchestre avec des instruments recyclés\, faire du yoga\, créer des œuvres avec des éléments de la nature ou s’émerveiller face à un spectacle de cirque et de marionnettes \nEn plein air : des activités créatives et artistiques proposées dans le cadre de la Bâtie des enfants. \nTous les week-ends\, Jusqu’au 23 mars 2025\, venez développer votre imagination et vous imprégner de culture dans cet espace magique en pleine nature. \n\n\n\n\n 
URL:https://genevabucketlist.com/agenda/la-batie-des-enfants-en-hiver/2025-03-09/
LOCATION:Bois de la Bâtie\, Chem. de la Bâtie\, Genève\, 1202\, Suisse
ATTACH;FMTTYPE=image/png:https://genevabucketlist.com/wp-content/uploads/2025/02/1acef4_8c135f948d07449b95d8043beac9350bmv2.png
END:VEVENT
BEGIN:VEVENT
DTSTART;TZID=Europe/Paris:20250310T140000
DTEND;TZID=Europe/Paris:20250314T190000
DTSTAMP:20260422T030001
CREATED:20250225T130036Z
LAST-MODIFIED:20250310T074213Z
UID:10003799-1741615200-1741978800@genevabucketlist.com
SUMMARY:L'Appartement
DESCRIPTION:L’Appartement est fier d’annoncer « Great Affinities »\, une exposition qui rassemble un groupe diversifié d’artistes internationaux travaillant à travers différentes générations et origines culturelles pour créer un dialogue transhistorique entre les œuvres d’artistes tels que : \nSol LeWitt\, Howardena Pindell\, Marina Adams\, Antonakis\, Jean Paul Riopelle\, Piero Dorazio et André Masson\, aux côtés d’artistes autochtones australiens renommées\, notamment Emily Kame Kngwarreye\, Clifford Possum Tjapaltjarri\, Mirdidingkingathi Juwarnda Sally Gabori\, Helen McCarthy Tyalmuty\, Nyurapayia Nampitjinpa (alias Mme Bennett)\, Yukultji Napangati et Yannima Tommy Watson. \nL’exposition\, conçue comme un dialogue visuel entre deux traditions artistiques apparemment disparates\, explore l’abstraction en tant que langage universel qui offre un terrain d’entente\, dépassant les frontières culturelles\, géographiques ou linguistiques.
URL:https://genevabucketlist.com/agenda/expo-great-affinities-chez-lappartement-galerie-2/
LOCATION:L’Appartement\, Rue Pierre-Fatio 5\, Genève\, 1204\, Suisse
ATTACH;FMTTYPE=image/webp:https://genevabucketlist.com/wp-content/uploads/2025/02/Lappartement-geneve--scaled.webp
END:VEVENT
BEGIN:VEVENT
DTSTART;TZID=Europe/Paris:20250314T200000
DTEND;TZID=Europe/Paris:20250314T233000
DTSTAMP:20260422T030001
CREATED:20250204T194534Z
LAST-MODIFIED:20250313T100315Z
UID:10003680-1741982400-1741995000@genevabucketlist.com
SUMMARY:Full Moon Sauna
DESCRIPTION:Tous les soirs de pleine lune\, les saunas sont ouverts jusqu’à 23h30. \nProfitez de la magie des Bains de nuit avec un brasero\, de l’argile pour tartiner votre corps\, des glaçons et des morceaux d’orange.
URL:https://genevabucketlist.com/agenda/full-moon-sauna/2025-03-14/
LOCATION:Bains des Paquis\, Quai du Mont-Blanc 30\, Genève\, Genève\, 1201\, Suisse
ATTACH;FMTTYPE=image/png:https://genevabucketlist.com/wp-content/uploads/2025/02/Full-Moon-Sauna.png
END:VEVENT
BEGIN:VEVENT
DTSTART;TZID=Europe/Paris:20250315T100000
DTEND;TZID=Europe/Paris:20250315T110000
DTSTAMP:20260422T030001
CREATED:20250204T193650Z
LAST-MODIFIED:20250204T193718Z
UID:10003670-1742032800-1742036400@genevabucketlist.com
SUMMARY:Yoga aux Bains des Pâquis
DESCRIPTION:Avec vue sur le lac\, entre les platanes du phare une pause bien-être adaptée au rythme des saisons est proposée par Natachafaitduyoga une fois par semaine. Les séances\, bienveillantes\, régénérantes et accessibles à touxtes\, invitent à se relier avec l’état intérieur\, prendre soin de soi et se ressourcer. \nÀ travers le mouvement\, la respiration consciente et la méditation\, la pratique permet d’harmoniser l’organisme\, d’honorer le moment présent et d’augmenter son énergie vitale. Retour à la sensation\, réveil du corps\, libération du souffle\, et relaxation sont au programme avant ou après la baignade. \nTous les samedis\nD’octobre à  avril: 10h à 11h \nDe mai à septembre: 9h à 10h
URL:https://genevabucketlist.com/agenda/yoga-au-bains-des-paquis/2025-03-15/
LOCATION:Bains des Paquis\, Quai du Mont-Blanc 30\, Genève\, Genève\, 1201\, Suisse
ATTACH;FMTTYPE=image/jpeg:https://genevabucketlist.com/wp-content/uploads/2025/02/Yoga-au-bains-des-paquis.jpeg
END:VEVENT
BEGIN:VEVENT
DTSTART;TZID=Europe/Paris:20250315T150000
DTEND;TZID=Europe/Paris:20250315T170000
DTSTAMP:20260422T030001
CREATED:20250221T020639Z
LAST-MODIFIED:20250221T020709Z
UID:10003749-1742050800-1742058000@genevabucketlist.com
SUMMARY:La Bâtie des enfants en hiver
DESCRIPTION:La Bâtie des enfants vous attend avec vos bottes et vos doudounes pour vivre des moments inoubliables. \nJouer dans un orchestre avec des instruments recyclés\, faire du yoga\, créer des œuvres avec des éléments de la nature ou s’émerveiller face à un spectacle de cirque et de marionnettes \nEn plein air : des activités créatives et artistiques proposées dans le cadre de la Bâtie des enfants. \nTous les week-ends\, Jusqu’au 23 mars 2025\, venez développer votre imagination et vous imprégner de culture dans cet espace magique en pleine nature. \n\n\n\n\n 
URL:https://genevabucketlist.com/agenda/la-batie-des-enfants-en-hiver/2025-03-15/
LOCATION:Bois de la Bâtie\, Chem. de la Bâtie\, Genève\, 1202\, Suisse
ATTACH;FMTTYPE=image/png:https://genevabucketlist.com/wp-content/uploads/2025/02/1acef4_8c135f948d07449b95d8043beac9350bmv2.png
END:VEVENT
BEGIN:VEVENT
DTSTART;TZID=Europe/Paris:20250316T150000
DTEND;TZID=Europe/Paris:20250316T170000
DTSTAMP:20260422T030001
CREATED:20250221T020639Z
LAST-MODIFIED:20250221T020709Z
UID:10003750-1742137200-1742144400@genevabucketlist.com
SUMMARY:La Bâtie des enfants en hiver
DESCRIPTION:La Bâtie des enfants vous attend avec vos bottes et vos doudounes pour vivre des moments inoubliables. \nJouer dans un orchestre avec des instruments recyclés\, faire du yoga\, créer des œuvres avec des éléments de la nature ou s’émerveiller face à un spectacle de cirque et de marionnettes \nEn plein air : des activités créatives et artistiques proposées dans le cadre de la Bâtie des enfants. \nTous les week-ends\, Jusqu’au 23 mars 2025\, venez développer votre imagination et vous imprégner de culture dans cet espace magique en pleine nature. \n\n\n\n\n 
URL:https://genevabucketlist.com/agenda/la-batie-des-enfants-en-hiver/2025-03-16/
LOCATION:Bois de la Bâtie\, Chem. de la Bâtie\, Genève\, 1202\, Suisse
ATTACH;FMTTYPE=image/png:https://genevabucketlist.com/wp-content/uploads/2025/02/1acef4_8c135f948d07449b95d8043beac9350bmv2.png
END:VEVENT
END:VCALENDAR