BEGIN:VCALENDAR
VERSION:2.0
PRODID:-//Genevabucketlist - ECPv6.15.20//NONSGML v1.0//EN
CALSCALE:GREGORIAN
METHOD:PUBLISH
X-WR-CALNAME:Genevabucketlist
X-ORIGINAL-URL:https://genevabucketlist.com
X-WR-CALDESC:Évènements pour Genevabucketlist
REFRESH-INTERVAL;VALUE=DURATION:PT1H
X-Robots-Tag:noindex
X-PUBLISHED-TTL:PT1H
BEGIN:VTIMEZONE
TZID:Europe/Paris
BEGIN:DAYLIGHT
TZOFFSETFROM:+0100
TZOFFSETTO:+0200
TZNAME:CEST
DTSTART:20250330T010000
END:DAYLIGHT
BEGIN:STANDARD
TZOFFSETFROM:+0200
TZOFFSETTO:+0100
TZNAME:CET
DTSTART:20251026T010000
END:STANDARD
BEGIN:DAYLIGHT
TZOFFSETFROM:+0100
TZOFFSETTO:+0200
TZNAME:CEST
DTSTART:20260329T010000
END:DAYLIGHT
BEGIN:STANDARD
TZOFFSETFROM:+0200
TZOFFSETTO:+0100
TZNAME:CET
DTSTART:20261025T010000
END:STANDARD
BEGIN:DAYLIGHT
TZOFFSETFROM:+0100
TZOFFSETTO:+0200
TZNAME:CEST
DTSTART:20270328T010000
END:DAYLIGHT
BEGIN:STANDARD
TZOFFSETFROM:+0200
TZOFFSETTO:+0100
TZNAME:CET
DTSTART:20271031T010000
END:STANDARD
END:VTIMEZONE
BEGIN:VEVENT
DTSTART;TZID=Europe/Paris:20260311T093000
DTEND;TZID=Europe/Paris:20260314T180000
DTSTAMP:20260424T125042
CREATED:20260302T115524Z
LAST-MODIFIED:20260302T115524Z
UID:10004860-1773221400-1773511200@genevabucketlist.com
SUMMARY:Salon International des Inventions de Genève
DESCRIPTION:Le Salon International des Inventions de Genève est un grand rendez-vous dédié à l’innovation\, aux idées et aux prototypes du monde entier. \n💡 Ce que tu pourras y voir et faire :• Plus de 1 000 inventions présentées par inventeurs\, entreprises et universités de ~40 pays. • Ateliers interactifs pour enfants et adultes. • Pavillon Suisse avec conférences\, tables rondes et rencontres autour des technologies et de l’innovation. • Espaces d’échanges\, découvertes et inspirations pour tous les curieux. \n🕘 Horaires :• Mercredi à samedi — 09:30 – 18:00• Dimanche — 09:30 – 16:00 \n🎟️ Entrée : payante\, avec tarifs réduits et gratuit pour les moins de 18 ans. \n\n\nBillet adulte  : CHF 14.- sur place / CHF 10.- en ligne \n\n\nBillet réduit AVI / AI / étudiant·e / groupe dès 10 personnes : CHF 8.- sur place / CHF 5.- en ligne \n\n\n\n\nUn événement idéal pour découvrir les inventions de demain\, participer à des ateliers ludiques et s’inspirer auprès d’esprits créatifs du monde entier.
URL:https://genevabucketlist.com/agenda/salon-international-des-inventions-de-geneve/2026-03-11/
LOCATION:Palexpo\, Route François-Peyrot 30\, 1218\, Suisse
ATTACH;FMTTYPE=image/jpeg:https://genevabucketlist.com/wp-content/uploads/2026/03/IMG_0385.jpeg
END:VEVENT
BEGIN:VEVENT
DTSTART;TZID=Europe/Paris:20260311T190000
DTEND;TZID=Europe/Paris:20260311T220000
DTSTAMP:20260424T125042
CREATED:20260305T194346Z
LAST-MODIFIED:20260305T194347Z
UID:10004864-1773255600-1773266400@genevabucketlist.com
SUMMARY:Caustic Comedy Night
DESCRIPTION:« 4 humoristes\, 1h de blagues » \nà 19:00 et 21:00 \nLa Caustic Comedy Night va devenir ton rendez-vous préféré au Caustic 😉 Le principe est simple : un spectacle de stand-up où les gens drôles de Suisse\, de France et de Belgique vont te faire rire pendant une heure. \nTu veux passer une soirée insolite à Genève ? Tu prends ton billet\, tu prends ta bière\, tu descends dans notre petite cave voutée\, tu t’installes… Des humoristes de talent vont se succéder pour balancer des blagues dans le micro\, et tu vas rire. Fort\, parce qu’au Caustic on te fait une promesse : les artistes qu’on te présente sont drôles. Parfois connus\, parfois émergents\, mais toujours drôles. \n 
URL:https://genevabucketlist.com/agenda/caustic-comedy-night-2-2/
LOCATION:Caustic Comedy Club\, Av. Cardinal-Mermillod 6\, Genève\, Carouge\, 1227\, Suisse
ATTACH;FMTTYPE=image/jpeg:https://genevabucketlist.com/wp-content/uploads/2025/10/91ed0e39-2de9-4b62-8fcb-8ccce18b27f0.jpg
END:VEVENT
BEGIN:VEVENT
DTSTART;TZID=Europe/Paris:20260314T103000
DTEND;TZID=Europe/Paris:20260314T213000
DTSTAMP:20260424T125042
CREATED:20260313T080040Z
LAST-MODIFIED:20260313T080040Z
UID:10004881-1773484200-1773523800@genevabucketlist.com
SUMMARY:Le Centre fête la Musique !
DESCRIPTION:Le samedi 14 mars\, la musique prend possession du Centre des Musiques Actuelles de Genève pour une journée de concerts non-stop. \nTout au long de la journée\, les ateliers des professeur·e·s de : Catalyse\, CEC André-Chavanne\, CMG\, eMa\, Institut Jacques-Dalcroze\, La Bulle d’Air et l’Ondine Genevoise\, prennent possession des scènes. \nDes élèves de tous âges et de tous niveaux se succèdent\, des premières expériences scéniques aux prestations les plus affirmées. La programmation sera ponctuée de moments de partage uniques entre professeur·e·s et élèves. \nConcerts gratuits de 10h30 à 21h30 dans les deux salles du Centre : le Chaudron et l’Auditorium Ansermet. \nPetite restauration et buvette ouvertes toute la journée. \n\n\n ema.school/evenement/le-centre-fete-la-musique
URL:https://genevabucketlist.com/agenda/le-centre-fete-la-musique/
LOCATION:eMa\, Ecole des Musiques Actuelles\, Passage Marie-Claude Leburgue 2 (anciennement Passage de la Radio 2)\, Genève\, Genève\, 1205\, Suisse
ATTACH;FMTTYPE=image/jpeg:https://genevabucketlist.com/wp-content/uploads/2025/02/EMA2.jpeg
END:VEVENT
BEGIN:VEVENT
DTSTART;TZID=Europe/Paris:20260314T150000
DTEND;TZID=Europe/Paris:20260314T170000
DTSTAMP:20260424T125042
CREATED:20260305T201736Z
LAST-MODIFIED:20260305T201736Z
UID:10004873-1773500400-1773507600@genevabucketlist.com
SUMMARY:La Bâtie des enfants à Bois de la Bâtie
DESCRIPTION:La Bâtie des enfants revient de février à mai au Bois de la Bâtie pour le plus grand plaisir des familles. \nChaque week-end\, dans un cadre préservé\, des activités culturelles et ludiques gratuites sont proposées: ateliers\, jeux et spectacles de compagnies venues de toute la Suisse. \nUne programmation éclectique et de qualité pour tous les âges\, favorisant l’éveil culturel\, l’apprentissage et la liberté dès le plus jeune âge. \nL’âge dépend de chaque activité. \nLe programme ici !!
URL:https://genevabucketlist.com/agenda/la-batie-des-enfants-a-bois-de-la-batie/2026-03-14/
LOCATION:Bois de la Bâtie\, Chem. de la Bâtie\, Genève\, 1202\, Suisse
ATTACH;FMTTYPE=image/jpeg:https://genevabucketlist.com/wp-content/uploads/2026/03/Image-43.jpeg
END:VEVENT
END:VCALENDAR