BEGIN:VCALENDAR
VERSION:2.0
PRODID:-//Genevabucketlist - ECPv6.15.20//NONSGML v1.0//EN
CALSCALE:GREGORIAN
METHOD:PUBLISH
X-ORIGINAL-URL:https://genevabucketlist.com
X-WR-CALDESC:Évènements pour Genevabucketlist
REFRESH-INTERVAL;VALUE=DURATION:PT1H
X-Robots-Tag:noindex
X-PUBLISHED-TTL:PT1H
BEGIN:VTIMEZONE
TZID:Europe/Paris
BEGIN:DAYLIGHT
TZOFFSETFROM:+0100
TZOFFSETTO:+0200
TZNAME:CEST
DTSTART:20250330T010000
END:DAYLIGHT
BEGIN:STANDARD
TZOFFSETFROM:+0200
TZOFFSETTO:+0100
TZNAME:CET
DTSTART:20251026T010000
END:STANDARD
BEGIN:DAYLIGHT
TZOFFSETFROM:+0100
TZOFFSETTO:+0200
TZNAME:CEST
DTSTART:20260329T010000
END:DAYLIGHT
BEGIN:STANDARD
TZOFFSETFROM:+0200
TZOFFSETTO:+0100
TZNAME:CET
DTSTART:20261025T010000
END:STANDARD
BEGIN:DAYLIGHT
TZOFFSETFROM:+0100
TZOFFSETTO:+0200
TZNAME:CEST
DTSTART:20270328T010000
END:DAYLIGHT
BEGIN:STANDARD
TZOFFSETFROM:+0200
TZOFFSETTO:+0100
TZNAME:CET
DTSTART:20271031T010000
END:STANDARD
END:VTIMEZONE
BEGIN:VEVENT
DTSTART;TZID=Europe/Paris:20260428T163000
DTEND;TZID=Europe/Paris:20260428T220000
DTSTAMP:20260422T122328
CREATED:20260422T092012Z
LAST-MODIFIED:20260422T092012Z
UID:10004938-1777393800-1777413600@genevabucketlist.com
SUMMARY:PORTES OUVERTES CATALYSE
DESCRIPTION:Catalyse vous invite à découvrir une semaine exceptionnelle dédiée aux arts de la scène\, autour du chant\, du théâtre\, de l’improvisation et de la comédie musicale. \nDu lundi 27 au jeudi 30 avril 2026\, notre école ouvre ses portes à tous\, gratuitement et sans inscription\, dans la limite des places disponibles. \nCette semaine découverte est une occasion idéale pour petits et grands d’explorer différentes disciplines artistiques dans une ambiance conviviale et bienveillante. Les plus jeunes pourront s’initier à l’éveil musical et théâtrale avec les cours « Jardin des voix »\, pensés pour développer l’écoute\, la créativité et le plaisir de chanter dès le plus jeune âge. \nLes enfants et adolescents auront également accès à des cours adaptés à leur tranche d’âge\, que ce soit en chant\, en théâtre ou en comédie musicale. Les ateliers « Hobby » et « Plaisir » permettent de découvrir la voix et le travail musical\, tandis que les groupes « Saltimbanques » et « Compagnie » offrent une première immersion dans le jeu théâtral et l’expression scénique. \nPour les adultes\, la semaine propose une grande variété de styles et de niveaux : jazz\, swing\, pop\, polyphonie classique\, circle song ou encore comédie musicale. Les participants plus expérimentés pourront rejoindre des ensembles avancés tels que les quartets ou trios\, tandis que les débutants sont les bienvenus dans des cours loisirs accessibles à tous. \nLes ateliers de théâtre pour adultes\, qu’il s’agisse de cours comédiens ou de troupe\, permettent de travailler l’improvisation\, la présence scénique et le plaisir du jeu collectif. \nQue vous soyez curieux\, passionné ou simplement à la recherche d’une nouvelle activité\, cette semaine est faite pour vous. Venez essayer\, rencontrer nos enseignants et partager un moment artistique unique ! \nCours et horaires : https://catalyse.ch/agenda-catalyse/portes-ouvertes-avril-2026/\n\n\n\n\n\nGratuit et sans inscription dans la limite des places disponibles.\n\nLUNDI 27.04.26 :\n\n\nEVEIL\n\nJardin des voix II (5-6 ans): 16h45-17h30\n\nCHANT:\n\nHobby 7-9 ans: 16h30-17h30\nHobby 9-11 ans: 17h45-18h45\nPlaisir 12-15 ans: 17h45-18h45\nQuartet adultes (avancés): 18h30-20h00\nLoisir Jazz & Swing (adultes) : 19h30-20h30\n\nTHÉÂTRE:\n\nSaltimbanques 7-9 ans: 16h30-17h45\nSaltimbanques 9-11 ans: 17h45-19h00\nComédiens (adultes): 19h30-21h30\nTroupe (adultes): 19h30-21h30\n\n  \nMARDI 28.04.26 :\nCHANT:\n\nComédie Musicale 12-15 ans: 17h30-19h00\nLoisir Pop/Musiques actuelles (adultes) : 19h30-20h30\nCircle song (18+) : 19h30-21h30\n\nTHÉÂTRE:\n\nSaltimbanques 7-9 ans: 16h30-17h45\nSaltimbanques 9-11 ans: 17h45-19h00\nComédie Musicale 12-15 ans: 17h30-19h00\nTroupe (adultes): 19h30-21h30\n\nMERCREDI 29.04.26:\nEVEIL:\n\nJardin des voix I (3-4 ans): 10h45-11h30\n\nCHANT:\n\nHobby 7-9 ans: 16h00-17h00\nHobby 9-11 ans: 16h00-17h00\nComédie Musicale 9-11 ans: 14h00-15h30\nQuartet 15-18 ans (avancés): 17h45-19h15\nLoisir Polyphonie Classique (adultes) : 19h30-20h30\nTrio (avancés): 19h30-21h00\n\nTHÉÂTRE:\n\nSaltimbanques 7-9 ans: 14h15-15h30\nSaltimbanques 9-11 ans: 15h45-17h00\nComédie Musicale 9-11 ans: 14h00-15h30\nCompagnie (12-17 ans): 17h15-19h15\nComédiens (adultes): 19h30-21h30\n\n  \nJEUDI 30.04.26:\nEVEIL:\n\nJardin des voix I (3-4 ans): 16h45-17h30\nJardin des voix II (5-6 ans): 16h45-17h30\n\nCHANT:\n\nPlaisir 12-15 ans: 18h30-19h30\nQuartet 18+ (avancés): 19h30-21h30\nComédie Musicale adultes : 19h30-21h00\n\nTHÉÂTRE:\n\nCompagnie (12-15 ans): 17h30-19h30\nComédie Musicale (adultes) : 19h30-21h00
URL:https://genevabucketlist.com/agenda/portes-ouvertes-catalyse/2026-04-28/
LOCATION:Catalyse\, Avenue Rosemont 14\, Genève\, 1208\, Suisse
ATTACH;FMTTYPE=image/jpeg:https://genevabucketlist.com/wp-content/uploads/2026/04/Image-9-1.jpeg
END:VEVENT
BEGIN:VEVENT
DTSTART;TZID=Europe/Paris:20260429T070000
DTEND;TZID=Europe/Paris:20260429T170000
DTSTAMP:20260422T122328
CREATED:20250206T090550Z
LAST-MODIFIED:20260410T081157Z
UID:10004916-1777446000-1777482000@genevabucketlist.com
SUMMARY:Marché aux Puces de Plainpalais
DESCRIPTION:Le Marché aux Puces de Plainpalais attirant les chineurs\, les collectionneurs et les curieux en quête d’objets uniques. \nUn rendez-vous hebdomadaire \nLe marché se tient les mercredis\, samedis et dimanches\, offrant une sélection variée d’articles allant des meubles anciens aux bijoux vintage\, en passant par des livres rares\, des vêtements d’époque et des objets de collection. C’est l’endroit idéal pour dénicher des pièces originales et donner une seconde vie à des objets chargés d’histoire. \nUne ambiance authentique \nFlâner entre les stands du marché\, c’est aussi l’occasion de discuter avec des vendeurs passionnés et d’apprendre l’histoire derrière chaque objet. Que vous soyez un amateur de brocante ou simplement curieux\, l’atmosphère conviviale et vivante du marché rend la visite toujours agréable.
URL:https://genevabucketlist.com/agenda/marche-aux-puces-de-plainpalais/2026-04-29/
LOCATION:Plaine de Plainpalais\, Av. du Mail\, Genève\, Genève\, 1205\, Suisse
ATTACH;FMTTYPE=image/jpeg:https://genevabucketlist.com/wp-content/uploads/2025/02/Marche-de-plainpalais2.jpg
END:VEVENT
BEGIN:VEVENT
DTSTART;TZID=Europe/Paris:20260429T103000
DTEND;TZID=Europe/Paris:20260429T210000
DTSTAMP:20260422T122328
CREATED:20260422T092012Z
LAST-MODIFIED:20260422T092012Z
UID:10004939-1777458600-1777496400@genevabucketlist.com
SUMMARY:PORTES OUVERTES CATALYSE
DESCRIPTION:Catalyse vous invite à découvrir une semaine exceptionnelle dédiée aux arts de la scène\, autour du chant\, du théâtre\, de l’improvisation et de la comédie musicale. \nDu lundi 27 au jeudi 30 avril 2026\, notre école ouvre ses portes à tous\, gratuitement et sans inscription\, dans la limite des places disponibles. \nCette semaine découverte est une occasion idéale pour petits et grands d’explorer différentes disciplines artistiques dans une ambiance conviviale et bienveillante. Les plus jeunes pourront s’initier à l’éveil musical et théâtrale avec les cours « Jardin des voix »\, pensés pour développer l’écoute\, la créativité et le plaisir de chanter dès le plus jeune âge. \nLes enfants et adolescents auront également accès à des cours adaptés à leur tranche d’âge\, que ce soit en chant\, en théâtre ou en comédie musicale. Les ateliers « Hobby » et « Plaisir » permettent de découvrir la voix et le travail musical\, tandis que les groupes « Saltimbanques » et « Compagnie » offrent une première immersion dans le jeu théâtral et l’expression scénique. \nPour les adultes\, la semaine propose une grande variété de styles et de niveaux : jazz\, swing\, pop\, polyphonie classique\, circle song ou encore comédie musicale. Les participants plus expérimentés pourront rejoindre des ensembles avancés tels que les quartets ou trios\, tandis que les débutants sont les bienvenus dans des cours loisirs accessibles à tous. \nLes ateliers de théâtre pour adultes\, qu’il s’agisse de cours comédiens ou de troupe\, permettent de travailler l’improvisation\, la présence scénique et le plaisir du jeu collectif. \nQue vous soyez curieux\, passionné ou simplement à la recherche d’une nouvelle activité\, cette semaine est faite pour vous. Venez essayer\, rencontrer nos enseignants et partager un moment artistique unique ! \nCours et horaires : https://catalyse.ch/agenda-catalyse/portes-ouvertes-avril-2026/\n\n\n\n\n\nGratuit et sans inscription dans la limite des places disponibles.\n\nLUNDI 27.04.26 :\n\n\nEVEIL\n\nJardin des voix II (5-6 ans): 16h45-17h30\n\nCHANT:\n\nHobby 7-9 ans: 16h30-17h30\nHobby 9-11 ans: 17h45-18h45\nPlaisir 12-15 ans: 17h45-18h45\nQuartet adultes (avancés): 18h30-20h00\nLoisir Jazz & Swing (adultes) : 19h30-20h30\n\nTHÉÂTRE:\n\nSaltimbanques 7-9 ans: 16h30-17h45\nSaltimbanques 9-11 ans: 17h45-19h00\nComédiens (adultes): 19h30-21h30\nTroupe (adultes): 19h30-21h30\n\n  \nMARDI 28.04.26 :\nCHANT:\n\nComédie Musicale 12-15 ans: 17h30-19h00\nLoisir Pop/Musiques actuelles (adultes) : 19h30-20h30\nCircle song (18+) : 19h30-21h30\n\nTHÉÂTRE:\n\nSaltimbanques 7-9 ans: 16h30-17h45\nSaltimbanques 9-11 ans: 17h45-19h00\nComédie Musicale 12-15 ans: 17h30-19h00\nTroupe (adultes): 19h30-21h30\n\nMERCREDI 29.04.26:\nEVEIL:\n\nJardin des voix I (3-4 ans): 10h45-11h30\n\nCHANT:\n\nHobby 7-9 ans: 16h00-17h00\nHobby 9-11 ans: 16h00-17h00\nComédie Musicale 9-11 ans: 14h00-15h30\nQuartet 15-18 ans (avancés): 17h45-19h15\nLoisir Polyphonie Classique (adultes) : 19h30-20h30\nTrio (avancés): 19h30-21h00\n\nTHÉÂTRE:\n\nSaltimbanques 7-9 ans: 14h15-15h30\nSaltimbanques 9-11 ans: 15h45-17h00\nComédie Musicale 9-11 ans: 14h00-15h30\nCompagnie (12-17 ans): 17h15-19h15\nComédiens (adultes): 19h30-21h30\n\n  \nJEUDI 30.04.26:\nEVEIL:\n\nJardin des voix I (3-4 ans): 16h45-17h30\nJardin des voix II (5-6 ans): 16h45-17h30\n\nCHANT:\n\nPlaisir 12-15 ans: 18h30-19h30\nQuartet 18+ (avancés): 19h30-21h30\nComédie Musicale adultes : 19h30-21h00\n\nTHÉÂTRE:\n\nCompagnie (12-15 ans): 17h30-19h30\nComédie Musicale (adultes) : 19h30-21h00
URL:https://genevabucketlist.com/agenda/portes-ouvertes-catalyse/2026-04-29/
LOCATION:Catalyse\, Avenue Rosemont 14\, Genève\, 1208\, Suisse
ATTACH;FMTTYPE=image/jpeg:https://genevabucketlist.com/wp-content/uploads/2026/04/Image-9-1.jpeg
END:VEVENT
BEGIN:VEVENT
DTSTART;TZID=Europe/Paris:20260429T170000
DTEND;TZID=Europe/Paris:20260429T210000
DTSTAMP:20260422T122328
CREATED:20260420T092220Z
LAST-MODIFIED:20260420T092220Z
UID:10004929-1777482000-1777496400@genevabucketlist.com
SUMMARY:Exposition | WARPED "Mapping Festival"
DESCRIPTION:Base Window n’est pas une galerie\, pas un showroom\, pas un centre d’art. \nC’est un espace d’exposition indépendant qui brouille les frontières entre art\, design\, architecture\, numérique et édition. \nInitié par Base\, Base Window se veut un lieu hybride\, un laboratoire où les disciplines se rencontrent et se répondent\, où les pratiques expérimentales et les projets transdisciplinaires trouvent leur place. \nÀ découvrir dès le 29 avril et jusqu’à l’été. \nEncor Studio(CH)\nWarped 2026\n\nDu 29 avril\, jusqu’à cet été\, explorez l’interaction entre la présence et l’absence\, où la perception se substitue aux éléments physiques\, ne laissant derrière elle qu’une trace. \nCette oeuvre évoque les thématiques de la perte et du non-dit\, laissant entrevoir comment la mémoire resurgit par surprise\, révélant ce qu’elle semblait avoir oublié auparavant. \nen savoir plus\n\n\n|29.4|17h – 21h| \n|30.4 – 30.6.26|10h – 18h| \n\n|Base Window| \n|Exposition|
URL:https://genevabucketlist.com/agenda/exposition-warped-mapping-festival/2026-04-29/
LOCATION:Base Window\, Rue de Monthoux\, 12\, Genève\, 1201\, Suisse
ATTACH;FMTTYPE=image/jpeg:https://genevabucketlist.com/wp-content/uploads/2026/04/Image-3-1-scaled.jpeg
END:VEVENT
BEGIN:VEVENT
DTSTART;TZID=Europe/Paris:20260430T100000
DTEND;TZID=Europe/Paris:20260530T180000
DTSTAMP:20260422T122328
CREATED:20260420T092220Z
LAST-MODIFIED:20260420T092220Z
UID:10004930-1777543200-1780164000@genevabucketlist.com
SUMMARY:Exposition | WARPED "Mapping Festival"
DESCRIPTION:Base Window n’est pas une galerie\, pas un showroom\, pas un centre d’art. \nC’est un espace d’exposition indépendant qui brouille les frontières entre art\, design\, architecture\, numérique et édition. \nInitié par Base\, Base Window se veut un lieu hybride\, un laboratoire où les disciplines se rencontrent et se répondent\, où les pratiques expérimentales et les projets transdisciplinaires trouvent leur place. \nÀ découvrir dès le 29 avril et jusqu’à l’été. \nEncor Studio(CH)\nWarped 2026\n\nDu 29 avril\, jusqu’à cet été\, explorez l’interaction entre la présence et l’absence\, où la perception se substitue aux éléments physiques\, ne laissant derrière elle qu’une trace. \nCette oeuvre évoque les thématiques de la perte et du non-dit\, laissant entrevoir comment la mémoire resurgit par surprise\, révélant ce qu’elle semblait avoir oublié auparavant. \nen savoir plus\n\n\n|29.4|17h – 21h| \n|30.4 – 30.6.26|10h – 18h| \n\n|Base Window| \n|Exposition|
URL:https://genevabucketlist.com/agenda/exposition-warped-mapping-festival/2026-04-30/
LOCATION:Base Window\, Rue de Monthoux\, 12\, Genève\, 1201\, Suisse
ATTACH;FMTTYPE=image/jpeg:https://genevabucketlist.com/wp-content/uploads/2026/04/Image-3-1-scaled.jpeg
END:VEVENT
BEGIN:VEVENT
DTSTART;TZID=Europe/Paris:20260430T160000
DTEND;TZID=Europe/Paris:20260430T210000
DTSTAMP:20260422T122328
CREATED:20260422T092012Z
LAST-MODIFIED:20260422T092012Z
UID:10004940-1777564800-1777582800@genevabucketlist.com
SUMMARY:PORTES OUVERTES CATALYSE
DESCRIPTION:Catalyse vous invite à découvrir une semaine exceptionnelle dédiée aux arts de la scène\, autour du chant\, du théâtre\, de l’improvisation et de la comédie musicale. \nDu lundi 27 au jeudi 30 avril 2026\, notre école ouvre ses portes à tous\, gratuitement et sans inscription\, dans la limite des places disponibles. \nCette semaine découverte est une occasion idéale pour petits et grands d’explorer différentes disciplines artistiques dans une ambiance conviviale et bienveillante. Les plus jeunes pourront s’initier à l’éveil musical et théâtrale avec les cours « Jardin des voix »\, pensés pour développer l’écoute\, la créativité et le plaisir de chanter dès le plus jeune âge. \nLes enfants et adolescents auront également accès à des cours adaptés à leur tranche d’âge\, que ce soit en chant\, en théâtre ou en comédie musicale. Les ateliers « Hobby » et « Plaisir » permettent de découvrir la voix et le travail musical\, tandis que les groupes « Saltimbanques » et « Compagnie » offrent une première immersion dans le jeu théâtral et l’expression scénique. \nPour les adultes\, la semaine propose une grande variété de styles et de niveaux : jazz\, swing\, pop\, polyphonie classique\, circle song ou encore comédie musicale. Les participants plus expérimentés pourront rejoindre des ensembles avancés tels que les quartets ou trios\, tandis que les débutants sont les bienvenus dans des cours loisirs accessibles à tous. \nLes ateliers de théâtre pour adultes\, qu’il s’agisse de cours comédiens ou de troupe\, permettent de travailler l’improvisation\, la présence scénique et le plaisir du jeu collectif. \nQue vous soyez curieux\, passionné ou simplement à la recherche d’une nouvelle activité\, cette semaine est faite pour vous. Venez essayer\, rencontrer nos enseignants et partager un moment artistique unique ! \nCours et horaires : https://catalyse.ch/agenda-catalyse/portes-ouvertes-avril-2026/\n\n\n\n\n\nGratuit et sans inscription dans la limite des places disponibles.\n\nLUNDI 27.04.26 :\n\n\nEVEIL\n\nJardin des voix II (5-6 ans): 16h45-17h30\n\nCHANT:\n\nHobby 7-9 ans: 16h30-17h30\nHobby 9-11 ans: 17h45-18h45\nPlaisir 12-15 ans: 17h45-18h45\nQuartet adultes (avancés): 18h30-20h00\nLoisir Jazz & Swing (adultes) : 19h30-20h30\n\nTHÉÂTRE:\n\nSaltimbanques 7-9 ans: 16h30-17h45\nSaltimbanques 9-11 ans: 17h45-19h00\nComédiens (adultes): 19h30-21h30\nTroupe (adultes): 19h30-21h30\n\n  \nMARDI 28.04.26 :\nCHANT:\n\nComédie Musicale 12-15 ans: 17h30-19h00\nLoisir Pop/Musiques actuelles (adultes) : 19h30-20h30\nCircle song (18+) : 19h30-21h30\n\nTHÉÂTRE:\n\nSaltimbanques 7-9 ans: 16h30-17h45\nSaltimbanques 9-11 ans: 17h45-19h00\nComédie Musicale 12-15 ans: 17h30-19h00\nTroupe (adultes): 19h30-21h30\n\nMERCREDI 29.04.26:\nEVEIL:\n\nJardin des voix I (3-4 ans): 10h45-11h30\n\nCHANT:\n\nHobby 7-9 ans: 16h00-17h00\nHobby 9-11 ans: 16h00-17h00\nComédie Musicale 9-11 ans: 14h00-15h30\nQuartet 15-18 ans (avancés): 17h45-19h15\nLoisir Polyphonie Classique (adultes) : 19h30-20h30\nTrio (avancés): 19h30-21h00\n\nTHÉÂTRE:\n\nSaltimbanques 7-9 ans: 14h15-15h30\nSaltimbanques 9-11 ans: 15h45-17h00\nComédie Musicale 9-11 ans: 14h00-15h30\nCompagnie (12-17 ans): 17h15-19h15\nComédiens (adultes): 19h30-21h30\n\n  \nJEUDI 30.04.26:\nEVEIL:\n\nJardin des voix I (3-4 ans): 16h45-17h30\nJardin des voix II (5-6 ans): 16h45-17h30\n\nCHANT:\n\nPlaisir 12-15 ans: 18h30-19h30\nQuartet 18+ (avancés): 19h30-21h30\nComédie Musicale adultes : 19h30-21h00\n\nTHÉÂTRE:\n\nCompagnie (12-15 ans): 17h30-19h30\nComédie Musicale (adultes) : 19h30-21h00
URL:https://genevabucketlist.com/agenda/portes-ouvertes-catalyse/2026-04-30/
LOCATION:Catalyse\, Avenue Rosemont 14\, Genève\, 1208\, Suisse
ATTACH;FMTTYPE=image/jpeg:https://genevabucketlist.com/wp-content/uploads/2026/04/Image-9-1.jpeg
END:VEVENT
BEGIN:VEVENT
DTSTART;TZID=Europe/Paris:20260502T070000
DTEND;TZID=Europe/Paris:20260502T170000
DTSTAMP:20260422T122328
CREATED:20250206T090550Z
LAST-MODIFIED:20260410T081157Z
UID:10004917-1777705200-1777741200@genevabucketlist.com
SUMMARY:Marché aux Puces de Plainpalais
DESCRIPTION:Le Marché aux Puces de Plainpalais attirant les chineurs\, les collectionneurs et les curieux en quête d’objets uniques. \nUn rendez-vous hebdomadaire \nLe marché se tient les mercredis\, samedis et dimanches\, offrant une sélection variée d’articles allant des meubles anciens aux bijoux vintage\, en passant par des livres rares\, des vêtements d’époque et des objets de collection. C’est l’endroit idéal pour dénicher des pièces originales et donner une seconde vie à des objets chargés d’histoire. \nUne ambiance authentique \nFlâner entre les stands du marché\, c’est aussi l’occasion de discuter avec des vendeurs passionnés et d’apprendre l’histoire derrière chaque objet. Que vous soyez un amateur de brocante ou simplement curieux\, l’atmosphère conviviale et vivante du marché rend la visite toujours agréable.
URL:https://genevabucketlist.com/agenda/marche-aux-puces-de-plainpalais/2026-05-02/
LOCATION:Plaine de Plainpalais\, Av. du Mail\, Genève\, Genève\, 1205\, Suisse
ATTACH;FMTTYPE=image/jpeg:https://genevabucketlist.com/wp-content/uploads/2025/02/Marche-de-plainpalais2.jpg
END:VEVENT
BEGIN:VEVENT
DTSTART;TZID=Europe/Paris:20260504T123000
DTEND;TZID=Europe/Paris:20260504T133000
DTSTAMP:20260422T122328
CREATED:20251020T074316Z
LAST-MODIFIED:20260406T083835Z
UID:10004907-1777897800-1777901400@genevabucketlist.com
SUMMARY:Cours de natation en eau froide
DESCRIPTION:Vous souhaitez commencer la nage en eau froide et rejoindre un mouvement de plusieurs centaines de personnes qui se baignent tout l’hiver aux Bains? Vous souhaitez profiter des nombreux bienfaits de la nage en eau froide (défenses immunitaires\, bien-être mental\, etc.)? \nDès le 1er septembre\, les Bains vous proposent des cours tous les lundis entre 12h30 et 13h30 par groupes de 8 au maximum pour vous donner toutes les clés pour vous lancer. \nCe cours s’adresse aux nageuses et nageurs intermédiaires et confirmé-es (on ne vous apprend pas à nager pendant le cours). \nInscriptions à la Rotonde des Bains\, CHF 10 par cours.
URL:https://genevabucketlist.com/agenda/cours-de-natation-en-eau-froide/2026-05-04/
LOCATION:Bains des Paquis\, Quai du Mont-Blanc 30\, Genève\, Genève\, 1201\, Suisse
ATTACH;FMTTYPE=image/jpeg:https://genevabucketlist.com/wp-content/uploads/2025/02/Cours-de-natation-en-eau-froide-e1738698103481.jpeg
END:VEVENT
BEGIN:VEVENT
DTSTART;TZID=Europe/Paris:20260506T070000
DTEND;TZID=Europe/Paris:20260506T170000
DTSTAMP:20260422T122328
CREATED:20250206T090550Z
LAST-MODIFIED:20260410T081157Z
UID:10004918-1778050800-1778086800@genevabucketlist.com
SUMMARY:Marché aux Puces de Plainpalais
DESCRIPTION:Le Marché aux Puces de Plainpalais attirant les chineurs\, les collectionneurs et les curieux en quête d’objets uniques. \nUn rendez-vous hebdomadaire \nLe marché se tient les mercredis\, samedis et dimanches\, offrant une sélection variée d’articles allant des meubles anciens aux bijoux vintage\, en passant par des livres rares\, des vêtements d’époque et des objets de collection. C’est l’endroit idéal pour dénicher des pièces originales et donner une seconde vie à des objets chargés d’histoire. \nUne ambiance authentique \nFlâner entre les stands du marché\, c’est aussi l’occasion de discuter avec des vendeurs passionnés et d’apprendre l’histoire derrière chaque objet. Que vous soyez un amateur de brocante ou simplement curieux\, l’atmosphère conviviale et vivante du marché rend la visite toujours agréable.
URL:https://genevabucketlist.com/agenda/marche-aux-puces-de-plainpalais/2026-05-06/
LOCATION:Plaine de Plainpalais\, Av. du Mail\, Genève\, Genève\, 1205\, Suisse
ATTACH;FMTTYPE=image/jpeg:https://genevabucketlist.com/wp-content/uploads/2025/02/Marche-de-plainpalais2.jpg
END:VEVENT
BEGIN:VEVENT
DTSTART;TZID=Europe/Paris:20260507T100000
DTEND;TZID=Europe/Paris:20260510T183000
DTSTAMP:20260422T122328
CREATED:20260402T090713Z
LAST-MODIFIED:20260402T090713Z
UID:10004898-1778148000-1778437800@genevabucketlist.com
SUMMARY:GemGenève
DESCRIPTION:GemGenève\, salon international de la joaillerie du 7 au 10 mai 2026 à Palexpo Genève\, réunit créateurs\, marchands et experts à travers expositions\, conférences et ateliers. \n\n\nGemGenève est le rendez-vous immanquable des amateurs de pierres précieuses\, des collectionneurs de bijoux et des professionnels de l’industrie de la joaillerie. \nRéunissant chaque année à Genève tous les métiers du secteur\, dont les plus grands marchands internationaux\, ce salon aussi intimiste et convivial que transversal s’est affirmé comme un lieu d’échange entre passionnés et experts du monde entier. \nOffrant un vibrant panorama sur la jeune création\, GemGenève est un tremplin incontournable pour les designers émergents et tous les talents de demain. \nAccessible aux initiés comme au grand public\, GemGenève invite le monde entier à célébrer les arts joailliers et œuvre à la transmission des savoir-faire rares grâce à une programmation culturelle dense : expositions thématiques originales présentant des pièces de qualité muséale\, cycles de conférences\, librairies éphémères et ateliers métiers d’art. \nChaque année\, grandes maisons de joaillerie\, musées et institutions de renom s’associent à l’événement le temps d’un partenariat et y exposent des pièces historiques et des chefs-d’œuvre de haute-joaillerie.
URL:https://genevabucketlist.com/agenda/gemgeneve-2/
LOCATION:Palexpo\, Route François-Peyrot 30\, 1218\, Suisse
ATTACH;FMTTYPE=image/jpeg:https://genevabucketlist.com/wp-content/uploads/2026/04/Image-2.jpeg
END:VEVENT
BEGIN:VEVENT
DTSTART;TZID=Europe/Paris:20260509T070000
DTEND;TZID=Europe/Paris:20260509T170000
DTSTAMP:20260422T122328
CREATED:20250206T090550Z
LAST-MODIFIED:20260410T081157Z
UID:10004919-1778310000-1778346000@genevabucketlist.com
SUMMARY:Marché aux Puces de Plainpalais
DESCRIPTION:Le Marché aux Puces de Plainpalais attirant les chineurs\, les collectionneurs et les curieux en quête d’objets uniques. \nUn rendez-vous hebdomadaire \nLe marché se tient les mercredis\, samedis et dimanches\, offrant une sélection variée d’articles allant des meubles anciens aux bijoux vintage\, en passant par des livres rares\, des vêtements d’époque et des objets de collection. C’est l’endroit idéal pour dénicher des pièces originales et donner une seconde vie à des objets chargés d’histoire. \nUne ambiance authentique \nFlâner entre les stands du marché\, c’est aussi l’occasion de discuter avec des vendeurs passionnés et d’apprendre l’histoire derrière chaque objet. Que vous soyez un amateur de brocante ou simplement curieux\, l’atmosphère conviviale et vivante du marché rend la visite toujours agréable.
URL:https://genevabucketlist.com/agenda/marche-aux-puces-de-plainpalais/2026-05-09/
LOCATION:Plaine de Plainpalais\, Av. du Mail\, Genève\, Genève\, 1205\, Suisse
ATTACH;FMTTYPE=image/jpeg:https://genevabucketlist.com/wp-content/uploads/2025/02/Marche-de-plainpalais2.jpg
END:VEVENT
BEGIN:VEVENT
DTSTART;TZID=Europe/Paris:20260511T123000
DTEND;TZID=Europe/Paris:20260511T133000
DTSTAMP:20260422T122328
CREATED:20251020T074316Z
LAST-MODIFIED:20260406T083835Z
UID:10004908-1778502600-1778506200@genevabucketlist.com
SUMMARY:Cours de natation en eau froide
DESCRIPTION:Vous souhaitez commencer la nage en eau froide et rejoindre un mouvement de plusieurs centaines de personnes qui se baignent tout l’hiver aux Bains? Vous souhaitez profiter des nombreux bienfaits de la nage en eau froide (défenses immunitaires\, bien-être mental\, etc.)? \nDès le 1er septembre\, les Bains vous proposent des cours tous les lundis entre 12h30 et 13h30 par groupes de 8 au maximum pour vous donner toutes les clés pour vous lancer. \nCe cours s’adresse aux nageuses et nageurs intermédiaires et confirmé-es (on ne vous apprend pas à nager pendant le cours). \nInscriptions à la Rotonde des Bains\, CHF 10 par cours.
URL:https://genevabucketlist.com/agenda/cours-de-natation-en-eau-froide/2026-05-11/
LOCATION:Bains des Paquis\, Quai du Mont-Blanc 30\, Genève\, Genève\, 1201\, Suisse
ATTACH;FMTTYPE=image/jpeg:https://genevabucketlist.com/wp-content/uploads/2025/02/Cours-de-natation-en-eau-froide-e1738698103481.jpeg
END:VEVENT
END:VCALENDAR