BEGIN:VCALENDAR
VERSION:2.0
PRODID:-//Genevabucketlist - ECPv6.15.20//NONSGML v1.0//EN
CALSCALE:GREGORIAN
METHOD:PUBLISH
X-WR-CALNAME:Genevabucketlist
X-ORIGINAL-URL:https://genevabucketlist.com
X-WR-CALDESC:Évènements pour Genevabucketlist
REFRESH-INTERVAL;VALUE=DURATION:PT1H
X-Robots-Tag:noindex
X-PUBLISHED-TTL:PT1H
BEGIN:VTIMEZONE
TZID:Europe/Paris
BEGIN:DAYLIGHT
TZOFFSETFROM:+0100
TZOFFSETTO:+0200
TZNAME:CEST
DTSTART:20250330T010000
END:DAYLIGHT
BEGIN:STANDARD
TZOFFSETFROM:+0200
TZOFFSETTO:+0100
TZNAME:CET
DTSTART:20251026T010000
END:STANDARD
BEGIN:DAYLIGHT
TZOFFSETFROM:+0100
TZOFFSETTO:+0200
TZNAME:CEST
DTSTART:20260329T010000
END:DAYLIGHT
BEGIN:STANDARD
TZOFFSETFROM:+0200
TZOFFSETTO:+0100
TZNAME:CET
DTSTART:20261025T010000
END:STANDARD
BEGIN:DAYLIGHT
TZOFFSETFROM:+0100
TZOFFSETTO:+0200
TZNAME:CEST
DTSTART:20270328T010000
END:DAYLIGHT
BEGIN:STANDARD
TZOFFSETFROM:+0200
TZOFFSETTO:+0100
TZNAME:CET
DTSTART:20271031T010000
END:STANDARD
END:VTIMEZONE
BEGIN:VEVENT
DTSTART;TZID=Europe/Paris:20260429T170000
DTEND;TZID=Europe/Paris:20260429T210000
DTSTAMP:20260421T172844
CREATED:20260420T092220Z
LAST-MODIFIED:20260420T092220Z
UID:10004929-1777482000-1777496400@genevabucketlist.com
SUMMARY:Exposition | WARPED "Mapping Festival"
DESCRIPTION:Base Window n’est pas une galerie\, pas un showroom\, pas un centre d’art. \nC’est un espace d’exposition indépendant qui brouille les frontières entre art\, design\, architecture\, numérique et édition. \nInitié par Base\, Base Window se veut un lieu hybride\, un laboratoire où les disciplines se rencontrent et se répondent\, où les pratiques expérimentales et les projets transdisciplinaires trouvent leur place. \nÀ découvrir dès le 29 avril et jusqu’à l’été. \nEncor Studio(CH)\nWarped 2026\n\nDu 29 avril\, jusqu’à cet été\, explorez l’interaction entre la présence et l’absence\, où la perception se substitue aux éléments physiques\, ne laissant derrière elle qu’une trace. \nCette oeuvre évoque les thématiques de la perte et du non-dit\, laissant entrevoir comment la mémoire resurgit par surprise\, révélant ce qu’elle semblait avoir oublié auparavant. \nen savoir plus\n\n\n|29.4|17h – 21h| \n|30.4 – 30.6.26|10h – 18h| \n\n|Base Window| \n|Exposition|
URL:https://genevabucketlist.com/agenda/exposition-warped-mapping-festival/2026-04-29/
LOCATION:Base Window\, Rue de Monthoux\, 12\, Genève\, 1201\, Suisse
ATTACH;FMTTYPE=image/jpeg:https://genevabucketlist.com/wp-content/uploads/2026/04/Image-3-1-scaled.jpeg
END:VEVENT
BEGIN:VEVENT
DTSTART;TZID=Europe/Paris:20260430T100000
DTEND;TZID=Europe/Paris:20260530T180000
DTSTAMP:20260421T172845
CREATED:20260420T092220Z
LAST-MODIFIED:20260420T092220Z
UID:10004930-1777543200-1780164000@genevabucketlist.com
SUMMARY:Exposition | WARPED "Mapping Festival"
DESCRIPTION:Base Window n’est pas une galerie\, pas un showroom\, pas un centre d’art. \nC’est un espace d’exposition indépendant qui brouille les frontières entre art\, design\, architecture\, numérique et édition. \nInitié par Base\, Base Window se veut un lieu hybride\, un laboratoire où les disciplines se rencontrent et se répondent\, où les pratiques expérimentales et les projets transdisciplinaires trouvent leur place. \nÀ découvrir dès le 29 avril et jusqu’à l’été. \nEncor Studio(CH)\nWarped 2026\n\nDu 29 avril\, jusqu’à cet été\, explorez l’interaction entre la présence et l’absence\, où la perception se substitue aux éléments physiques\, ne laissant derrière elle qu’une trace. \nCette oeuvre évoque les thématiques de la perte et du non-dit\, laissant entrevoir comment la mémoire resurgit par surprise\, révélant ce qu’elle semblait avoir oublié auparavant. \nen savoir plus\n\n\n|29.4|17h – 21h| \n|30.4 – 30.6.26|10h – 18h| \n\n|Base Window| \n|Exposition|
URL:https://genevabucketlist.com/agenda/exposition-warped-mapping-festival/2026-04-30/
LOCATION:Base Window\, Rue de Monthoux\, 12\, Genève\, 1201\, Suisse
ATTACH;FMTTYPE=image/jpeg:https://genevabucketlist.com/wp-content/uploads/2026/04/Image-3-1-scaled.jpeg
END:VEVENT
END:VCALENDAR