BEGIN:VCALENDAR
VERSION:2.0
PRODID:-//Genevabucketlist - ECPv6.15.20//NONSGML v1.0//EN
CALSCALE:GREGORIAN
METHOD:PUBLISH
X-WR-CALNAME:Genevabucketlist
X-ORIGINAL-URL:https://genevabucketlist.com
X-WR-CALDESC:Évènements pour Genevabucketlist
REFRESH-INTERVAL;VALUE=DURATION:PT1H
X-Robots-Tag:noindex
X-PUBLISHED-TTL:PT1H
BEGIN:VTIMEZONE
TZID:Europe/Paris
BEGIN:DAYLIGHT
TZOFFSETFROM:+0100
TZOFFSETTO:+0200
TZNAME:CEST
DTSTART:20240331T010000
END:DAYLIGHT
BEGIN:STANDARD
TZOFFSETFROM:+0200
TZOFFSETTO:+0100
TZNAME:CET
DTSTART:20241027T010000
END:STANDARD
BEGIN:DAYLIGHT
TZOFFSETFROM:+0100
TZOFFSETTO:+0200
TZNAME:CEST
DTSTART:20250330T010000
END:DAYLIGHT
BEGIN:STANDARD
TZOFFSETFROM:+0200
TZOFFSETTO:+0100
TZNAME:CET
DTSTART:20251026T010000
END:STANDARD
BEGIN:DAYLIGHT
TZOFFSETFROM:+0100
TZOFFSETTO:+0200
TZNAME:CEST
DTSTART:20260329T010000
END:DAYLIGHT
BEGIN:STANDARD
TZOFFSETFROM:+0200
TZOFFSETTO:+0100
TZNAME:CET
DTSTART:20261025T010000
END:STANDARD
BEGIN:DAYLIGHT
TZOFFSETFROM:+0100
TZOFFSETTO:+0200
TZNAME:CEST
DTSTART:20270328T010000
END:DAYLIGHT
BEGIN:STANDARD
TZOFFSETFROM:+0200
TZOFFSETTO:+0100
TZNAME:CET
DTSTART:20271031T010000
END:STANDARD
END:VTIMEZONE
BEGIN:VEVENT
DTSTART;TZID=Europe/Paris:20251231T233000
DTEND;TZID=Europe/Paris:20260101T003000
DTSTAMP:20260420T002122
CREATED:20251219T220117Z
LAST-MODIFIED:20251227T115442Z
UID:10004625-1767223800-1767227400@genevabucketlist.com
SUMMARY:Feu d'artifice
DESCRIPTION:Venez fêter le passage à 2026 au bord du lac avec une vue imprenable sur le feu d’artifice à minuit ! \noffert par l’hôtel Fairmont. \nLe feu d’artifice sera cette année visible depuis toute la rade\, avec un départ devant l’hôtel Fairmont et un autre départ en face de Baby-Plage. \n  \n00h
URL:https://genevabucketlist.com/agenda/feu-dartifice/
LOCATION:La rade\, Genève\, Genève\, 1207\, Suisse
ATTACH;FMTTYPE=image/jpeg:https://genevabucketlist.com/wp-content/uploads/2025/12/1xgbeo7siqg-e1766181658739.jpg
END:VEVENT
BEGIN:VEVENT
DTSTART;TZID=Europe/Paris:20251220T083000
DTEND;TZID=Europe/Paris:20251221T160000
DTSTAMP:20260420T002122
CREATED:20251201T101010Z
LAST-MODIFIED:20251201T101010Z
UID:10004576-1766219400-1766332800@genevabucketlist.com
SUMMARY:Coupe de Noël
DESCRIPTION:Samedi 20 et dimanche 21 décembre\, les nageurs et nageuses braveront le froid glacial des eaux du Léman à l’occasion de la traditionnelle Coupe de Noël\, qui célèbre sa 87e édition.  \nComme d’habitude\, la course traditionnelle de 100m aura lieu le long du jardin anglais\, avec un départ proche du bateau « Le Genève ». \nAu programme \nPour cette plus grande course du monde en eau froide\, les participantes et participants devront nager sur une distance de 100 mètres le long de la promenade du Jardin Anglais\, dans une eau dont la température devrait osciller entre 5° et 10°. \nLes courses\, au départ proche du Bateau Genève se tiendront sur deux jours\, le samedi 20 et le dimanche 21 décembre 2025\, de 8h30 à 16h\, avec: \n\nles séries Compétition chronométrées\nles séries humoristiques 100m (sans temps)\n\nVenez soutenir cet événement hors du commun dans une ambiance qui sent bon les Fêtes de fin d’année!
URL:https://genevabucketlist.com/agenda/coupe-de-noel/
LOCATION:La rade\, Genève\, Genève\, 1207\, Suisse
ATTACH;FMTTYPE=image/jpeg:https://genevabucketlist.com/wp-content/uploads/2025/12/Image-89.jpeg
END:VEVENT
END:VCALENDAR