BEGIN:VCALENDAR
VERSION:2.0
PRODID:-//Genevabucketlist - ECPv6.15.20//NONSGML v1.0//EN
CALSCALE:GREGORIAN
METHOD:PUBLISH
X-ORIGINAL-URL:https://genevabucketlist.com
X-WR-CALDESC:Évènements pour Genevabucketlist
REFRESH-INTERVAL;VALUE=DURATION:PT1H
X-Robots-Tag:noindex
X-PUBLISHED-TTL:PT1H
BEGIN:VTIMEZONE
TZID:Europe/Paris
BEGIN:DAYLIGHT
TZOFFSETFROM:+0100
TZOFFSETTO:+0200
TZNAME:CEST
DTSTART:20250330T010000
END:DAYLIGHT
BEGIN:STANDARD
TZOFFSETFROM:+0200
TZOFFSETTO:+0100
TZNAME:CET
DTSTART:20251026T010000
END:STANDARD
BEGIN:DAYLIGHT
TZOFFSETFROM:+0100
TZOFFSETTO:+0200
TZNAME:CEST
DTSTART:20260329T010000
END:DAYLIGHT
BEGIN:STANDARD
TZOFFSETFROM:+0200
TZOFFSETTO:+0100
TZNAME:CET
DTSTART:20261025T010000
END:STANDARD
BEGIN:DAYLIGHT
TZOFFSETFROM:+0100
TZOFFSETTO:+0200
TZNAME:CEST
DTSTART:20270328T010000
END:DAYLIGHT
BEGIN:STANDARD
TZOFFSETFROM:+0200
TZOFFSETTO:+0100
TZNAME:CET
DTSTART:20271031T010000
END:STANDARD
END:VTIMEZONE
BEGIN:VEVENT
DTSTART;TZID=Europe/Paris:20260422T143000
DTEND;TZID=Europe/Paris:20260422T153000
DTSTAMP:20260425T025605
CREATED:20260422T082700Z
LAST-MODIFIED:20260422T082700Z
UID:10004931-1776868200-1776871800@genevabucketlist.com
SUMMARY:Films d'animation au Spoutnik (dès 5 ans)
DESCRIPTION:Le festival Animatou et le Spoutnik collaborent pour présenter deux court-métrages d’animation.\nDurée totale: 35 minutes.\n\n\nL’écrin unique du Spoutnik\, cinéma indipendant et intimiste\, accueille deux projections destinées aux enfant\, dès 5 ans:\n-LE MULOT MENTEUR d’Andrea Kiss | France\, Suisse\, Hongrie\, Israël | 2007 | durée: 20 min\n-LULINA ET LA LUNE de Alois Di Leo et Marcus Vinicius Vasconcelos | Brésil | 2023 | durée: 14 min\nAchat sur place uniquement.\nPrix: 5 francs
URL:https://genevabucketlist.com/agenda/films-danimation-au-spoutnik-des-5-ans/
LOCATION:Spoutnik\, Pl. des Volontaires 4\, Genève\, 1204\, Suisse
ATTACH;FMTTYPE=image/jpeg:https://genevabucketlist.com/wp-content/uploads/2026/04/Image-4-1.jpeg
END:VEVENT
END:VCALENDAR